Back to Multiple platform build/check report for BioC 3.12
ABCDEFGHIJKL[M]NOPQRSTUVWXYZ

INSTALL report for maser on tokay1

This page was generated on 2021-04-12 12:30:44 -0400 (Mon, 12 Apr 2021).

To the developers/maintainers of the maser package:
Please make sure to use the following settings in order to reproduce any error or warning you see on this page.
Package 1003/1974HostnameOS / ArchINSTALLBUILDCHECKBUILD BIN
maser 1.8.0  (landing page)
Diogo F.T. Veiga
Snapshot Date: 2021-04-11 14:51:36 -0400 (Sun, 11 Apr 2021)
URL: https://git.bioconductor.org/packages/maser
Branch: RELEASE_3_12
Last Commit: e86964d
Last Changed Date: 2020-10-27 11:35:52 -0400 (Tue, 27 Oct 2020)
malbec1Linux (Ubuntu 18.04.5 LTS) / x86_64  OK    OK    OK  UNNEEDED, same version exists in internal repository
tokay1Windows Server 2012 R2 Standard / x64  OK    OK    OK    OK  UNNEEDED, same version exists in internal repository
merida1macOS 10.14.6 Mojave / x86_64  OK    OK    OK    OK  UNNEEDED, same version exists in internal repository

Summary

Package: maser
Version: 1.8.0
Command: C:\cygwin\bin\curl.exe -O http://172.29.0.3/BBS/3.12/bioc/src/contrib/maser_1.8.0.tar.gz && rm -rf maser.buildbin-libdir && mkdir maser.buildbin-libdir && C:\Users\biocbuild\bbs-3.12-bioc\R\bin\R.exe CMD INSTALL --merge-multiarch --build --library=maser.buildbin-libdir maser_1.8.0.tar.gz && C:\Users\biocbuild\bbs-3.12-bioc\R\bin\R.exe CMD INSTALL maser_1.8.0.zip && rm maser_1.8.0.tar.gz maser_1.8.0.zip
StartedAt: 2021-04-11 18:33:05 -0400 (Sun, 11 Apr 2021)
EndedAt: 2021-04-11 18:34:43 -0400 (Sun, 11 Apr 2021)
EllapsedTime: 98.2 seconds
RetCode: 0
Status:   OK   

Command output

##############################################################################
##############################################################################
###
### Running command:
###
###   C:\cygwin\bin\curl.exe -O http://172.29.0.3/BBS/3.12/bioc/src/contrib/maser_1.8.0.tar.gz && rm -rf maser.buildbin-libdir && mkdir maser.buildbin-libdir && C:\Users\biocbuild\bbs-3.12-bioc\R\bin\R.exe CMD INSTALL --merge-multiarch --build --library=maser.buildbin-libdir maser_1.8.0.tar.gz && C:\Users\biocbuild\bbs-3.12-bioc\R\bin\R.exe CMD INSTALL maser_1.8.0.zip && rm maser_1.8.0.tar.gz maser_1.8.0.zip
###
##############################################################################
##############################################################################


  % Total    % Received % Xferd  Average Speed   Time    Time     Time  Current
                                 Dload  Upload   Total   Spent    Left  Speed

  0     0    0     0    0     0      0      0 --:--:-- --:--:-- --:--:--     0
100 1487k  100 1487k    0     0  47.6M      0 --:--:-- --:--:-- --:--:-- 50.1M

install for i386

* installing *source* package 'maser' ...
** using staged installation
** R
** inst
** byte-compile and prepare package for lazy loading
** help
*** installing help indices
  converting help for package 'maser'
    finding HTML links ... done
    Maser-class                             html  
    PSI-Maser-character-method              html  
    PSI                                     html  
    annotation-Maser-method                 html  
    availableFeaturesUniprotKB              html  
    boxplot_PSI_levels                      html  
    counts-Maser-method                     html  
    display                                 html  
    dotplot                                 html  
    filterByCoverage                        html  
    filterByEventId                         html  
    geneEvents                              html  
    granges-Maser-method                    html  
    mapProteinFeaturesToEvents              html  
    mapTranscriptsToEvents                  html  
    maser                                   html  
    pca                                     html  
    plotGenePSI                             html  
    plotTranscripts                         html  
    plotUniprotKBFeatures                   html  
    splicingDistribution                    html  
    summary-Maser-method                    html  
    topEvents                               html  
    volcano                                 html  
** building package indices
** installing vignettes
** testing if installed package can be loaded from temporary location
** testing if installed package can be loaded from final location
** testing if installed package keeps a record of temporary installation path

install for x64

* installing *source* package 'maser' ...
** testing if installed package can be loaded
* MD5 sums
packaged installation of 'maser' as maser_1.8.0.zip
* DONE (maser)
* installing to library 'C:/Users/biocbuild/bbs-3.12-bioc/R/library'
package 'maser' successfully unpacked and MD5 sums checked