Back to Multiple platform build/check report for BioC 3.12
ABCDEFGHIJKL[M]NOPQRSTUVWXYZ

BUILD report for maser on tokay1

This page was generated on 2021-04-12 12:30:44 -0400 (Mon, 12 Apr 2021).

To the developers/maintainers of the maser package:
Please make sure to use the following settings in order to reproduce any error or warning you see on this page.
Package 1003/1974HostnameOS / ArchINSTALLBUILDCHECKBUILD BIN
maser 1.8.0  (landing page)
Diogo F.T. Veiga
Snapshot Date: 2021-04-11 14:51:36 -0400 (Sun, 11 Apr 2021)
URL: https://git.bioconductor.org/packages/maser
Branch: RELEASE_3_12
Last Commit: e86964d
Last Changed Date: 2020-10-27 11:35:52 -0400 (Tue, 27 Oct 2020)
malbec1Linux (Ubuntu 18.04.5 LTS) / x86_64  OK    OK    OK  UNNEEDED, same version exists in internal repository
tokay1Windows Server 2012 R2 Standard / x64  OK    OK    OK    OK  UNNEEDED, same version exists in internal repository
merida1macOS 10.14.6 Mojave / x86_64  OK    OK    OK    OK  UNNEEDED, same version exists in internal repository

Summary

Package: maser
Version: 1.8.0
Command: chmod a+r maser -R && C:\Users\biocbuild\bbs-3.12-bioc\R\bin\R.exe CMD build --keep-empty-dirs --no-resave-data maser
StartedAt: 2021-04-11 21:40:39 -0400 (Sun, 11 Apr 2021)
EndedAt: 2021-04-11 21:44:39 -0400 (Sun, 11 Apr 2021)
EllapsedTime: 239.6 seconds
RetCode: 0
Status:   OK   
PackageFile: maser_1.8.0.tar.gz
PackageFileSize: 2.26 MiB

Command output

##############################################################################
##############################################################################
###
### Running command:
###
###   chmod a+r maser -R && C:\Users\biocbuild\bbs-3.12-bioc\R\bin\R.exe CMD build --keep-empty-dirs --no-resave-data maser
###
##############################################################################
##############################################################################


* checking for file 'maser/DESCRIPTION' ... OK
* preparing 'maser':
* checking DESCRIPTION meta-information ... OK
* installing the package to build vignettes
* creating vignettes ... OK
* checking for LF line-endings in source and make files and shell scripts
* checking for empty or unneeded directories
* building 'maser_1.8.0.tar.gz'