Index of /checkResults/release/bioc-LATEST/maser/raw-results/palomino3

[ICO]NameLast modifiedSizeDescription

[DIR]Parent Directory  -  
[TXT]buildbin-out.txt15-Jun-2024 03:38 1.0K 
[   ]buildbin-summary.dcf15-Jun-2024 03:38 504  
[TXT]buildsrc-out.txt15-Jun-2024 03:38 866  
[   ]buildsrc-summary.dcf15-Jun-2024 03:38 445  
[TXT]checksrc-out.txt15-Jun-2024 03:38 4.4K 
[   ]checksrc-summary.dcf15-Jun-2024 03:38 439  
[TXT]install-out.txt15-Jun-2024 03:38 956  
[   ]install-summary.dcf15-Jun-2024 03:38 264