Index of /checkResults/release/bioc-LATEST/maser/raw-results/lconway

[ICO]NameLast modifiedSizeDescription

[DIR]Parent Directory  -  
[   ]install-summary.dcf12-Jun-2024 03:42 265  
[TXT]install-out.txt12-Jun-2024 03:42 1.0K 
[   ]checksrc-summary.dcf12-Jun-2024 03:42 436  
[TXT]checksrc-out.txt12-Jun-2024 03:42 4.4K 
[   ]buildsrc-summary.dcf12-Jun-2024 03:42 422  
[TXT]buildsrc-out.txt12-Jun-2024 03:42 848  
[   ]buildbin-summary.dcf12-Jun-2024 03:42 517  
[TXT]buildbin-out.txt12-Jun-2024 03:42 1.1K