Name | Last modified | Size | Description | |
---|---|---|---|---|
Parent Directory | - | |||
checksrc-out.txt | 29-Jun-2024 06:41 | 4.9K | ||
buildbin-out.txt | 29-Jun-2024 06:41 | 1.1K | ||
install-out.txt | 29-Jun-2024 06:41 | 1.0K | ||
buildsrc-out.txt | 29-Jun-2024 06:41 | 838 | ||
buildbin-summary.dcf | 29-Jun-2024 06:41 | 512 | ||
buildsrc-summary.dcf | 29-Jun-2024 06:41 | 451 | ||
checksrc-summary.dcf | 29-Jun-2024 06:41 | 446 | ||
install-summary.dcf | 29-Jun-2024 06:41 | 267 | ||