Name | Last modified | Size | Description | |
---|---|---|---|---|
Parent Directory | - | |||
install-summary.dcf | 12-Jun-2024 03:42 | 268 | ||
install-out.txt | 12-Jun-2024 03:42 | 1.0K | ||
checksrc-summary.dcf | 12-Jun-2024 03:42 | 442 | ||
checksrc-out.txt | 12-Jun-2024 03:42 | 4.7K | ||
buildsrc-summary.dcf | 12-Jun-2024 03:42 | 426 | ||
buildsrc-out.txt | 12-Jun-2024 03:42 | 815 | ||
buildbin-summary.dcf | 12-Jun-2024 03:42 | 527 | ||
buildbin-out.txt | 12-Jun-2024 03:42 | 1.2K | ||