Name | Last modified | Size | Description | |
---|---|---|---|---|
Parent Directory | - | |||
buildbin-summary.dcf | 17-Jul-2024 06:42 | 526 | ||
buildbin-out.txt | 17-Jul-2024 06:42 | 1.2K | ||
checksrc-summary.dcf | 17-Jul-2024 06:42 | 442 | ||
checksrc-out.txt | 17-Jul-2024 06:42 | 4.6K | ||
buildsrc-summary.dcf | 17-Jul-2024 06:42 | 426 | ||
buildsrc-out.txt | 17-Jul-2024 06:42 | 815 | ||
install-summary.dcf | 17-Jul-2024 06:42 | 268 | ||
install-out.txt | 17-Jul-2024 06:42 | 1.0K | ||