Back to Multiple platform build/check report for BioC 3.18:   simplified   long
ABCDEFGHIJKL[M]NOPQRSTUVWXYZ

This page was generated on 2024-02-22 11:36:55 -0500 (Thu, 22 Feb 2024).

HostnameOSArch (*)R versionInstalled pkgs
nebbiolo2Linux (Ubuntu 22.04.3 LTS)x86_644.3.2 Patched (2023-11-13 r85521) -- "Eye Holes" 4691
palomino4Windows Server 2022 Datacenterx644.3.2 (2023-10-31 ucrt) -- "Eye Holes" 4444
lconwaymacOS 12.7.1 Montereyx86_644.3.2 Patched (2023-11-01 r85457) -- "Eye Holes" 4465
Click on any hostname to see more info about the system (e.g. compilers)      (*) as reported by 'uname -p', except on Windows and Mac OS X

Package 1140/2266HostnameOS / ArchINSTALLBUILDCHECKBUILD BIN
makecdfenv 1.78.0  (landing page)
James W. MacDonald
Snapshot Date: 2024-02-21 14:05:05 -0500 (Wed, 21 Feb 2024)
git_url: https://git.bioconductor.org/packages/makecdfenv
git_branch: RELEASE_3_18
git_last_commit: da98c62
git_last_commit_date: 2023-10-24 09:31:59 -0500 (Tue, 24 Oct 2023)
nebbiolo2Linux (Ubuntu 22.04.3 LTS) / x86_64  OK    OK    WARNINGS  UNNEEDED, same version is already published
palomino4Windows Server 2022 Datacenter / x64  OK    OK    OK    OK  UNNEEDED, same version is already published
lconwaymacOS 12.7.1 Monterey / x86_64  OK    OK    OK    OK  UNNEEDED, same version is already published
kjohnson1macOS 13.6.1 Ventura / arm64see weekly results here

CHECK results for makecdfenv on palomino4


To the developers/maintainers of the makecdfenv package:
- Allow up to 24 hours (and sometimes 48 hours) for your latest push to git@git.bioconductor.org:packages/makecdfenv.git to reflect on this report. See Troubleshooting Build Report for more information.
- Use the following Renviron settings to reproduce errors and warnings.
- If 'R CMD check' started to fail recently on the Linux builder(s) over a missing dependency, add the missing dependency to 'Suggests:' in your DESCRIPTION file. See Renviron.bioc for more information.

raw results


Summary

Package: makecdfenv
Version: 1.78.0
Command: F:\biocbuild\bbs-3.18-bioc\R\bin\R.exe CMD check --no-multiarch --install=check:makecdfenv.install-out.txt --library=F:\biocbuild\bbs-3.18-bioc\R\library --no-vignettes --timings makecdfenv_1.78.0.tar.gz
StartedAt: 2024-02-22 03:19:36 -0500 (Thu, 22 Feb 2024)
EndedAt: 2024-02-22 03:20:21 -0500 (Thu, 22 Feb 2024)
EllapsedTime: 44.9 seconds
RetCode: 0
Status:   OK  
CheckDir: makecdfenv.Rcheck
Warnings: 0

Command output

##############################################################################
##############################################################################
###
### Running command:
###
###   F:\biocbuild\bbs-3.18-bioc\R\bin\R.exe CMD check --no-multiarch --install=check:makecdfenv.install-out.txt --library=F:\biocbuild\bbs-3.18-bioc\R\library --no-vignettes --timings makecdfenv_1.78.0.tar.gz
###
##############################################################################
##############################################################################


* using log directory 'F:/biocbuild/bbs-3.18-bioc/meat/makecdfenv.Rcheck'
* using R version 4.3.2 (2023-10-31 ucrt)
* using platform: x86_64-w64-mingw32 (64-bit)
* R was compiled by
    gcc.exe (GCC) 12.3.0
    GNU Fortran (GCC) 12.3.0
* running under: Windows Server 2022 x64 (build 20348)
* using session charset: UTF-8
* using option '--no-vignettes'
* checking for file 'makecdfenv/DESCRIPTION' ... OK
* this is package 'makecdfenv' version '1.78.0'
* checking package namespace information ... OK
* checking package dependencies ... OK
* checking if this is a source package ... OK
* checking if there is a namespace ... OK
* checking for hidden files and directories ... OK
* checking for portable file names ... OK
* checking whether package 'makecdfenv' can be installed ... OK
* used C compiler: 'gcc.exe (GCC) 12.3.0'
* checking installed package size ... OK
* checking package directory ... OK
* checking 'build' directory ... OK
* checking DESCRIPTION meta-information ... OK
* checking top-level files ... OK
* checking for left-over files ... OK
* checking index information ... OK
* checking package subdirectories ... OK
* checking R files for non-ASCII characters ... OK
* checking R files for syntax errors ... OK
* checking whether the package can be loaded ... OK
* checking whether the package can be loaded with stated dependencies ... OK
* checking whether the package can be unloaded cleanly ... OK
* checking whether the namespace can be loaded with stated dependencies ... OK
* checking whether the namespace can be unloaded cleanly ... OK
* checking dependencies in R code ... OK
* checking S3 generic/method consistency ... OK
* checking replacement functions ... OK
* checking foreign function calls ... NOTE
Foreign function calls to a different package:
  .Call("CheckCDFXDA", ..., PACKAGE = "affyio")
  .Call("ReadCDFFile", ..., PACKAGE = "affyio")
See chapter 'System and foreign language interfaces' in the 'Writing R
Extensions' manual.
* checking R code for possible problems ... OK
* checking Rd files ... NOTE
checkRd: (-1) make.cdf.package.Rd:32: Escaped LaTeX specials: \_
* checking Rd metadata ... OK
* checking Rd cross-references ... OK
* checking for missing documentation entries ... OK
* checking for code/documentation mismatches ... OK
* checking Rd \usage sections ... OK
* checking Rd contents ... OK
* checking for unstated dependencies in examples ... OK
* checking line endings in shell scripts ... OK
* checking line endings in C/C++/Fortran sources/headers ... OK
* checking line endings in Makefiles ... OK
* checking compilation flags in Makevars ... OK
* checking for GNU extensions in Makefiles ... OK
* checking for portable use of $(BLAS_LIBS) and $(LAPACK_LIBS) ... OK
* checking use of PKG_*FLAGS in Makefiles ... OK
* checking compiled code ... NOTE
Note: information on .o files for x64 is not available
File 'F:/biocbuild/bbs-3.18-bioc/R/library/makecdfenv/libs/x64/makecdfenv.dll':
  Found 'abort', possibly from 'abort' (C), 'runtime' (Fortran)

Compiled code should not call entry points which might terminate R nor
write to stdout/stderr instead of to the console, nor use Fortran I/O
nor system RNGs nor [v]sprintf. The detected symbols are linked into
the code but might come from libraries and not actually be called.

See 'Writing portable packages' in the 'Writing R Extensions' manual.
* checking sizes of PDF files under 'inst/doc' ... OK
* checking files in 'vignettes' ... OK
* checking examples ... OK
* checking for unstated dependencies in vignettes ... OK
* checking package vignettes in 'inst/doc' ... OK
* checking running R code from vignettes ... SKIPPED
* checking re-building of vignette outputs ... SKIPPED
* checking PDF version of manual ... OK
* DONE

Status: 3 NOTEs
See
  'F:/biocbuild/bbs-3.18-bioc/meat/makecdfenv.Rcheck/00check.log'
for details.



Installation output

makecdfenv.Rcheck/00install.out

##############################################################################
##############################################################################
###
### Running command:
###
###   F:\biocbuild\bbs-3.18-bioc\R\bin\R.exe CMD INSTALL makecdfenv
###
##############################################################################
##############################################################################


* installing to library 'F:/biocbuild/bbs-3.18-bioc/R/library'
* installing *source* package 'makecdfenv' ...
** using staged installation

   **********************************************
   WARNING: this package has a configure script
         It probably needs manual configuration
   **********************************************


** libs
using C compiler: 'gcc.exe (GCC) 12.3.0'
gcc  -I"F:/biocbuild/bbs-3.18-bioc/R/library/zlibbioc/include" -I"F:/biocbuild/bbs-3.18-bioc/R/include" -DNDEBUG -DHAVE_ZLIB    -I"C:/rtools43/x86_64-w64-mingw32.static.posix/include"     -O2 -Wall  -mfpmath=sse -msse2 -mstackrealign  -c read_cdffile.c -o read_cdffile.o
read_cdffile.c: In function 'readQC':
read_cdffile.c:576:7: warning: variable 'typeQC' set but not used [-Wunused-but-set-variable]
  576 |   int typeQC;
      |       ^~~~~~
gcc -shared -s -static-libgcc -o makecdfenv.dll tmp.def read_cdffile.o -LF:/biocbuild/bbs-3.18-bioc/R/library/zlibbioc/libs/x64 -lzlib1bioc -LC:/rtools43/x86_64-w64-mingw32.static.posix/lib/x64 -LC:/rtools43/x86_64-w64-mingw32.static.posix/lib -LF:/biocbuild/bbs-3.18-bioc/R/bin/x64 -lR
installing to F:/biocbuild/bbs-3.18-bioc/R/library/00LOCK-makecdfenv/00new/makecdfenv/libs/x64
** R
** inst
** byte-compile and prepare package for lazy loading
** help
*** installing help indices
** building package indices
** installing vignettes
** testing if installed package can be loaded from temporary location
** testing if installed package can be loaded from final location
** testing if installed package keeps a record of temporary installation path
* DONE (makecdfenv)

Tests output


Example timings

makecdfenv.Rcheck/makecdfenv-Ex.timings

nameusersystemelapsed
make.cdf.env3.530.173.83
make.cdf.package3.360.253.61
read.cdffile2.950.093.05