Index of /checkResults/release/bioc-LATEST/maigesPack/raw-results

[ICO]NameLast modifiedSizeDescription

[DIR]Parent Directory  -  
[   ]info.dcf31-May-2024 00:34 281  
[DIR]kunpeng2/10-May-2024 00:41 -  
[DIR]lconway/31-May-2024 00:35 -  
[DIR]merida1/05-Mar-2024 01:39 -  
[DIR]nebbiolo1/31-May-2024 00:35 -  
[DIR]palomino3/23-May-2024 00:35 -