Back to Multiple platform build/check report for BioC 3.19:   simplified   long
ABCDEFGHIJK[L]MNOPQRSTUVWXYZ

This page was generated on 2024-07-12 17:42 -0400 (Fri, 12 Jul 2024).

HostnameOSArch (*)R versionInstalled pkgs
nebbiolo1Linux (Ubuntu 22.04.3 LTS)x86_644.4.1 (2024-06-14) -- "Race for Your Life" 4741
palomino7Windows Server 2022 Datacenterx644.4.1 (2024-06-14 ucrt) -- "Race for Your Life" 4483
merida1macOS 12.7.4 Montereyx86_644.4.1 (2024-06-14) -- "Race for Your Life" 4512
kjohnson1macOS 13.6.6 Venturaarm644.4.1 (2024-06-14) -- "Race for Your Life" 4461
Click on any hostname to see more info about the system (e.g. compilers)      (*) as reported by 'uname -p', except on Windows and Mac OS X

Package 1133/2300HostnameOS / ArchINSTALLBUILDCHECKBUILD BIN
lute 1.0.0  (landing page)
Sean K Maden
Snapshot Date: 2024-07-10 14:00 -0400 (Wed, 10 Jul 2024)
git_url: https://git.bioconductor.org/packages/lute
git_branch: RELEASE_3_19
git_last_commit: 7a503f8
git_last_commit_date: 2024-04-30 11:52:55 -0400 (Tue, 30 Apr 2024)
nebbiolo1Linux (Ubuntu 22.04.3 LTS) / x86_64  OK    OK    OK  UNNEEDED, same version is already published
palomino7Windows Server 2022 Datacenter / x64  OK    OK    OK    OK  
merida1macOS 12.7.4 Monterey / x86_64  OK    OK    OK    OK  UNNEEDED, same version is already published
kjohnson1macOS 13.6.6 Ventura / arm64  OK    OK    OK    OK  UNNEEDED, same version is already published


BUILD BIN results for lute on kjohnson1

To the developers/maintainers of the lute package:
- Allow up to 24 hours (and sometimes 48 hours) for your latest push to git@git.bioconductor.org:packages/lute.git to reflect on this report. See Troubleshooting Build Report for more information.
- Use the following Renviron settings to reproduce errors and warnings.
- If 'R CMD check' started to fail recently on the Linux builder(s) over a missing dependency, add the missing dependency to 'Suggests:' in your DESCRIPTION file. See Renviron.bioc for more information.

raw results


Summary

Package: lute
Version: 1.0.0
Command: rm -rf lute.buildbin-libdir && mkdir lute.buildbin-libdir && /Users/biocbuild/BBS/utils/build-universal.sh lute_1.0.0.tar.gz /Library/Frameworks/R.framework/Resources/bin/R lute.buildbin-libdir
StartedAt: 2024-07-12 15:08:20 -0400 (Fri, 12 Jul 2024)
EndedAt: 2024-07-12 15:09:01 -0400 (Fri, 12 Jul 2024)
EllapsedTime: 40.8 seconds
RetCode: 0
Status:   OK  
PackageFile: lute_1.0.0.tgz
PackageFileSize: 2.084 MiB

Command output

##############################################################################
##############################################################################
###
### Running command:
###
###   rm -rf lute.buildbin-libdir && mkdir lute.buildbin-libdir && /Users/biocbuild/BBS/utils/build-universal.sh lute_1.0.0.tar.gz /Library/Frameworks/R.framework/Resources/bin/R lute.buildbin-libdir
###
##############################################################################
##############################################################################


>>>>>>> 
>>>>>>> INSTALLATION WITH 'R CMD INSTALL --preclean --no-multiarch --library=lute.buildbin-libdir lute_1.0.0.tar.gz'
>>>>>>> 

* installing *source* package ‘lute’ ...
** using staged installation
** R
** inst
** byte-compile and prepare package for lazy loading
** help
*** installing help indices
** building package indices
** installing vignettes
** testing if installed package can be loaded from temporary location
** testing if installed package can be loaded from final location
** testing if installed package keeps a record of temporary installation path
* DONE (lute)