Back to Multiple platform build/check report for BioC 3.12
ABCDEFGHIJK[L]MNOPQRSTUVWXYZ

INSTALL report for lpsymphony on tokay1

This page was generated on 2021-01-19 11:55:38 -0500 (Tue, 19 Jan 2021).

TO THE DEVELOPERS/MAINTAINERS OF THE lpsymphony PACKAGE: Please make sure to use the following settings in order to reproduce any error or warning you see on this page.
Package 976/1974HostnameOS / ArchINSTALLBUILDCHECKBUILD BIN
lpsymphony 1.18.0
Vladislav Kim
Snapshot Date: 2021-01-18 14:42:24 -0500 (Mon, 18 Jan 2021)
URL: https://git.bioconductor.org/packages/lpsymphony
Branch: RELEASE_3_12
Last Commit: e36fafe
Last Changed Date: 2020-10-27 11:10:03 -0500 (Tue, 27 Oct 2020)
malbec1 Linux (Ubuntu 18.04.5 LTS) / x86_64  OK  OK  OK UNNEEDED, same version exists in internal repository
nebbiolo1 Linux (Ubuntu 20.04.1 LTS) / x86_64  OK  OK  OK 
tokay1 Windows Server 2012 R2 Standard / x64 [ OK ] OK  OK  OK UNNEEDED, same version exists in internal repository
merida1 macOS 10.14.6 Mojave / x86_64  OK  OK  OK  OK UNNEEDED, same version exists in internal repository

Summary

Package: lpsymphony
Version: 1.18.0
Command: C:\cygwin\bin\curl.exe -O https://malbec1.bioconductor.org/BBS/3.12/bioc/src/contrib/lpsymphony_1.18.0.tar.gz && rm -rf lpsymphony.buildbin-libdir && mkdir lpsymphony.buildbin-libdir && C:\Users\biocbuild\bbs-3.12-bioc\R\bin\R.exe CMD INSTALL --merge-multiarch --build --library=lpsymphony.buildbin-libdir lpsymphony_1.18.0.tar.gz && C:\Users\biocbuild\bbs-3.12-bioc\R\bin\R.exe CMD INSTALL lpsymphony_1.18.0.zip && rm lpsymphony_1.18.0.tar.gz lpsymphony_1.18.0.zip
StartedAt: 2021-01-18 16:37:22 -0500 (Mon, 18 Jan 2021)
EndedAt: 2021-01-18 16:40:18 -0500 (Mon, 18 Jan 2021)
EllapsedTime: 176.3 seconds
RetCode: 0
Status:  OK  

Command output

##############################################################################
##############################################################################
###
### Running command:
###
###   C:\cygwin\bin\curl.exe -O https://malbec1.bioconductor.org/BBS/3.12/bioc/src/contrib/lpsymphony_1.18.0.tar.gz && rm -rf lpsymphony.buildbin-libdir && mkdir lpsymphony.buildbin-libdir && C:\Users\biocbuild\bbs-3.12-bioc\R\bin\R.exe CMD INSTALL --merge-multiarch --build --library=lpsymphony.buildbin-libdir lpsymphony_1.18.0.tar.gz && C:\Users\biocbuild\bbs-3.12-bioc\R\bin\R.exe CMD INSTALL lpsymphony_1.18.0.zip && rm lpsymphony_1.18.0.tar.gz lpsymphony_1.18.0.zip
###
##############################################################################
##############################################################################


  % Total    % Received % Xferd  Average Speed   Time    Time     Time  Current
                                 Dload  Upload   Total   Spent    Left  Speed

  0     0    0     0    0     0      0      0 --:--:-- --:--:-- --:--:--     0
  0     0    0     0    0     0      0      0 --:--:-- --:--:-- --:--:--     0
100 11.7M  100 11.7M    0     0   9.9M      0  0:00:01  0:00:01 --:--:-- 10.4M

install for i386

* installing *source* package 'lpsymphony' ...
** using staged installation
** libs
cp WinLib/i386/*.dll .
installing to C:/Users/biocbuild/bbs-3.12-bioc/meat/lpsymphony.buildbin-libdir/00LOCK-lpsymphony/00new/lpsymphony/libs/i386
** R
** byte-compile and prepare package for lazy loading
** help
*** installing help indices
  converting help for package 'lpsymphony'
    finding HTML links ... done
    lpsymphony_solve                        html  
** building package indices
** installing vignettes
** testing if installed package can be loaded from temporary location
** testing if installed package can be loaded from final location
** testing if installed package keeps a record of temporary installation path

install for x64

* installing *source* package 'lpsymphony' ...
** libs
cp WinLib/x64/*.dll .
installing to C:/Users/biocbuild/bbs-3.12-bioc/meat/lpsymphony.buildbin-libdir/lpsymphony/libs/x64
** testing if installed package can be loaded
* MD5 sums
packaged installation of 'lpsymphony' as lpsymphony_1.18.0.zip
* DONE (lpsymphony)
* installing to library 'C:/Users/biocbuild/bbs-3.12-bioc/R/library'
package 'lpsymphony' successfully unpacked and MD5 sums checked