Name | Last modified | Size | Description | |
---|---|---|---|---|
Parent Directory | - | |||
buildsrc-out.txt | 30-Mar-2024 00:36 | 1.0K | ||
buildsrc-summary.dcf | 30-Mar-2024 00:36 | 417 | ||
checksrc-out.txt | 30-Mar-2024 00:36 | 3.3K | ||
checksrc-summary.dcf | 30-Mar-2024 00:36 | 413 | ||
install-out.txt | 30-Mar-2024 00:36 | 960 | ||
install-summary.dcf | 30-Mar-2024 00:36 | 258 | ||