Index of /checkResults/release/bioc-LATEST/lmdme/raw-results/nebbiolo2

[ICO]NameLast modifiedSizeDescription

[DIR]Parent Directory  -  
[TXT]buildsrc-out.txt02-Mar-2024 01:36 798  
[   ]buildsrc-summary.dcf02-Mar-2024 01:36 408  
[TXT]checksrc-out.txt02-Mar-2024 01:36 7.5K 
[   ]checksrc-summary.dcf02-Mar-2024 01:36 411  
[TXT]install-out.txt02-Mar-2024 01:36 1.0K 
[   ]install-summary.dcf02-Mar-2024 01:36 255