Index of /checkResults/release/bioc-LATEST/lmdme/raw-results/lconway

[ICO]NameLast modifiedSizeDescription

[DIR]Parent Directory  -  
[TXT]buildbin-out.txt02-Mar-2024 01:37 1.2K 
[   ]buildbin-summary.dcf02-Mar-2024 01:37 517  
[TXT]buildsrc-out.txt02-Mar-2024 01:37 808  
[   ]buildsrc-summary.dcf02-Mar-2024 01:37 421  
[TXT]checksrc-out.txt02-Mar-2024 01:37 7.5K 
[   ]checksrc-summary.dcf02-Mar-2024 01:37 441  
[TXT]install-out.txt02-Mar-2024 01:37 1.0K 
[   ]install-summary.dcf02-Mar-2024 01:37 265