Back to Multiple platform build/check report for BioC 3.18:   simplified   long
ABCDEFGHIJK[L]MNOPQRSTUVWXYZ

This page was generated on 2024-02-21 11:36:59 -0500 (Wed, 21 Feb 2024).

HostnameOSArch (*)R versionInstalled pkgs
nebbiolo2Linux (Ubuntu 22.04.3 LTS)x86_644.3.2 Patched (2023-11-13 r85521) -- "Eye Holes" 4691
palomino4Windows Server 2022 Datacenterx644.3.2 (2023-10-31 ucrt) -- "Eye Holes" 4444
lconwaymacOS 12.7.1 Montereyx86_644.3.2 Patched (2023-11-01 r85457) -- "Eye Holes" 4465
Click on any hostname to see more info about the system (e.g. compilers)      (*) as reported by 'uname -p', except on Windows and Mac OS X

Package 1104/2266HostnameOS / ArchINSTALLBUILDCHECKBUILD BIN
lisaClust 1.10.1  (landing page)
Ellis Patrick
Snapshot Date: 2024-02-20 14:05:06 -0500 (Tue, 20 Feb 2024)
git_url: https://git.bioconductor.org/packages/lisaClust
git_branch: RELEASE_3_18
git_last_commit: 9353dfa
git_last_commit_date: 2023-10-25 21:01:05 -0500 (Wed, 25 Oct 2023)
nebbiolo2Linux (Ubuntu 22.04.3 LTS) / x86_64  OK    OK    OK  UNNEEDED, same version is already published
palomino4Windows Server 2022 Datacenter / x64  OK    OK    OK    OK  UNNEEDED, same version is already published
lconwaymacOS 12.7.1 Monterey / x86_64  OK    OK    OK    OK  UNNEEDED, same version is already published
kjohnson1macOS 13.6.1 Ventura / arm64see weekly results here

CHECK results for lisaClust on palomino4


To the developers/maintainers of the lisaClust package:
- Allow up to 24 hours (and sometimes 48 hours) for your latest push to git@git.bioconductor.org:packages/lisaClust.git to reflect on this report. See Troubleshooting Build Report for more information.
- Use the following Renviron settings to reproduce errors and warnings.
- If 'R CMD check' started to fail recently on the Linux builder(s) over a missing dependency, add the missing dependency to 'Suggests:' in your DESCRIPTION file. See Renviron.bioc for more information.

raw results


Summary

Package: lisaClust
Version: 1.10.1
Command: F:\biocbuild\bbs-3.18-bioc\R\bin\R.exe CMD check --no-multiarch --install=check:lisaClust.install-out.txt --library=F:\biocbuild\bbs-3.18-bioc\R\library --no-vignettes --timings lisaClust_1.10.1.tar.gz
StartedAt: 2024-02-21 03:22:24 -0500 (Wed, 21 Feb 2024)
EndedAt: 2024-02-21 03:26:27 -0500 (Wed, 21 Feb 2024)
EllapsedTime: 243.2 seconds
RetCode: 0
Status:   OK  
CheckDir: lisaClust.Rcheck
Warnings: 0

Command output

##############################################################################
##############################################################################
###
### Running command:
###
###   F:\biocbuild\bbs-3.18-bioc\R\bin\R.exe CMD check --no-multiarch --install=check:lisaClust.install-out.txt --library=F:\biocbuild\bbs-3.18-bioc\R\library --no-vignettes --timings lisaClust_1.10.1.tar.gz
###
##############################################################################
##############################################################################


* using log directory 'F:/biocbuild/bbs-3.18-bioc/meat/lisaClust.Rcheck'
* using R version 4.3.2 (2023-10-31 ucrt)
* using platform: x86_64-w64-mingw32 (64-bit)
* R was compiled by
    gcc.exe (GCC) 12.3.0
    GNU Fortran (GCC) 12.3.0
* running under: Windows Server 2022 x64 (build 20348)
* using session charset: UTF-8
* using option '--no-vignettes'
* checking for file 'lisaClust/DESCRIPTION' ... OK
* checking extension type ... Package
* this is package 'lisaClust' version '1.10.1'
* package encoding: UTF-8
* checking package namespace information ... OK
* checking package dependencies ... OK
* checking if this is a source package ... OK
* checking if there is a namespace ... OK
* checking for hidden files and directories ... OK
* checking for portable file names ... OK
* checking whether package 'lisaClust' can be installed ... OK
* checking installed package size ... OK
* checking package directory ... OK
* checking 'build' directory ... OK
* checking DESCRIPTION meta-information ... OK
* checking top-level files ... OK
* checking for left-over files ... OK
* checking index information ... OK
* checking package subdirectories ... OK
* checking R files for non-ASCII characters ... OK
* checking R files for syntax errors ... OK
* checking whether the package can be loaded ... OK
* checking whether the package can be loaded with stated dependencies ... OK
* checking whether the package can be unloaded cleanly ... OK
* checking whether the namespace can be loaded with stated dependencies ... OK
* checking whether the namespace can be unloaded cleanly ... OK
* checking dependencies in R code ... OK
* checking S3 generic/method consistency ... OK
* checking replacement functions ... OK
* checking foreign function calls ... OK
* checking R code for possible problems ... NOTE
getK: no visible binding for global variable 'j'
getK: no visible binding for global variable 'cellTypeI'
getK: no visible binding for global variable 'i'
getK: no visible binding for global variable 'd'
getK: no visible binding for global variable 'cellTypeJ'
getK: no visible binding for global variable 'value'
getK: no visible global function definition for '.'
getK: no visible binding for global variable 'wt'
getL: no visible binding for global variable 'j'
getL: no visible binding for global variable 'cellTypeI'
getL: no visible binding for global variable 'i'
getL: no visible binding for global variable 'd'
getL: no visible binding for global variable 'cellTypeJ'
getL: no visible binding for global variable 'value'
getL: no visible global function definition for '.'
getL: no visible binding for global variable 'wt'
inhomLocalK: no visible binding for global variable 'i'
regionMap: no visible binding for global variable 'Var1'
regionMap: no visible binding for global variable 'Var2'
regionMap: no visible binding for global variable 'Freq'
regionMap: no visible binding for global variable 'Freq2'
Undefined global functions or variables:
  . Freq Freq2 Var1 Var2 cellTypeI cellTypeJ d i j value wt
* checking Rd files ... OK
* checking Rd metadata ... OK
* checking Rd cross-references ... OK
* checking for missing documentation entries ... OK
* checking for code/documentation mismatches ... OK
* checking Rd \usage sections ... OK
* checking Rd contents ... OK
* checking for unstated dependencies in examples ... OK
* checking files in 'vignettes' ... OK
* checking examples ... OK
Examples with CPU (user + system) or elapsed time > 5s
             user system elapsed
lisa         9.31   0.22    9.36
hatchingPlot 8.21   0.22    8.57
lisaClust    7.66   0.12    7.67
scale_region 5.38   0.08    5.36
* checking for unstated dependencies in vignettes ... OK
* checking package vignettes in 'inst/doc' ... OK
* checking running R code from vignettes ... SKIPPED
* checking re-building of vignette outputs ... SKIPPED
* checking PDF version of manual ... OK
* DONE

Status: 1 NOTE
See
  'F:/biocbuild/bbs-3.18-bioc/meat/lisaClust.Rcheck/00check.log'
for details.



Installation output

lisaClust.Rcheck/00install.out

##############################################################################
##############################################################################
###
### Running command:
###
###   F:\biocbuild\bbs-3.18-bioc\R\bin\R.exe CMD INSTALL lisaClust
###
##############################################################################
##############################################################################


* installing to library 'F:/biocbuild/bbs-3.18-bioc/R/library'
* installing *source* package 'lisaClust' ...
** using staged installation
** R
** inst
** byte-compile and prepare package for lazy loading
** help
*** installing help indices
** building package indices
** installing vignettes
** testing if installed package can be loaded from temporary location
** testing if installed package can be loaded from final location
** testing if installed package keeps a record of temporary installation path
* DONE (lisaClust)

Tests output


Example timings

lisaClust.Rcheck/lisaClust-Ex.timings

nameusersystemelapsed
hatchingPlot8.210.228.57
inhomLocalK0.400.010.42
lisa9.310.229.36
lisaClust7.660.127.67
regionMap4.280.074.34
scale_region5.380.085.36