Index of /checkResults/release/bioc-LATEST/limma/raw-results

[ICO]NameLast modifiedSizeDescription

[DIR]Parent Directory  -  
[   ]info.dcf27-Sep-2023 00:37 264  
[DIR]merida1/27-Sep-2023 00:37 -  
[DIR]nebbiolo1/27-Sep-2023 00:35 -  
[DIR]palomino3/27-Sep-2023 00:36 -