Back to Multiple platform build/check report for BioC 3.12
ABCDEFGHIJK[L]MNOPQRSTUVWXYZ

BUILD report for lfa on tokay1

This page was generated on 2021-02-22 12:38:57 -0500 (Mon, 22 Feb 2021).

To the developers/maintainers of the lfa package:
Please make sure to use the following settings in order to reproduce any error or warning you see on this page.
Package 954/1974HostnameOS / ArchINSTALLBUILDCHECKBUILD BIN
lfa 1.20.0
Wei Hao , John D. Storey
Snapshot Date: 2021-02-21 14:52:07 -0500 (Sun, 21 Feb 2021)
URL: https://git.bioconductor.org/packages/lfa
Branch: RELEASE_3_12
Last Commit: cea356f
Last Changed Date: 2020-10-27 11:08:34 -0500 (Tue, 27 Oct 2020)
malbec1Linux (Ubuntu 18.04.5 LTS) / x86_64  OK    OK    WARNINGS  UNNEEDED, same version exists in internal repository
nebbiolo1Linux (Ubuntu 20.04.2 LTS) / x86_64  OK    OK    WARNINGS  
tokay1Windows Server 2012 R2 Standard / x64  OK    OK    WARNINGS    OK  UNNEEDED, same version exists in internal repository
merida1macOS 10.14.6 Mojave / x86_64  OK    OK    WARNINGS    OK  UNNEEDED, same version exists in internal repository

Summary

Package: lfa
Version: 1.20.0
Command: chmod a+r lfa -R && C:\Users\biocbuild\bbs-3.12-bioc\R\bin\R.exe CMD build --keep-empty-dirs --no-resave-data lfa
StartedAt: 2021-02-21 21:43:29 -0500 (Sun, 21 Feb 2021)
EndedAt: 2021-02-21 21:43:41 -0500 (Sun, 21 Feb 2021)
EllapsedTime: 12.7 seconds
RetCode: 0
Status:   OK   
PackageFile: lfa_1.20.0.tar.gz
PackageFileSize: 283.9 KiB

Command output

##############################################################################
##############################################################################
###
### Running command:
###
###   chmod a+r lfa -R && C:\Users\biocbuild\bbs-3.12-bioc\R\bin\R.exe CMD build --keep-empty-dirs --no-resave-data lfa
###
##############################################################################
##############################################################################


* checking for file 'lfa/DESCRIPTION' ... OK
* preparing 'lfa':
* checking DESCRIPTION meta-information ... OK
* cleaning src
* installing the package to build vignettes
* creating vignettes ... OK
* cleaning src
* checking for LF line-endings in source and make files and shell scripts
* checking for empty or unneeded directories
* building 'lfa_1.20.0.tar.gz'