Back to Multiple platform build/check report for BioC 3.12
ABCDEFGHIJK[L]MNOPQRSTUVWXYZ

BUILD BIN report for lfa on tokay1

This page was generated on 2021-02-22 12:38:57 -0500 (Mon, 22 Feb 2021).

To the developers/maintainers of the lfa package:
Please make sure to use the following settings in order to reproduce any error or warning you see on this page.
Package 954/1974HostnameOS / ArchINSTALLBUILDCHECKBUILD BIN
lfa 1.20.0
Wei Hao , John D. Storey
Snapshot Date: 2021-02-21 14:52:07 -0500 (Sun, 21 Feb 2021)
URL: https://git.bioconductor.org/packages/lfa
Branch: RELEASE_3_12
Last Commit: cea356f
Last Changed Date: 2020-10-27 11:08:34 -0500 (Tue, 27 Oct 2020)
malbec1Linux (Ubuntu 18.04.5 LTS) / x86_64  OK    OK    WARNINGS  UNNEEDED, same version exists in internal repository
nebbiolo1Linux (Ubuntu 20.04.2 LTS) / x86_64  OK    OK    WARNINGS  
tokay1Windows Server 2012 R2 Standard / x64  OK    OK    WARNINGS    OK  UNNEEDED, same version exists in internal repository
merida1macOS 10.14.6 Mojave / x86_64  OK    OK    WARNINGS    OK  UNNEEDED, same version exists in internal repository

Summary

Package: lfa
Version: 1.20.0
Command: rm -rf lfa.buildbin-libdir && mkdir lfa.buildbin-libdir && C:\Users\biocbuild\bbs-3.12-bioc\R\bin\R.exe CMD INSTALL --merge-multiarch --build --library=lfa.buildbin-libdir lfa_1.20.0.tar.gz
StartedAt: 2021-02-22 09:35:32 -0500 (Mon, 22 Feb 2021)
EndedAt: 2021-02-22 09:36:15 -0500 (Mon, 22 Feb 2021)
EllapsedTime: 42.6 seconds
RetCode: 0
Status:   OK   
PackageFile: lfa_1.20.0.zip
PackageFileSize: 465.1 KiB

Command output

##############################################################################
##############################################################################
###
### Running command:
###
###   rm -rf lfa.buildbin-libdir && mkdir lfa.buildbin-libdir && C:\Users\biocbuild\bbs-3.12-bioc\R\bin\R.exe CMD INSTALL --merge-multiarch --build --library=lfa.buildbin-libdir lfa_1.20.0.tar.gz
###
##############################################################################
##############################################################################



install for i386

* installing *source* package 'lfa' ...
** using staged installation
** libs
"C:/rtools40/mingw32/bin/"gcc  -I"C:/Users/BIOCBU~1/BBS-3~1.12-/R/include" -DNDEBUG     -I"C:/extsoft/include"     -O2 -Wall  -std=gnu99 -mfpmath=sse -msse2 -mstackrealign -c fastmat.c -o fastmat.o
"C:/rtools40/mingw32/bin/"gcc  -I"C:/Users/BIOCBU~1/BBS-3~1.12-/R/include" -DNDEBUG     -I"C:/extsoft/include"     -O2 -Wall  -std=gnu99 -mfpmath=sse -msse2 -mstackrealign -c lfa-init.c -o lfa-init.o
"C:/rtools40/mingw32/bin/"gcc  -I"C:/Users/BIOCBU~1/BBS-3~1.12-/R/include" -DNDEBUG     -I"C:/extsoft/include"     -O2 -Wall  -std=gnu99 -mfpmath=sse -msse2 -mstackrealign -c lfa.c -o lfa.o
"C:/rtools40/mingw32/bin/"gcc  -I"C:/Users/BIOCBU~1/BBS-3~1.12-/R/include" -DNDEBUG     -I"C:/extsoft/include"     -O2 -Wall  -std=gnu99 -mfpmath=sse -msse2 -mstackrealign -c lreg.c -o lreg.o
C:/rtools40/mingw32/bin/gcc -shared -s -static-libgcc -o lfa.dll tmp.def fastmat.o lfa-init.o lfa.o lreg.o -LC:/Users/BIOCBU~1/BBS-3~1.12-/R/bin/i386 -lRlapack -LC:/Users/BIOCBU~1/BBS-3~1.12-/R/bin/i386 -lRblas -lgfortran -lm -lquadmath -LC:/extsoft/lib/i386 -LC:/extsoft/lib -LC:/Users/BIOCBU~1/BBS-3~1.12-/R/bin/i386 -lR
installing to C:/Users/biocbuild/bbs-3.12-bioc/meat/lfa.buildbin-libdir/00LOCK-lfa/00new/lfa/libs/i386
** R
** data
*** moving datasets to lazyload DB
** inst
** byte-compile and prepare package for lazy loading
** help
*** installing help indices
  converting help for package 'lfa'
    finding HTML links ... done
    af                                      html  
    af_snp                                  html  
    center                                  html  
    centerscale                             html  
    hgdp_subset                             html  
    lfa                                     html  
    model.gof                               html  
    pca_af                                  html  
    read.bed                                html  
    read.tped.recode                        html  
    sHWE                                    html  
    trunc.svd                               html  
** building package indices
** installing vignettes
** testing if installed package can be loaded from temporary location
** testing if installed package can be loaded from final location
** testing if installed package keeps a record of temporary installation path

install for x64

* installing *source* package 'lfa' ...
** libs
"C:/rtools40/mingw64/bin/"gcc  -I"C:/Users/BIOCBU~1/BBS-3~1.12-/R/include" -DNDEBUG     -I"C:/extsoft/include"     -O2 -Wall  -std=gnu99 -mfpmath=sse -msse2 -mstackrealign -c fastmat.c -o fastmat.o
"C:/rtools40/mingw64/bin/"gcc  -I"C:/Users/BIOCBU~1/BBS-3~1.12-/R/include" -DNDEBUG     -I"C:/extsoft/include"     -O2 -Wall  -std=gnu99 -mfpmath=sse -msse2 -mstackrealign -c lfa-init.c -o lfa-init.o
"C:/rtools40/mingw64/bin/"gcc  -I"C:/Users/BIOCBU~1/BBS-3~1.12-/R/include" -DNDEBUG     -I"C:/extsoft/include"     -O2 -Wall  -std=gnu99 -mfpmath=sse -msse2 -mstackrealign -c lfa.c -o lfa.o
"C:/rtools40/mingw64/bin/"gcc  -I"C:/Users/BIOCBU~1/BBS-3~1.12-/R/include" -DNDEBUG     -I"C:/extsoft/include"     -O2 -Wall  -std=gnu99 -mfpmath=sse -msse2 -mstackrealign -c lreg.c -o lreg.o
C:/rtools40/mingw64/bin/gcc -shared -s -static-libgcc -o lfa.dll tmp.def fastmat.o lfa-init.o lfa.o lreg.o -LC:/Users/BIOCBU~1/BBS-3~1.12-/R/bin/x64 -lRlapack -LC:/Users/BIOCBU~1/BBS-3~1.12-/R/bin/x64 -lRblas -lgfortran -lm -lquadmath -LC:/extsoft/lib/x64 -LC:/extsoft/lib -LC:/Users/BIOCBU~1/BBS-3~1.12-/R/bin/x64 -lR
installing to C:/Users/biocbuild/bbs-3.12-bioc/meat/lfa.buildbin-libdir/lfa/libs/x64
** testing if installed package can be loaded
* MD5 sums
packaged installation of 'lfa' as lfa_1.20.0.zip
* DONE (lfa)