Name | Last modified | Size | Description | |
---|---|---|---|---|
Parent Directory | - | |||
install-summary.dcf | 27-Jul-2024 06:39 | 263 | ||
install-out.txt | 27-Jul-2024 06:39 | 2.1K | ||
checksrc-summary.dcf | 27-Jul-2024 06:39 | 437 | ||
checksrc-out.txt | 27-Jul-2024 06:39 | 5.3K | ||
buildsrc-summary.dcf | 27-Jul-2024 06:39 | 443 | ||
buildsrc-out.txt | 27-Jul-2024 06:39 | 920 | ||
buildbin-summary.dcf | 27-Jul-2024 06:39 | 500 | ||
buildbin-out.txt | 27-Jul-2024 06:39 | 2.2K | ||