Name | Last modified | Size | Description | |
---|---|---|---|---|
Parent Directory | - | |||
install-out.txt | 29-Jun-2024 06:41 | 2.1K | ||
install-summary.dcf | 29-Jun-2024 06:41 | 263 | ||
buildsrc-summary.dcf | 29-Jun-2024 06:41 | 443 | ||
buildsrc-out.txt | 29-Jun-2024 06:41 | 920 | ||
checksrc-out.txt | 29-Jun-2024 06:41 | 5.3K | ||
checksrc-summary.dcf | 29-Jun-2024 06:41 | 437 | ||
buildbin-out.txt | 29-Jun-2024 06:41 | 2.2K | ||
buildbin-summary.dcf | 29-Jun-2024 06:41 | 500 | ||