Name | Last modified | Size | Description | |
---|---|---|---|---|
Parent Directory | - | |||
install-summary.dcf | 27-Jul-2024 06:40 | 264 | ||
install-out.txt | 27-Jul-2024 06:40 | 2.5K | ||
checksrc-summary.dcf | 27-Jul-2024 06:40 | 434 | ||
checksrc-out.txt | 27-Jul-2024 06:40 | 5.1K | ||
buildsrc-summary.dcf | 27-Jul-2024 06:40 | 420 | ||
buildsrc-out.txt | 27-Jul-2024 06:40 | 900 | ||
buildbin-summary.dcf | 27-Jul-2024 06:40 | 515 | ||
buildbin-out.txt | 27-Jul-2024 06:40 | 6.0K | ||