Name | Last modified | Size | Description | |
---|---|---|---|---|
Parent Directory | - | |||
buildbin-out.txt | 12-Jun-2024 03:42 | 6.0K | ||
buildbin-summary.dcf | 12-Jun-2024 03:42 | 515 | ||
checksrc-out.txt | 12-Jun-2024 03:42 | 4.8K | ||
checksrc-summary.dcf | 12-Jun-2024 03:42 | 434 | ||
buildsrc-out.txt | 12-Jun-2024 03:42 | 900 | ||
buildsrc-summary.dcf | 12-Jun-2024 03:42 | 420 | ||
install-summary.dcf | 12-Jun-2024 03:42 | 264 | ||
install-out.txt | 12-Jun-2024 03:42 | 2.5K | ||