Name | Last modified | Size | Description | |
---|---|---|---|---|
Parent Directory | - | |||
buildsrc-out.txt | 24-Oct-2023 00:40 | 859 | ||
buildsrc-summary.dcf | 24-Oct-2023 00:40 | 408 | ||
checksrc-out.txt | 24-Oct-2023 00:40 | 3.6K | ||
checksrc-summary.dcf | 24-Oct-2023 00:40 | 398 | ||
install-out.txt | 24-Oct-2023 00:40 | 945 | ||
install-summary.dcf | 24-Oct-2023 00:40 | 251 | ||