Name | Last modified | Size | Description | |
---|---|---|---|---|
Parent Directory | - | |||
checksrc-out.txt | 17-Jul-2024 06:38 | 3.7K | ||
install-out.txt | 17-Jul-2024 06:38 | 953 | ||
buildsrc-out.txt | 17-Jul-2024 06:38 | 857 | ||
buildsrc-summary.dcf | 17-Jul-2024 06:38 | 425 | ||
checksrc-summary.dcf | 17-Jul-2024 06:38 | 424 | ||
install-summary.dcf | 17-Jul-2024 06:38 | 264 | ||