Name | Last modified | Size | Description | |
---|---|---|---|---|
Parent Directory | - | |||
install-summary.dcf | 24-Jul-2024 22:04 | 273 | ||
install-out.txt | 24-Jul-2024 22:04 | 971 | ||
checksrc-summary.dcf | 24-Jul-2024 22:04 | 457 | ||
checksrc-out.txt | 24-Jul-2024 22:04 | 3.3K | ||
buildsrc-summary.dcf | 24-Jul-2024 22:04 | 463 | ||
buildsrc-out.txt | 24-Jul-2024 22:04 | 853 | ||
buildbin-summary.dcf | 24-Jul-2024 22:04 | 530 | ||
buildbin-out.txt | 24-Jul-2024 22:04 | 1.1K | ||