Name | Last modified | Size | Description | |
---|---|---|---|---|
Parent Directory | - | |||
install-out.txt | 24-Jul-2024 22:03 | 961 | ||
install-summary.dcf | 24-Jul-2024 22:03 | 264 | ||
buildsrc-summary.dcf | 24-Jul-2024 22:03 | 424 | ||
buildsrc-out.txt | 24-Jul-2024 22:03 | 817 | ||
checksrc-out.txt | 24-Jul-2024 22:03 | 3.2K | ||
checksrc-summary.dcf | 24-Jul-2024 22:03 | 424 | ||