Back to Multiple platform build/check report for BioC 3.15
ABCDEFGHIJ[K]LMNOPQRSTUVWXYZ

This page was generated on 2022-08-15 13:21:38 -0400 (Mon, 15 Aug 2022).

HostnameOSArch (*)R versionInstalled pkgs
nebbiolo1Linux (Ubuntu 20.04.4 LTS)x86_644.2.1 (2022-06-23) -- "Funny-Looking Kid" 4365
palomino3Windows Server 2022 Datacenterx644.2.1 (2022-06-23 ucrt) -- "Funny-Looking Kid" 4118
merida1macOS 10.14.6 Mojavex86_644.2.1 (2022-06-23) -- "Funny-Looking Kid" 4183
Click on any hostname to see more info about the system (e.g. compilers)      (*) as reported by 'uname -p', except on Windows and Mac OS X

CHECK results for karyoploteR on palomino3


To the developers/maintainers of the karyoploteR package:
- Please allow up to 24 hours (and sometimes 48 hours) for your latest push to git@git.bioconductor.org:packages/karyoploteR.git to
reflect on this report. See How and When does the builder pull? When will my changes propagate? for more information.
- Make sure to use the following settings in order to reproduce any error or warning you see on this page.

raw results

Package 1000/2140HostnameOS / ArchINSTALLBUILDCHECKBUILD BIN
karyoploteR 1.22.0  (landing page)
Bernat Gel
Snapshot Date: 2022-08-14 13:55:13 -0400 (Sun, 14 Aug 2022)
git_url: https://git.bioconductor.org/packages/karyoploteR
git_branch: RELEASE_3_15
git_last_commit: c0d3786
git_last_commit_date: 2022-04-26 11:38:43 -0400 (Tue, 26 Apr 2022)
nebbiolo1Linux (Ubuntu 20.04.4 LTS) / x86_64  OK    OK    OK  UNNEEDED, same version is already published
palomino3Windows Server 2022 Datacenter / x64  OK    OK    OK    OK  UNNEEDED, same version is already published
merida1macOS 10.14.6 Mojave / x86_64  OK    OK    OK    OK  UNNEEDED, same version is already published

Summary

Package: karyoploteR
Version: 1.22.0
Command: F:\biocbuild\bbs-3.15-bioc\R\bin\R.exe CMD check --no-multiarch --install=check:karyoploteR.install-out.txt --library=F:\biocbuild\bbs-3.15-bioc\R\library --no-vignettes --timings karyoploteR_1.22.0.tar.gz
StartedAt: 2022-08-15 01:57:21 -0400 (Mon, 15 Aug 2022)
EndedAt: 2022-08-15 02:08:19 -0400 (Mon, 15 Aug 2022)
EllapsedTime: 658.1 seconds
RetCode: 0
Status:   OK  
CheckDir: karyoploteR.Rcheck
Warnings: 0

Command output

##############################################################################
##############################################################################
###
### Running command:
###
###   F:\biocbuild\bbs-3.15-bioc\R\bin\R.exe CMD check --no-multiarch --install=check:karyoploteR.install-out.txt --library=F:\biocbuild\bbs-3.15-bioc\R\library --no-vignettes --timings karyoploteR_1.22.0.tar.gz
###
##############################################################################
##############################################################################


* using log directory 'F:/biocbuild/bbs-3.15-bioc/meat/karyoploteR.Rcheck'
* using R version 4.2.1 (2022-06-23 ucrt)
* using platform: x86_64-w64-mingw32 (64-bit)
* using session charset: UTF-8
* using option '--no-vignettes'
* checking for file 'karyoploteR/DESCRIPTION' ... OK
* checking extension type ... Package
* this is package 'karyoploteR' version '1.22.0'
* checking package namespace information ... OK
* checking package dependencies ... OK
* checking if this is a source package ... OK
* checking if there is a namespace ... OK
* checking for hidden files and directories ... OK
* checking for portable file names ... OK
* checking whether package 'karyoploteR' can be installed ... OK
* checking installed package size ... OK
* checking package directory ... OK
* checking 'build' directory ... OK
* checking DESCRIPTION meta-information ... NOTE
Packages listed in more than one of Depends, Imports, Suggests, Enhances:
  'regioneR' 'GenomicRanges'
A package should be listed in only one of these fields.
* checking top-level files ... OK
* checking for left-over files ... OK
* checking index information ... OK
* checking package subdirectories ... OK
* checking R files for non-ASCII characters ... OK
* checking R files for syntax errors ... OK
* checking whether the package can be loaded ... OK
* checking whether the package can be loaded with stated dependencies ... OK
* checking whether the package can be unloaded cleanly ... OK
* checking whether the namespace can be loaded with stated dependencies ... OK
* checking whether the namespace can be unloaded cleanly ... OK
* checking dependencies in R code ... OK
* checking S3 generic/method consistency ... OK
* checking replacement functions ... OK
* checking foreign function calls ... OK
* checking R code for possible problems ... OK
* checking Rd files ... OK
* checking Rd metadata ... OK
* checking Rd cross-references ... OK
* checking for missing documentation entries ... OK
* checking for code/documentation mismatches ... OK
* checking Rd \usage sections ... OK
* checking Rd contents ... OK
* checking for unstated dependencies in examples ... OK
* checking R/sysdata.rda ... OK
* checking files in 'vignettes' ... OK
* checking examples ... OK
Examples with CPU (user + system) or elapsed time > 5s
                    user system elapsed
kpPlotDensity     181.10   3.39  190.77
kpPlotGenes        24.64   0.75   26.39
mergeTranscripts   19.89   0.25   20.14
kpPlotHorizon      17.62   0.12   17.75
kpPlotRegions      12.56   0.11   12.69
kpPlotBAMCoverage   6.97   0.20    7.22
kpPlotTranscripts   6.79   0.03    6.82
kpPlotManhattan     6.34   0.18    6.53
kpAbline            2.83   1.33    5.05
* checking for unstated dependencies in 'tests' ... OK
* checking tests ...
  Running 'testthat.R'
 OK
* checking for unstated dependencies in vignettes ... OK
* checking package vignettes in 'inst/doc' ... OK
* checking running R code from vignettes ... SKIPPED
* checking re-building of vignette outputs ... SKIPPED
* checking PDF version of manual ... OK
* DONE

Status: 1 NOTE
See
  'F:/biocbuild/bbs-3.15-bioc/meat/karyoploteR.Rcheck/00check.log'
for details.



Installation output

karyoploteR.Rcheck/00install.out

##############################################################################
##############################################################################
###
### Running command:
###
###   F:\biocbuild\bbs-3.15-bioc\R\bin\R.exe CMD INSTALL karyoploteR
###
##############################################################################
##############################################################################


* installing to library 'F:/biocbuild/bbs-3.15-bioc/R/library'
* installing *source* package 'karyoploteR' ...
** using staged installation
** R
** inst
** byte-compile and prepare package for lazy loading
** help
*** installing help indices
** building package indices
** installing vignettes
** testing if installed package can be loaded from temporary location
** testing if installed package can be loaded from final location
** testing if installed package keeps a record of temporary installation path
* DONE (karyoploteR)

Tests output

karyoploteR.Rcheck/tests/testthat.Rout


R version 4.2.1 (2022-06-23 ucrt) -- "Funny-Looking Kid"
Copyright (C) 2022 The R Foundation for Statistical Computing
Platform: x86_64-w64-mingw32/x64 (64-bit)

R is free software and comes with ABSOLUTELY NO WARRANTY.
You are welcome to redistribute it under certain conditions.
Type 'license()' or 'licence()' for distribution details.

R is a collaborative project with many contributors.
Type 'contributors()' for more information and
'citation()' on how to cite R or R packages in publications.

Type 'demo()' for some demos, 'help()' for on-line help, or
'help.start()' for an HTML browser interface to help.
Type 'q()' to quit R.

> library(testthat)
> library(karyoploteR)
Loading required package: regioneR
Loading required package: GenomicRanges
Loading required package: stats4
Loading required package: BiocGenerics

Attaching package: 'BiocGenerics'

The following objects are masked from 'package:stats':

    IQR, mad, sd, var, xtabs

The following objects are masked from 'package:base':

    Filter, Find, Map, Position, Reduce, anyDuplicated, append,
    as.data.frame, basename, cbind, colnames, dirname, do.call,
    duplicated, eval, evalq, get, grep, grepl, intersect, is.unsorted,
    lapply, mapply, match, mget, order, paste, pmax, pmax.int, pmin,
    pmin.int, rank, rbind, rownames, sapply, setdiff, sort, table,
    tapply, union, unique, unsplit, which.max, which.min

Loading required package: S4Vectors

Attaching package: 'S4Vectors'

The following objects are masked from 'package:base':

    I, expand.grid, unname

Loading required package: IRanges

Attaching package: 'IRanges'

The following object is masked from 'package:grDevices':

    windows

Loading required package: GenomeInfoDb
> 
> test_check("karyoploteR")
[ FAIL 0 | WARN 0 | SKIP 3 | PASS 181 ]

══ Skipped tests ═══════════════════════════════════════════════════════════════
• empty test (3)

[ FAIL 0 | WARN 0 | SKIP 3 | PASS 181 ]
> 
> proc.time()
   user  system elapsed 
  19.23    1.09   20.32 

Example timings

karyoploteR.Rcheck/karyoploteR-Ex.timings

nameusersystemelapsed
addGeneNames2.080.092.21
autotrack000
colByCategory0.010.000.02
colByChr0.50.00.5
colByRegion1.270.141.48
colByValue0.200.000.21
darker0.020.000.01
filterParams000
findIntersections0.110.030.14
getChromosomeNamesBoundingBox0.040.000.05
getColorSchemas000
getCytobandColors0.000.020.01
getCytobands000
getDataPanelBoundingBox1.160.011.18
getDefaultPlotParams0.080.000.07
getMainTitleBoundingBox0.030.000.04
getTextSize0.090.000.09
getVariantsColors000
horizonColors000
is.color000
kpAbline2.831.335.05
kpAddBaseNumbers0.380.020.39
kpAddChromosomeNames0.030.000.03
kpAddChromosomeSeparators0.390.000.40
kpAddColorRect0.160.030.18
kpAddCytobandLabels0.420.000.42
kpAddCytobands0.030.020.05
kpAddCytobandsAsLine0.090.020.11
kpAddLabels0.610.000.61
kpAddMainTitle0.010.000.01
kpArea0.320.000.31
kpArrows0.590.010.61
kpAxis0.440.000.44
kpBars0.250.000.25
kpDataBackground0.280.000.28
kpHeatmap0.120.000.13
kpLines0.300.000.29
kpPlotBAMCoverage6.970.207.22
kpPlotBAMDensity2.050.072.11
kpPlotBigWig000
kpPlotCoverage0.460.000.47
kpPlotDensity181.10 3.39190.77
kpPlotGenes24.64 0.7526.39
kpPlotHorizon17.62 0.1217.75
kpPlotLinks1.080.031.11
kpPlotLoess0.080.000.08
kpPlotManhattan6.340.186.53
kpPlotMarkers1.770.041.81
kpPlotNames0.170.000.18
kpPlotRainfall0.800.020.81
kpPlotRegions12.56 0.1112.69
kpPlotRibbon0.130.000.13
kpPlotTranscripts6.790.036.82
kpPoints0.330.000.33
kpPolygon0.380.000.38
kpRect0.840.000.84
kpSegments0.590.000.60
kpText0.350.010.35
lighter000
makeGenesDataFromTxDb3.830.103.93
mergeTranscripts19.89 0.2520.14
plotDefaultPlotParams0.140.010.15
plotKaryotype1.080.071.14
plotPalettes0.030.000.03
prepareParameters20.030.010.05
prepareParameters40.050.000.04
processClipping0.050.000.05
transparent000