Index of /checkResults/release/bioc-LATEST/ipdDb/raw-results
Name
Last modified
Size
Description
Parent Directory
-
info.dcf
08-May-2024 00:35
271
kunpeng2/
08-May-2024 00:40
-
lconway/
08-May-2024 00:39
-
merida1/
05-Mar-2024 01:39
-
nebbiolo1/
08-May-2024 00:36
-
palomino3/
08-May-2024 00:38
-