Name | Last modified | Size | Description | |
---|---|---|---|---|
Parent Directory | - | |||
install-summary.dcf | 17-Jul-2024 06:38 | 281 | ||
install-out.txt | 17-Jul-2024 06:38 | 1.4K | ||
checksrc-summary.dcf | 17-Jul-2024 06:38 | 458 | ||
checksrc-out.txt | 17-Jul-2024 06:38 | 11K | ||
buildsrc-summary.dcf | 17-Jul-2024 06:38 | 450 | ||
buildsrc-out.txt | 17-Jul-2024 06:38 | 1.3K | ||