Name | Last modified | Size | Description | |
---|---|---|---|---|
Parent Directory | - | |||
buildbin-out.txt | 12-Jun-2024 03:43 | 1.7K | ||
buildbin-summary.dcf | 12-Jun-2024 03:43 | 596 | ||
buildsrc-out.txt | 12-Jun-2024 03:43 | 1.3K | ||
buildsrc-summary.dcf | 12-Jun-2024 03:43 | 460 | ||
checksrc-out.txt | 12-Jun-2024 03:43 | 11K | ||
checksrc-summary.dcf | 12-Jun-2024 03:43 | 488 | ||
install-out.txt | 12-Jun-2024 03:43 | 1.5K | ||
install-summary.dcf | 12-Jun-2024 03:43 | 291 | ||