Index of /checkResults/release/bioc-LATEST/intansv/raw-results
Name
Last modified
Size
Description
Parent Directory
-
kunpeng2/
10-May-2024 00:40
-
lconway/
22-May-2024 00:38
-
merida1/
05-Mar-2024 01:39
-
nebbiolo1/
22-May-2024 00:36
-
palomino3/
22-May-2024 00:37
-
info.dcf
22-May-2024 00:35
262