Multiple platform build/check report for BioC 3.12

This page was generated on 2020-11-25 11:59:23 -0500 (Wed, 25 Nov 2020).

Approx. Package Snapshot Date (git pull): 2020-11-24 14:40:26 -0500 (Tue, 24 Nov 2020)

HostnameOSArch (*)Platform label (**)R versionInstalled pkgs
malbec1Linux (Ubuntu 18.04.4 LTS)x86_64x86_64-linux-gnu4.0.3 (2020-10-10) -- "Bunny-Wunnies Freak Out" 4019
nebbiolo1Linux (Ubuntu 20.04.1 LTS)x86_64x86_64-linux-gnu4.0.3 (2020-10-10) -- "Bunny-Wunnies Freak Out" 4011
tokay1Windows Server 2012 R2 Standardx64mingw32 / x86_64-w64-mingw324.0.3 (2020-10-10) -- "Bunny-Wunnies Freak Out" 3796
merida1macOS 10.14.6 Mojavex86_64x86_64-apple-darwin18.7.04.0.3 (2020-10-10) -- "Bunny-Wunnies Freak Out" 3817
Click on any hostname to see more info about the system (e.g. compilers)      (*) as reported by 'uname -p', except on Windows and Mac OS X      (**) as reported by 'gcc -v'

Package status is indicated by one of the following glyphs
 TIMEOUT  INSTALL, BUILD, CHECK or BUILD BIN of package took more than 40 minutes Use the check boxes to show only packages with the selected status types.
 ERROR  Bad DESCRIPTION file or INSTALL, BUILD or BUILD BIN of package failed, or CHECK produced errors
 WARNINGS  CHECK of package produced warnings
 OK  INSTALL, BUILD, CHECK or BUILD BIN of package was OK
 skipped  CHECK or BUILD BIN of package was skipped because the BUILD step failed
 NA  BUILD, CHECK or BUILD BIN result is not available because of an anomaly in the Build System
Click on any glyph in the report below to access the detailed results.
Package propagation status is indicated by one of the following LEDs
YES YES: Package was propagated because it didn't previously exist or version was bumped
NO NO: Package was not propagated because of a problem (impossible dependencies, or version lower than what is already propagated)
UNNEEDED UNNEEDED: Package was not propagated because it is already in the repository with this version. A version bump is required in order to propagate it

A crossed-out package name indicates the package is deprecated


SUMMARYOS / ArchINSTALLBUILDCHECKBUILD BIN
malbec1 Linux (Ubuntu 18.04.4 LTS) / x86_64 
0161958
0491925
1442731607
nebbiolo1 Linux (Ubuntu 20.04.1 LTS) / x86_64 
0181956
2611911
1462791585
tokay1 Windows Server 2012 R2 Standard / x64 
0171928
2581885
10573961422
031882
merida1 macOS 10.14.6 Mojave / x86_64 
0211943
0591905
0472761582
011904
A
ABCDEFGHIJKLMNOPQRSTUVWXYZ
Package 1/1974HostnameOS / ArchINSTALLBUILDCHECKBUILD BIN
a4 1.38.0
Laure Cougnaud
Last Commit: 5b7a908
Last Changed Date: 2020-10-27 10:41:25 -0500
malbec1 Linux (Ubuntu 18.04.4 LTS) / x86_64  OK  OK  OK UNNEEDED, same version exists in internal repository
nebbiolo1 Linux (Ubuntu 20.04.1 LTS) / x86_64  OK  OK  OK 
tokay1 Windows Server 2012 R2 Standard / x64  OK  OK  OK  OK UNNEEDED, same version exists in internal repository
merida1 macOS 10.14.6 Mojave / x86_64  OK  OK  OK  OK UNNEEDED, same version exists in internal repository
Package 2/1974HostnameOS / ArchINSTALLBUILDCHECKBUILD BIN
a4Base 1.38.0
Laure Cougnaud
Last Commit: 4add242
Last Changed Date: 2020-10-27 10:41:12 -0500
malbec1 Linux (Ubuntu 18.04.4 LTS) / x86_64  OK  OK  OK UNNEEDED, same version exists in internal repository
nebbiolo1 Linux (Ubuntu 20.04.1 LTS) / x86_64  OK  OK  OK 
tokay1 Windows Server 2012 R2 Standard / x64  OK  OK  WARNINGS  OK UNNEEDED, same version exists in internal repository
merida1 macOS 10.14.6 Mojave / x86_64  OK  OK  OK  OK UNNEEDED, same version exists in internal repository
Package 3/1974HostnameOS / ArchINSTALLBUILDCHECKBUILD BIN
a4Classif 1.38.0
Laure Cougnaud
Last Commit: c4d0588
Last Changed Date: 2020-10-27 10:41:18 -0500
malbec1 Linux (Ubuntu 18.04.4 LTS) / x86_64  OK  OK  OK UNNEEDED, same version exists in internal repository
nebbiolo1 Linux (Ubuntu 20.04.1 LTS) / x86_64  OK  OK  OK 
tokay1 Windows Server 2012 R2 Standard / x64  OK  OK  OK  OK UNNEEDED, same version exists in internal repository
merida1 macOS 10.14.6 Mojave / x86_64  OK  OK  OK  OK UNNEEDED, same version exists in internal repository
Package 4/1974HostnameOS / ArchINSTALLBUILDCHECKBUILD BIN
a4Core 1.38.0
Laure Cougnaud
Last Commit: a027dcd
Last Changed Date: 2020-10-27 10:41:20 -0500
malbec1 Linux (Ubuntu 18.04.4 LTS) / x86_64  OK  OK  OK UNNEEDED, same version exists in internal repository
nebbiolo1 Linux (Ubuntu 20.04.1 LTS) / x86_64  OK  OK  OK 
tokay1 Windows Server 2012 R2 Standard / x64  OK  OK  OK  OK UNNEEDED, same version exists in internal repository
merida1 macOS 10.14.6 Mojave / x86_64  OK  OK  OK  OK UNNEEDED, same version exists in internal repository
Package 5/1974HostnameOS / ArchINSTALLBUILDCHECKBUILD BIN
a4Preproc 1.38.0
Laure Cougnaud
Last Commit: c93c223
Last Changed Date: 2020-10-27 10:41:15 -0500
malbec1 Linux (Ubuntu 18.04.4 LTS) / x86_64  OK  OK  OK UNNEEDED, same version exists in internal repository
nebbiolo1 Linux (Ubuntu 20.04.1 LTS) / x86_64  OK  OK  OK 
tokay1 Windows Server 2012 R2 Standard / x64  OK  OK  OK  OK UNNEEDED, same version exists in internal repository
merida1 macOS 10.14.6 Mojave / x86_64  OK  OK  OK  OK UNNEEDED, same version exists in internal repository
Package 6/1974HostnameOS / ArchINSTALLBUILDCHECKBUILD BIN
a4Reporting 1.38.0
Laure Cougnaud
Last Commit: cd3cf24
Last Changed Date: 2020-10-27 10:41:23 -0500
malbec1 Linux (Ubuntu 18.04.4 LTS) / x86_64  OK  OK  OK UNNEEDED, same version exists in internal repository
nebbiolo1 Linux (Ubuntu 20.04.1 LTS) / x86_64  OK  OK  OK 
tokay1 Windows Server 2012 R2 Standard / x64  OK  OK  OK  OK UNNEEDED, same version exists in internal repository
merida1 macOS 10.14.6 Mojave / x86_64  OK  OK  OK  OK UNNEEDED, same version exists in internal repository
Package 7/1974HostnameOS / ArchINSTALLBUILDCHECKBUILD BIN
ABAEnrichment 1.20.0
Steffi Grote
Last Commit: 608433a
Last Changed Date: 2020-10-27 11:07:16 -0500
malbec1 Linux (Ubuntu 18.04.4 LTS) / x86_64  OK  OK  OK UNNEEDED, same version exists in internal repository
nebbiolo1 Linux (Ubuntu 20.04.1 LTS) / x86_64  OK  OK  OK 
tokay1 Windows Server 2012 R2 Standard / x64  OK  OK  OK  OK UNNEEDED, same version exists in internal repository
merida1 macOS 10.14.6 Mojave / x86_64  OK  OK  OK  OK UNNEEDED, same version exists in internal repository
Package 8/1974HostnameOS / ArchINSTALLBUILDCHECKBUILD BIN
ABarray 1.58.0
Yongming Andrew Sun
Last Commit: 6e6a0ce
Last Changed Date: 2020-10-27 10:28:58 -0500
malbec1 Linux (Ubuntu 18.04.4 LTS) / x86_64  OK  OK  OK UNNEEDED, same version exists in internal repository
nebbiolo1 Linux (Ubuntu 20.04.1 LTS) / x86_64  OK  OK  OK 
tokay1 Windows Server 2012 R2 Standard / x64  OK  OK  OK  OK UNNEEDED, same version exists in internal repository
merida1 macOS 10.14.6 Mojave / x86_64  OK  OK  OK  OK UNNEEDED, same version exists in internal repository
Package 9/1974HostnameOS / ArchINSTALLBUILDCHECKBUILD BIN
abseqR 1.8.0
JiaHong Fong
Last Commit: 0a4616b
Last Changed Date: 2020-10-27 11:40:24 -0500
malbec1 Linux (Ubuntu 18.04.4 LTS) / x86_64  OK  OK  OK UNNEEDED, same version exists in internal repository
nebbiolo1 Linux (Ubuntu 20.04.1 LTS) / x86_64  OK  OK  OK 
tokay1 Windows Server 2012 R2 Standard / x64  OK  OK  OK  OK UNNEEDED, same version exists in internal repository
merida1 macOS 10.14.6 Mojave / x86_64  OK  OK  OK  OK UNNEEDED, same version exists in internal repository
Package 10/1974HostnameOS / ArchINSTALLBUILDCHECKBUILD BIN
ABSSeq 1.44.0
Wentao Yang
Last Commit: c202b4a
Last Changed Date: 2020-10-27 10:55:46 -0500
malbec1 Linux (Ubuntu 18.04.4 LTS) / x86_64  OK  OK  OK UNNEEDED, same version exists in internal repository
nebbiolo1 Linux (Ubuntu 20.04.1 LTS) / x86_64  OK  OK  OK 
tokay1 Windows Server 2012 R2 Standard / x64  OK  OK  OK  OK UNNEEDED, same version exists in internal repository
merida1 macOS 10.14.6 Mojave / x86_64  OK  OK  OK  OK UNNEEDED, same version exists in internal repository
Package 11/1974HostnameOS / ArchINSTALLBUILDCHECKBUILD BIN
acde 1.20.0
Juan Pablo Acosta
Last Commit: cefb4f2
Last Changed Date: 2020-10-27 11:05:40 -0500
malbec1 Linux (Ubuntu 18.04.4 LTS) / x86_64  OK  OK  OK UNNEEDED, same version exists in internal repository
nebbiolo1 Linux (Ubuntu 20.04.1 LTS) / x86_64  OK  OK  OK 
tokay1 Windows Server 2012 R2 Standard / x64  OK  OK  OK  OK UNNEEDED, same version exists in internal repository
merida1 macOS 10.14.6 Mojave / x86_64  OK  OK  OK  OK UNNEEDED, same version exists in internal repository
Package 12/1974HostnameOS / ArchINSTALLBUILDCHECKBUILD BIN
ACE 1.8.0
Jos B Poell
Last Commit: 6a04454
Last Changed Date: 2020-10-27 11:37:13 -0500
malbec1 Linux (Ubuntu 18.04.4 LTS) / x86_64  OK  OK  OK UNNEEDED, same version exists in internal repository
nebbiolo1 Linux (Ubuntu 20.04.1 LTS) / x86_64  OK  OK  OK 
tokay1 Windows Server 2012 R2 Standard / x64  OK  OK  OK  OK UNNEEDED, same version exists in internal repository
merida1 macOS 10.14.6 Mojave / x86_64  OK  OK  OK  OK UNNEEDED, same version exists in internal repository
Package 13/1974HostnameOS / ArchINSTALLBUILDCHECKBUILD BIN
aCGH 1.68.0
Peter Dimitrov
Last Commit: 91f41a3
Last Changed Date: 2020-10-27 10:24:17 -0500
malbec1 Linux (Ubuntu 18.04.4 LTS) / x86_64  OK  OK  OK UNNEEDED, same version exists in internal repository
nebbiolo1 Linux (Ubuntu 20.04.1 LTS) / x86_64  OK  OK  OK 
tokay1 Windows Server 2012 R2 Standard / x64  OK  OK  OK  OK UNNEEDED, same version exists in internal repository
merida1 macOS 10.14.6 Mojave / x86_64  OK  OK  OK  OK UNNEEDED, same version exists in internal repository
Package 14/1974HostnameOS / ArchINSTALLBUILDCHECKBUILD BIN
ACME 2.46.0
Sean Davis
Last Commit: 68f45c9
Last Changed Date: 2020-10-27 10:30:51 -0500
malbec1 Linux (Ubuntu 18.04.4 LTS) / x86_64  OK  OK  WARNINGS UNNEEDED, same version exists in internal repository
nebbiolo1 Linux (Ubuntu 20.04.1 LTS) / x86_64  OK  OK  WARNINGS 
tokay1 Windows Server 2012 R2 Standard / x64  OK  OK  WARNINGS  OK UNNEEDED, same version exists in internal repository
merida1 macOS 10.14.6 Mojave / x86_64  OK  OK  OK  OK UNNEEDED, same version exists in internal repository
Package 15/1974HostnameOS / ArchINSTALLBUILDCHECKBUILD BIN
ADaCGH2 2.30.0
Ramon Diaz-Uriarte
Last Commit: 1d62234
Last Changed Date: 2020-10-27 10:39:31 -0500
malbec1 Linux (Ubuntu 18.04.4 LTS) / x86_64  OK  OK  OK UNNEEDED, same version exists in internal repository
nebbiolo1 Linux (Ubuntu 20.04.1 LTS) / x86_64  OK  OK  OK 
tokay1 Windows Server 2012 R2 Standard / x64  OK  OK  OK  OK UNNEEDED, same version exists in internal repository
merida1 macOS 10.14.6 Mojave / x86_64  OK  OK  OK  OK UNNEEDED, same version exists in internal repository
Package 16/1974HostnameOS / ArchINSTALLBUILDCHECKBUILD BIN
ADAM 1.6.0
Jose Luiz Rybarczyk Filho
Last Commit: 8799f99
Last Changed Date: 2020-10-27 11:40:48 -0500
malbec1 Linux (Ubuntu 18.04.4 LTS) / x86_64  OK  OK  OK UNNEEDED, same version exists in internal repository
nebbiolo1 Linux (Ubuntu 20.04.1 LTS) / x86_64  OK  OK  OK 
tokay1 Windows Server 2012 R2 Standard / x64  OK  OK  OK  OK UNNEEDED, same version exists in internal repository
merida1 macOS 10.14.6 Mojave / x86_64  OK  OK  OK  OK UNNEEDED, same version exists in internal repository
Package 17/1974HostnameOS / ArchINSTALLBUILDCHECKBUILD BIN
ADAMgui 1.6.0
Jose Luiz Rybarczyk Filho
Last Commit: 75782fe
Last Changed Date: 2020-10-27 11:45:19 -0500
malbec1 Linux (Ubuntu 18.04.4 LTS) / x86_64  OK  OK  OK UNNEEDED, same version exists in internal repository
nebbiolo1 Linux (Ubuntu 20.04.1 LTS) / x86_64  OK  OK  OK 
tokay1 Windows Server 2012 R2 Standard / x64  OK  OK  OK  OK UNNEEDED, same version exists in internal repository
merida1 macOS 10.14.6 Mojave / x86_64  OK  OK  OK  OK UNNEEDED, same version exists in internal repository
Package 18/1974HostnameOS / ArchINSTALLBUILDCHECKBUILD BIN
adaptest 1.10.0
Weixin Cai
Last Commit: 192b4e7
Last Changed Date: 2020-10-27 11:33:43 -0500
malbec1 Linux (Ubuntu 18.04.4 LTS) / x86_64  OK  OK  ERROR 
nebbiolo1 Linux (Ubuntu 20.04.1 LTS) / x86_64  OK  OK  ERROR 
tokay1 Windows Server 2012 R2 Standard / x64  OK  OK  ERROR  OK 
merida1 macOS 10.14.6 Mojave / x86_64  OK  OK  ERROR  OK 
Package 19/1974HostnameOS / ArchINSTALLBUILDCHECKBUILD BIN
adductomicsR 1.6.0
Josie Hayes
Last Commit: 4f15169
Last Changed Date: 2020-10-27 11:42:01 -0500
malbec1 Linux (Ubuntu 18.04.4 LTS) / x86_64  OK  OK  WARNINGS UNNEEDED, same version exists in internal repository
nebbiolo1 Linux (Ubuntu 20.04.1 LTS) / x86_64  OK  OK  WARNINGS 
tokay1 Windows Server 2012 R2 Standard / x64  OK  OK  WARNINGS  OK UNNEEDED, same version exists in internal repository
merida1 macOS 10.14.6 Mojave / x86_64  OK  OK  WARNINGS  OK UNNEEDED, same version exists in internal repository
Package 20/1974HostnameOS / ArchINSTALLBUILDCHECKBUILD BIN
ADImpute 1.0.0
Ana Carolina Leote
Last Commit: 5676910
Last Changed Date: 2020-10-27 12:03:35 -0500
malbec1 Linux (Ubuntu 18.04.4 LTS) / x86_64  OK  OK  WARNINGS UNNEEDED, same version exists in internal repository
nebbiolo1 Linux (Ubuntu 20.04.1 LTS) / x86_64  OK  OK  WARNINGS 
tokay1 Windows Server 2012 R2 Standard / x64  OK  OK  WARNINGS  OK UNNEEDED, same version exists in internal repository
merida1 macOS 10.14.6 Mojave / x86_64  OK  OK  WARNINGS  OK UNNEEDED, same version exists in internal repository
Package 21/1974HostnameOS / ArchINSTALLBUILDCHECKBUILD BIN
adSplit 1.60.0
Claudio Lottaz
Last Commit: de5abcc
Last Changed Date: 2020-10-27 10:28:09 -0500
malbec1 Linux (Ubuntu 18.04.4 LTS) / x86_64  OK  OK  WARNINGS UNNEEDED, same version exists in internal repository
nebbiolo1 Linux (Ubuntu 20.04.1 LTS) / x86_64  OK  OK  WARNINGS 
tokay1 Windows Server 2012 R2 Standard / x64  OK  OK  WARNINGS  OK UNNEEDED, same version exists in internal repository
merida1 macOS 10.14.6 Mojave / x86_64  OK  OK  WARNINGS  OK UNNEEDED, same version exists in internal repository
Package 22/1974HostnameOS / ArchINSTALLBUILDCHECKBUILD BIN
AffiXcan 1.8.0
Alessandro Lussana
Last Commit: 00f1fbc
Last Changed Date: 2020-10-27 11:39:12 -0500
malbec1 Linux (Ubuntu 18.04.4 LTS) / x86_64  OK  OK  OK UNNEEDED, same version exists in internal repository
nebbiolo1 Linux (Ubuntu 20.04.1 LTS) / x86_64  OK  OK  OK 
tokay1 Windows Server 2012 R2 Standard / x64  OK  OK  OK  OK UNNEEDED, same version exists in internal repository
merida1 macOS 10.14.6 Mojave / x86_64  OK  OK  OK  OK UNNEEDED, same version exists in internal repository
Package 23/1974HostnameOS / ArchINSTALLBUILDCHECKBUILD BIN
affxparser 1.62.0
Kasper Daniel Hansen
Last Commit: b3e988e
Last Changed Date: 2020-10-27 10:26:49 -0500
malbec1 Linux (Ubuntu 18.04.4 LTS) / x86_64  OK  OK  WARNINGS UNNEEDED, same version exists in internal repository
nebbiolo1 Linux (Ubuntu 20.04.1 LTS) / x86_64  OK  OK  WARNINGS 
tokay1 Windows Server 2012 R2 Standard / x64  OK  OK  WARNINGS  OK UNNEEDED, same version exists in internal repository
merida1 macOS 10.14.6 Mojave / x86_64  OK  OK  WARNINGS  OK UNNEEDED, same version exists in internal repository
Package 24/1974HostnameOS / ArchINSTALLBUILDCHECKBUILD BIN
affy 1.68.0
Rafael A. Irizarry
Last Commit: 1664399
Last Changed Date: 2020-10-27 10:22:11 -0500
malbec1 Linux (Ubuntu 18.04.4 LTS) / x86_64  OK  OK  WARNINGS UNNEEDED, same version exists in internal repository
nebbiolo1 Linux (Ubuntu 20.04.1 LTS) / x86_64  OK  OK  WARNINGS 
tokay1 Windows Server 2012 R2 Standard / x64  OK  OK  WARNINGS  OK UNNEEDED, same version exists in internal repository
merida1 macOS 10.14.6 Mojave / x86_64  OK  OK  WARNINGS  OK UNNEEDED, same version exists in internal repository
Package 25/1974HostnameOS / ArchINSTALLBUILDCHECKBUILD BIN
affycomp 1.66.0
Rafael A. Irizarry
Last Commit: 388d01a
Last Changed Date: 2020-10-27 10:22:30 -0500
malbec1 Linux (Ubuntu 18.04.4 LTS) / x86_64  OK  OK  OK UNNEEDED, same version exists in internal repository
nebbiolo1 Linux (Ubuntu 20.04.1 LTS) / x86_64  OK  OK  OK 
tokay1 Windows Server 2012 R2 Standard / x64  OK  OK  WARNINGS  OK UNNEEDED, same version exists in internal repository
merida1 macOS 10.14.6 Mojave / x86_64  OK  OK  OK  OK UNNEEDED, same version exists in internal repository
Package 26/1974HostnameOS / ArchINSTALLBUILDCHECKBUILD BIN
AffyCompatible 1.50.0
Martin Morgan
Last Commit: 3b12d12
Last Changed Date: 2020-10-27 10:33:21 -0500
malbec1 Linux (Ubuntu 18.04.4 LTS) / x86_64  OK  OK  OK UNNEEDED, same version exists in internal repository
nebbiolo1 Linux (Ubuntu 20.04.1 LTS) / x86_64  OK  OK  OK 
tokay1 Windows Server 2012 R2 Standard / x64  OK  OK  OK  OK UNNEEDED, same version exists in internal repository
merida1 macOS 10.14.6 Mojave / x86_64  OK  OK  OK  OK UNNEEDED, same version exists in internal repository
Package 27/1974HostnameOS / ArchINSTALLBUILDCHECKBUILD BIN
affyContam 1.48.0
V. Carey
Last Commit: 88387a2
Last Changed Date: 2020-10-27 10:34:42 -0500
malbec1 Linux (Ubuntu 18.04.4 LTS) / x86_64  OK  OK  OK UNNEEDED, same version exists in internal repository
nebbiolo1 Linux (Ubuntu 20.04.1 LTS) / x86_64  OK  OK  OK 
tokay1 Windows Server 2012 R2 Standard / x64  OK  OK  OK  OK UNNEEDED, same version exists in internal repository
merida1 macOS 10.14.6 Mojave / x86_64  OK  OK  OK  OK UNNEEDED, same version exists in internal repository
Package 28/1974HostnameOS / ArchINSTALLBUILDCHECKBUILD BIN
affycoretools 1.62.0
James W. MacDonald
Last Commit: c9779e4
Last Changed Date: 2020-10-27 10:27:23 -0500
malbec1 Linux (Ubuntu 18.04.4 LTS) / x86_64  OK  OK  OK UNNEEDED, same version exists in internal repository
nebbiolo1 Linux (Ubuntu 20.04.1 LTS) / x86_64  OK  OK  OK 
tokay1 Windows Server 2012 R2 Standard / x64  OK  OK  WARNINGS  OK UNNEEDED, same version exists in internal repository
merida1 macOS 10.14.6 Mojave / x86_64  OK  OK  OK  OK UNNEEDED, same version exists in internal repository
Package 29/1974HostnameOS / ArchINSTALLBUILDCHECKBUILD BIN
AffyExpress 1.56.0
Xuejun Arthur Li
Last Commit: e070858
Last Changed Date: 2020-10-27 10:31:51 -0500
malbec1 Linux (Ubuntu 18.04.4 LTS) / x86_64  OK  OK  OK UNNEEDED, same version exists in internal repository
nebbiolo1 Linux (Ubuntu 20.04.1 LTS) / x86_64  OK  OK  OK 
tokay1 Windows Server 2012 R2 Standard / x64  OK  OK  OK  OK UNNEEDED, same version exists in internal repository
merida1 macOS 10.14.6 Mojave / x86_64  OK  OK  OK  OK UNNEEDED, same version exists in internal repository
Package 30/1974HostnameOS / ArchINSTALLBUILDCHECKBUILD BIN
affyILM 1.42.0
Myriam Kroll and Fabrice Berger
Last Commit: b97b297
Last Changed Date: 2020-10-27 10:38:21 -0500
malbec1 Linux (Ubuntu 18.04.4 LTS) / x86_64  OK  OK  OK UNNEEDED, same version exists in internal repository
nebbiolo1 Linux (Ubuntu 20.04.1 LTS) / x86_64  OK  OK  OK 
tokay1 Windows Server 2012 R2 Standard / x64  OK  OK  OK  OK UNNEEDED, same version exists in internal repository
merida1 macOS 10.14.6 Mojave / x86_64  OK  OK  OK  OK UNNEEDED, same version exists in internal repository
Package 31/1974HostnameOS / ArchINSTALLBUILDCHECKBUILD BIN
affyio 1.60.0
Ben Bolstad
Last Commit: ee20528
Last Changed Date: 2020-10-27 10:22:04 -0500
malbec1 Linux (Ubuntu 18.04.4 LTS) / x86_64  OK  OK  OK UNNEEDED, same version exists in internal repository
nebbiolo1 Linux (Ubuntu 20.04.1 LTS) / x86_64  OK  OK  WARNINGS 
tokay1 Windows Server 2012 R2 Standard / x64  OK  OK  WARNINGS  OK UNNEEDED, same version exists in internal repository
merida1 macOS 10.14.6 Mojave / x86_64  OK  OK  OK  OK UNNEEDED, same version exists in internal repository
Package 32/1974HostnameOS / ArchINSTALLBUILDCHECKBUILD BIN
affylmGUI 1.64.0
Gordon Smyth
Last Commit: 85d506f
Last Changed Date: 2020-10-27 10:23:55 -0500
malbec1 Linux (Ubuntu 18.04.4 LTS) / x86_64  OK  OK  OK UNNEEDED, same version exists in internal repository
nebbiolo1 Linux (Ubuntu 20.04.1 LTS) / x86_64  OK  OK  OK 
tokay1 Windows Server 2012 R2 Standard / x64  OK  OK  OK  OK UNNEEDED, same version exists in internal repository
merida1 macOS 10.14.6 Mojave / x86_64  OK  OK  OK  OK UNNEEDED, same version exists in internal repository
Package 33/1974HostnameOS / ArchINSTALLBUILDCHECKBUILD BIN
affyPara 1.50.0
Markus Schmidberger
Last Commit: 7c6df5a
Last Changed Date: 2020-10-27 10:33:03 -0500
malbec1 Linux (Ubuntu 18.04.4 LTS) / x86_64  OK  OK  OK UNNEEDED, same version exists in internal repository
nebbiolo1 Linux (Ubuntu 20.04.1 LTS) / x86_64  OK  OK  OK 
tokay1 Windows Server 2012 R2 Standard / x64  OK  OK  OK  OK UNNEEDED, same version exists in internal repository
merida1 macOS 10.14.6 Mojave / x86_64  OK  OK  OK  OK UNNEEDED, same version exists in internal repository
Package 34/1974HostnameOS / ArchINSTALLBUILDCHECKBUILD BIN
affyPLM 1.66.0
Ben Bolstad
Last Commit: f0780c3
Last Changed Date: 2020-10-27 10:22:56 -0500
malbec1 Linux (Ubuntu 18.04.4 LTS) / x86_64  OK  OK  OK UNNEEDED, same version exists in internal repository
nebbiolo1 Linux (Ubuntu 20.04.1 LTS) / x86_64  OK  OK  WARNINGS 
tokay1 Windows Server 2012 R2 Standard / x64  OK  OK  OK  OK UNNEEDED, same version exists in internal repository
merida1 macOS 10.14.6 Mojave / x86_64  OK  OK  OK  OK UNNEEDED, same version exists in internal repository
Package 35/1974HostnameOS / ArchINSTALLBUILDCHECKBUILD BIN
affyQCReport 1.68.0
Craig Parman
Last Commit: 34b42a1
Last Changed Date: 2020-10-27 10:26:26 -0500
malbec1 Linux (Ubuntu 18.04.4 LTS) / x86_64  OK  OK  OK UNNEEDED, same version exists in internal repository
nebbiolo1 Linux (Ubuntu 20.04.1 LTS) / x86_64  OK  OK  OK 
tokay1 Windows Server 2012 R2 Standard / x64  OK  OK  OK  OK UNNEEDED, same version exists in internal repository
merida1 macOS 10.14.6 Mojave / x86_64  OK  OK  OK  OK UNNEEDED, same version exists in internal repository
Package 36/1974HostnameOS / ArchINSTALLBUILDCHECKBUILD BIN
AffyRNADegradation 1.36.0
Mario Fasold
Last Commit: 89662b9
Last Changed Date: 2020-10-27 10:44:13 -0500
malbec1 Linux (Ubuntu 18.04.4 LTS) / x86_64  OK  OK  OK UNNEEDED, same version exists in internal repository
nebbiolo1 Linux (Ubuntu 20.04.1 LTS) / x86_64  OK  OK  OK 
tokay1 Windows Server 2012 R2 Standard / x64  OK  OK  OK  OK UNNEEDED, same version exists in internal repository
merida1 macOS 10.14.6 Mojave / x86_64  OK  OK  OK  OK UNNEEDED, same version exists in internal repository
Package 37/1974HostnameOS / ArchINSTALLBUILDCHECKBUILD BIN
AGDEX 1.38.0
Cuilan lani Gao
Last Commit: 7e2c1f5
Last Changed Date: 2020-10-27 10:43:00 -0500
malbec1 Linux (Ubuntu 18.04.4 LTS) / x86_64  OK  OK  OK UNNEEDED, same version exists in internal repository
nebbiolo1 Linux (Ubuntu 20.04.1 LTS) / x86_64  OK  OK  OK 
tokay1 Windows Server 2012 R2 Standard / x64  OK  OK  WARNINGS  OK UNNEEDED, same version exists in internal repository
merida1 macOS 10.14.6 Mojave / x86_64  OK  OK  OK  OK UNNEEDED, same version exists in internal repository
Package 38/1974HostnameOS / ArchINSTALLBUILDCHECKBUILD BIN
aggregateBioVar 1.0.0
Jason Ratcliff
Last Commit: ca130de
Last Changed Date: 2020-10-27 12:01:49 -0500
malbec1 Linux (Ubuntu 18.04.4 LTS) / x86_64  OK  OK  OK UNNEEDED, same version exists in internal repository
nebbiolo1 Linux (Ubuntu 20.04.1 LTS) / x86_64  OK  OK  OK 
tokay1 Windows Server 2012 R2 Standard / x64  OK  OK  OK  OK UNNEEDED, same version exists in internal repository
merida1 macOS 10.14.6 Mojave / x86_64  OK  OK  OK  OK UNNEEDED, same version exists in internal repository
Package 39/1974HostnameOS / ArchINSTALLBUILDCHECKBUILD BIN
agilp 3.22.0
Benny Chain
Last Commit: 7d089d5
Last Changed Date: 2020-10-27 10:47:29 -0500
malbec1 Linux (Ubuntu 18.04.4 LTS) / x86_64  OK  OK  OK UNNEEDED, same version exists in internal repository
nebbiolo1 Linux (Ubuntu 20.04.1 LTS) / x86_64  OK  OK  OK 
tokay1 Windows Server 2012 R2 Standard / x64  OK  OK  OK  OK UNNEEDED, same version exists in internal repository
merida1 macOS 10.14.6 Mojave / x86_64  OK  OK  OK  OK UNNEEDED, same version exists in internal repository
Package 40/1974HostnameOS / ArchINSTALLBUILDCHECKBUILD BIN
AgiMicroRna 2.40.0
Pedro Lopez-Romero
Last Commit: cfa4acb
Last Changed Date: 2020-10-27 10:36:25 -0500
malbec1 Linux (Ubuntu 18.04.4 LTS) / x86_64  OK  OK  OK UNNEEDED, same version exists in internal repository
nebbiolo1 Linux (Ubuntu 20.04.1 LTS) / x86_64  OK  OK  OK 
tokay1 Windows Server 2012 R2 Standard / x64  OK  OK  OK  OK UNNEEDED, same version exists in internal repository
merida1 macOS 10.14.6 Mojave / x86_64  OK  OK  OK  OK UNNEEDED, same version exists in internal repository
Package 41/1974HostnameOS / ArchINSTALLBUILDCHECKBUILD BIN
AIMS 1.22.0
Eric R Paquet
Last Commit: 34a3897
Last Changed Date: 2020-10-27 11:01:12 -0500
malbec1 Linux (Ubuntu 18.04.4 LTS) / x86_64  OK  OK  OK UNNEEDED, same version exists in internal repository
nebbiolo1 Linux (Ubuntu 20.04.1 LTS) / x86_64  OK  OK  OK 
tokay1 Windows Server 2012 R2 Standard / x64  OK  OK  OK  OK UNNEEDED, same version exists in internal repository
merida1 macOS 10.14.6 Mojave / x86_64  OK  OK  OK  OK UNNEEDED, same version exists in internal repository
Package 42/1974HostnameOS / ArchINSTALLBUILDCHECKBUILD BIN
ALDEx2 1.22.0
Greg Gloor
Last Commit: ac7f0ab
Last Changed Date: 2020-10-27 10:59:20 -0500
malbec1 Linux (Ubuntu 18.04.4 LTS) / x86_64  OK  OK  OK UNNEEDED, same version exists in internal repository
nebbiolo1 Linux (Ubuntu 20.04.1 LTS) / x86_64  OK  OK  OK 
tokay1 Windows Server 2012 R2 Standard / x64  OK  OK  OK  OK UNNEEDED, same version exists in internal repository
merida1 macOS 10.14.6 Mojave / x86_64  OK  OK  OK  OK UNNEEDED, same version exists in internal repository
Package 43/1974HostnameOS / ArchINSTALLBUILDCHECKBUILD BIN
alevinQC 1.6.0
Charlotte Soneson
Last Commit: a15b7c5
Last Changed Date: 2020-10-27 11:43:03 -0500
malbec1 Linux (Ubuntu 18.04.4 LTS) / x86_64  OK  OK  OK UNNEEDED, same version exists in internal repository
nebbiolo1 Linux (Ubuntu 20.04.1 LTS) / x86_64  OK  OK  OK 
tokay1 Windows Server 2012 R2 Standard / x64  OK  OK  OK  OK UNNEEDED, same version exists in internal repository
merida1 macOS 10.14.6 Mojave / x86_64  OK  OK  OK  OK UNNEEDED, same version exists in internal repository
Package 44/1974HostnameOS / ArchINSTALLBUILDCHECKBUILD BIN
AllelicImbalance 1.28.0
Jesper R Gadin
Last Commit: ac5d13c
Last Changed Date: 2020-10-27 10:53:07 -0500
malbec1 Linux (Ubuntu 18.04.4 LTS) / x86_64  OK  OK  OK UNNEEDED, same version exists in internal repository
nebbiolo1 Linux (Ubuntu 20.04.1 LTS) / x86_64  OK  OK  OK 
tokay1 Windows Server 2012 R2 Standard / x64  OK  OK  OK  OK UNNEEDED, same version exists in internal repository
merida1 macOS 10.14.6 Mojave / x86_64  OK  OK  OK  OK UNNEEDED, same version exists in internal repository
Package 45/1974HostnameOS / ArchINSTALLBUILDCHECKBUILD BIN
AlphaBeta 1.4.0
Yadollah Shahryary Dizaji
Last Commit: d67f156
Last Changed Date: 2020-10-27 11:48:09 -0500
malbec1 Linux (Ubuntu 18.04.4 LTS) / x86_64  OK  OK  OK UNNEEDED, same version exists in internal repository
nebbiolo1 Linux (Ubuntu 20.04.1 LTS) / x86_64  OK  OK  OK 
tokay1 Windows Server 2012 R2 Standard / x64  OK  OK  OK  OK UNNEEDED, same version exists in internal repository
merida1 macOS 10.14.6 Mojave / x86_64  OK  OK  OK  OK UNNEEDED, same version exists in internal repository
Package 46/1974HostnameOS / ArchINSTALLBUILDCHECKBUILD BIN
alpine 1.16.0
Michael Love
Last Commit: aee3977
Last Changed Date: 2020-10-27 11:17:10 -0500
malbec1 Linux (Ubuntu 18.04.4 LTS) / x86_64  OK  OK  OK UNNEEDED, same version exists in internal repository
nebbiolo1 Linux (Ubuntu 20.04.1 LTS) / x86_64  OK  OK  OK 
tokay1 Windows Server 2012 R2 Standard / x64  OK  OK  OK  OK UNNEEDED, same version exists in internal repository
merida1 macOS 10.14.6 Mojave / x86_64  OK  OK  OK  OK UNNEEDED, same version exists in internal repository
Package 47/1974HostnameOS / ArchINSTALLBUILDCHECKBUILD BIN
ALPS 1.4.0
Venu Thatikonda
Last Commit: efa0189
Last Changed Date: 2020-10-27 11:50:35 -0500
malbec1 Linux (Ubuntu 18.04.4 LTS) / x86_64  OK  OK  OK UNNEEDED, same version exists in internal repository
nebbiolo1 Linux (Ubuntu 20.04.1 LTS) / x86_64  OK  OK  OK 
tokay1 Windows Server 2012 R2 Standard / x64  OK  OK  OK  OK UNNEEDED, same version exists in internal repository
merida1 macOS 10.14.6 Mojave / x86_64  OK  OK  OK  OK UNNEEDED, same version exists in internal repository
Package 48/1974HostnameOS / ArchINSTALLBUILDCHECKBUILD BIN
AlpsNMR 3.0.4
Luis Fernandez
Last Commit: b712df9
Last Changed Date: 2020-11-19 06:18:34 -0500
malbec1 Linux (Ubuntu 18.04.4 LTS) / x86_64  OK  OK  WARNINGS UNNEEDED, same version exists in internal repository
nebbiolo1 Linux (Ubuntu 20.04.1 LTS) / x86_64  OK  OK  WARNINGS 
tokay1 Windows Server 2012 R2 Standard / x64  OK  OK  WARNINGS  OK UNNEEDED, same version exists in internal repository
merida1 macOS 10.14.6 Mojave / x86_64  OK  OK  WARNINGS  OK UNNEEDED, same version exists in internal repository
Package 49/1974HostnameOS / ArchINSTALLBUILDCHECKBUILD BIN
alsace 1.26.0
Ron Wehrens
Last Commit: 40a7640
Last Changed Date: 2020-10-27 10:55:09 -0500
malbec1 Linux (Ubuntu 18.04.4 LTS) / x86_64  OK  OK  OK UNNEEDED, same version exists in internal repository
nebbiolo1 Linux (Ubuntu 20.04.1 LTS) / x86_64  OK  OK  OK 
tokay1 Windows Server 2012 R2 Standard / x64  OK  OK  OK  OK UNNEEDED, same version exists in internal repository
merida1 macOS 10.14.6 Mojave / x86_64  OK  OK  OK  OK UNNEEDED, same version exists in internal repository
Package 50/1974HostnameOS / ArchINSTALLBUILDCHECKBUILD BIN
altcdfenvs 2.52.0
Laurent Gautier
Last Commit: 21329ab
Last Changed Date: 2020-10-27 10:23:45 -0500
malbec1 Linux (Ubuntu 18.04.4 LTS) / x86_64  OK  OK  OK UNNEEDED, same version exists in internal repository
nebbiolo1 Linux (Ubuntu 20.04.1 LTS) / x86_64  OK  OK  OK 
tokay1 Windows Server 2012 R2 Standard / x64  OK  OK  OK  OK UNNEEDED, same version exists in internal repository
merida1 macOS 10.14.6 Mojave / x86_64  OK  OK  OK  OK UNNEEDED, same version exists in internal repository
Package 51/1974HostnameOS / ArchINSTALLBUILDCHECKBUILD BIN
AMARETTO 1.6.0
Olivier Gevaert
Last Commit: 0deca3f
Last Changed Date: 2020-10-27 11:43:56 -0500
malbec1 Linux (Ubuntu 18.04.4 LTS) / x86_64  OK  OK  OK UNNEEDED, same version exists in internal repository
nebbiolo1 Linux (Ubuntu 20.04.1 LTS) / x86_64  OK  OK  OK 
tokay1 Windows Server 2012 R2 Standard / x64  OK  OK  OK  OK UNNEEDED, same version exists in internal repository
merida1 macOS 10.14.6 Mojave / x86_64  OK  OK  OK  OK UNNEEDED, same version exists in internal repository
Package 52/1974HostnameOS / ArchINSTALLBUILDCHECKBUILD BIN
AMOUNTAIN 1.16.0
Dong Li
Last Commit: 2bf8cd6
Last Changed Date: 2020-10-27 11:16:00 -0500
malbec1 Linux (Ubuntu 18.04.4 LTS) / x86_64  OK  OK  OK UNNEEDED, same version exists in internal repository
nebbiolo1 Linux (Ubuntu 20.04.1 LTS) / x86_64  OK  OK  OK 
tokay1 Windows Server 2012 R2 Standard / x64  OK  OK  OK  OK UNNEEDED, same version exists in internal repository
merida1 macOS 10.14.6 Mojave / x86_64  OK  OK  OK  OK UNNEEDED, same version exists in internal repository
Package 53/1974HostnameOS / ArchINSTALLBUILDCHECKBUILD BIN
amplican 1.12.0
Eivind Valen
Last Commit: f593f59
Last Changed Date: 2020-10-27 11:27:25 -0500
malbec1 Linux (Ubuntu 18.04.4 LTS) / x86_64  OK  OK  OK UNNEEDED, same version exists in internal repository
nebbiolo1 Linux (Ubuntu 20.04.1 LTS) / x86_64  OK  OK  OK 
tokay1 Windows Server 2012 R2 Standard / x64  OK  OK  OK  OK UNNEEDED, same version exists in internal repository
merida1 macOS 10.14.6 Mojave / x86_64  OK  OK  OK  OK UNNEEDED, same version exists in internal repository
Package 54/1974HostnameOS / ArchINSTALLBUILDCHECKBUILD BIN
Anaquin 2.14.0
Ted Wong
Last Commit: d0a34c9
Last Changed Date: 2020-10-27 11:17:12 -0500
malbec1 Linux (Ubuntu 18.04.4 LTS) / x86_64  OK  OK  OK UNNEEDED, same version exists in internal repository
nebbiolo1 Linux (Ubuntu 20.04.1 LTS) / x86_64  OK  OK  OK 
tokay1 Windows Server 2012 R2 Standard / x64  OK  OK  OK  OK UNNEEDED, same version exists in internal repository
merida1 macOS 10.14.6 Mojave / x86_64  OK  OK  OK  OK UNNEEDED, same version exists in internal repository
Package 55/1974HostnameOS / ArchINSTALLBUILDCHECKBUILD BIN
ANCOMBC 1.0.1
Huang Lin
Last Commit: aa55bbc
Last Changed Date: 2020-11-20 10:41:08 -0500
malbec1 Linux (Ubuntu 18.04.4 LTS) / x86_64  OK  OK  OK UNNEEDED, same version exists in internal repository
nebbiolo1 Linux (Ubuntu 20.04.1 LTS) / x86_64  OK  OK  OK 
tokay1 Windows Server 2012 R2 Standard / x64  OK  OK  OK  OK UNNEEDED, same version exists in internal repository
merida1 macOS 10.14.6 Mojave / x86_64  OK  OK  OK  OK UNNEEDED, same version exists in internal repository
Package 56/1974HostnameOS / ArchINSTALLBUILDCHECKBUILD BIN
AneuFinder 1.18.0
Aaron Taudt
Last Commit: 76ec9af
Last Changed Date: 2020-10-27 11:12:55 -0500
malbec1 Linux (Ubuntu 18.04.4 LTS) / x86_64  OK  OK  OK UNNEEDED, same version exists in internal repository
nebbiolo1 Linux (Ubuntu 20.04.1 LTS) / x86_64  OK  OK  OK 
tokay1 Windows Server 2012 R2 Standard / x64  OK  OK  OK  OK UNNEEDED, same version exists in internal repository
merida1 macOS 10.14.6 Mojave / x86_64  OK  OK  OK  OK UNNEEDED, same version exists in internal repository
Package 57/1974HostnameOS / ArchINSTALLBUILDCHECKBUILD BIN
ANF 1.12.0
Tianle Ma
Last Commit: 39a01f6
Last Changed Date: 2020-10-27 11:28:30 -0500
malbec1 Linux (Ubuntu 18.04.4 LTS) / x86_64  OK  OK  OK UNNEEDED, same version exists in internal repository
nebbiolo1 Linux (Ubuntu 20.04.1 LTS) / x86_64  OK  OK  OK 
tokay1 Windows Server 2012 R2 Standard / x64  OK  OK  OK  OK UNNEEDED, same version exists in internal repository
merida1 macOS 10.14.6 Mojave / x86_64  OK  OK  OK  OK UNNEEDED, same version exists in internal repository
Package 58/1974HostnameOS / ArchINSTALLBUILDCHECKBUILD BIN
animalcules 1.6.0
Yue Zhao
Last Commit: 6a2f3dd
Last Changed Date: 2020-10-27 11:45:58 -0500
malbec1 Linux (Ubuntu 18.04.4 LTS) / x86_64  OK  OK  OK UNNEEDED, same version exists in internal repository
nebbiolo1 Linux (Ubuntu 20.04.1 LTS) / x86_64  OK  OK  OK 
tokay1 Windows Server 2012 R2 Standard / x64  OK  OK  OK  OK UNNEEDED, same version exists in internal repository
merida1 macOS 10.14.6 Mojave / x86_64  OK  OK  OK  OK UNNEEDED, same version exists in internal repository
Package 59/1974HostnameOS / ArchINSTALLBUILDCHECKBUILD BIN
annaffy 1.62.0
Colin A. Smith
Last Commit: ad9c37e
Last Changed Date: 2020-10-27 10:22:41 -0500
malbec1 Linux (Ubuntu 18.04.4 LTS) / x86_64  OK  OK  WARNINGS UNNEEDED, same version exists in internal repository
nebbiolo1 Linux (Ubuntu 20.04.1 LTS) / x86_64  OK  OK  WARNINGS 
tokay1 Windows Server 2012 R2 Standard / x64  OK  OK  WARNINGS  OK UNNEEDED, same version exists in internal repository
merida1 macOS 10.14.6 Mojave / x86_64  OK  OK  WARNINGS  OK UNNEEDED, same version exists in internal repository
Package 60/1974HostnameOS / ArchINSTALLBUILDCHECKBUILD BIN
annmap 1.32.0
Chris Wirth
Last Commit: 4e527dd
Last Changed Date: 2020-10-27 10:46:00 -0500
malbec1 Linux (Ubuntu 18.04.4 LTS) / x86_64  OK  OK  WARNINGS UNNEEDED, same version exists in internal repository
nebbiolo1 Linux (Ubuntu 20.04.1 LTS) / x86_64  OK  OK  WARNINGS 
tokay1 Windows Server 2012 R2 Standard / x64 ...NOT SUPPORTED...
merida1 macOS 10.14.6 Mojave / x86_64  OK  OK  WARNINGS  OK UNNEEDED, same version exists in internal repository
Package 61/1974HostnameOS / ArchINSTALLBUILDCHECKBUILD BIN
annotate 1.68.0
Bioconductor Package Maintainer
Last Commit: 98cdb12
Last Changed Date: 2020-10-27 10:21:39 -0500
malbec1 Linux (Ubuntu 18.04.4 LTS) / x86_64  OK  OK  OK UNNEEDED, same version exists in internal repository
nebbiolo1 Linux (Ubuntu 20.04.1 LTS) / x86_64  OK  OK  OK 
tokay1 Windows Server 2012 R2 Standard / x64  OK  OK  OK  OK UNNEEDED, same version exists in internal repository
merida1 macOS 10.14.6 Mojave / x86_64  OK  OK  OK  OK UNNEEDED, same version exists in internal repository
Package 62/1974HostnameOS / ArchINSTALLBUILDCHECKBUILD BIN
AnnotationDbi 1.52.0
Bioconductor Package Maintainer
Last Commit: c4e0ca9
Last Changed Date: 2020-10-27 10:29:55 -0500
malbec1 Linux (Ubuntu 18.04.4 LTS) / x86_64  OK  OK  OK UNNEEDED, same version exists in internal repository
nebbiolo1 Linux (Ubuntu 20.04.1 LTS) / x86_64  OK  OK  OK 
tokay1 Windows Server 2012 R2 Standard / x64  OK  OK  OK  OK UNNEEDED, same version exists in internal repository
merida1 macOS 10.14.6 Mojave / x86_64  OK  OK  OK  OK UNNEEDED, same version exists in internal repository
Package 63/1974HostnameOS / ArchINSTALLBUILDCHECKBUILD BIN
AnnotationFilter 1.14.0
Bioconductor Package Maintainer
Last Commit: 6ee3a13
Last Changed Date: 2020-10-27 11:22:59 -0500
malbec1 Linux (Ubuntu 18.04.4 LTS) / x86_64  OK  OK  OK UNNEEDED, same version exists in internal repository
nebbiolo1 Linux (Ubuntu 20.04.1 LTS) / x86_64  OK  OK  OK 
tokay1 Windows Server 2012 R2 Standard / x64  OK  OK  OK  OK UNNEEDED, same version exists in internal repository
merida1 macOS 10.14.6 Mojave / x86_64  OK  OK  OK  OK UNNEEDED, same version exists in internal repository
Package 64/1974HostnameOS / ArchINSTALLBUILDCHECKBUILD BIN
AnnotationForge 1.32.0
Bioconductor Package Maintainer
Last Commit: 3d17c2a
Last Changed Date: 2020-10-27 10:46:13 -0500
malbec1 Linux (Ubuntu 18.04.4 LTS) / x86_64  OK  OK  OK UNNEEDED, same version exists in internal repository
nebbiolo1 Linux (Ubuntu 20.04.1 LTS) / x86_64  OK  ERROR  skipped 
tokay1 Windows Server 2012 R2 Standard / x64  OK  OK  OK  OK UNNEEDED, same version exists in internal repository
merida1 macOS 10.14.6 Mojave / x86_64  OK  OK  OK  OK UNNEEDED, same version exists in internal repository
Package 65/1974HostnameOS / ArchINSTALLBUILDCHECKBUILD BIN
AnnotationFuncs 1.40.0
Stefan McKinnon Edwards
Last Commit: 90cc52b
Last Changed Date: 2020-10-27 10:40:41 -0500
malbec1 Linux (Ubuntu 18.04.4 LTS) / x86_64  OK  OK  OK UNNEEDED, same version exists in internal repository
nebbiolo1 Linux (Ubuntu 20.04.1 LTS) / x86_64  OK  OK  OK 
tokay1 Windows Server 2012 R2 Standard / x64  OK  OK  OK  OK UNNEEDED, same version exists in internal repository
merida1 macOS 10.14.6 Mojave / x86_64  OK  OK  OK  OK UNNEEDED, same version exists in internal repository
Package 66/1974HostnameOS / ArchINSTALLBUILDCHECKBUILD BIN
AnnotationHub 2.22.0
Bioconductor Package Maintainer
Last Commit: 3ab7dce
Last Changed Date: 2020-10-27 10:50:05 -0500
malbec1 Linux (Ubuntu 18.04.4 LTS) / x86_64  OK  OK  WARNINGS UNNEEDED, same version exists in internal repository
nebbiolo1 Linux (Ubuntu 20.04.1 LTS) / x86_64  OK  OK  WARNINGS 
tokay1 Windows Server 2012 R2 Standard / x64  OK  OK  WARNINGS  OK UNNEEDED, same version exists in internal repository
merida1 macOS 10.14.6 Mojave / x86_64  OK  OK  WARNINGS  OK UNNEEDED, same version exists in internal repository
Package 67/1974HostnameOS / ArchINSTALLBUILDCHECKBUILD BIN
AnnotationHubData 1.20.0
Bioconductor Package Maintainer
Last Commit: ce564c5
Last Changed Date: 2020-10-27 11:07:40 -0500
malbec1 Linux (Ubuntu 18.04.4 LTS) / x86_64  OK  OK  WARNINGS UNNEEDED, same version exists in internal repository
nebbiolo1 Linux (Ubuntu 20.04.1 LTS) / x86_64  OK  OK  WARNINGS 
tokay1 Windows Server 2012 R2 Standard / x64  OK  OK  WARNINGS  OK UNNEEDED, same version exists in internal repository
merida1 macOS 10.14.6 Mojave / x86_64  OK  OK  WARNINGS  OK UNNEEDED, same version exists in internal repository
Package 68/1974HostnameOS / ArchINSTALLBUILDCHECKBUILD BIN
annotationTools 1.64.0
Alexandre Kuhn
Last Commit: 8b4f650
Last Changed Date: 2020-10-27 10:30:36 -0500
malbec1 Linux (Ubuntu 18.04.4 LTS) / x86_64  OK  OK  OK UNNEEDED, same version exists in internal repository
nebbiolo1 Linux (Ubuntu 20.04.1 LTS) / x86_64  OK  OK  OK 
tokay1 Windows Server 2012 R2 Standard / x64  OK  OK  OK  OK UNNEEDED, same version exists in internal repository
merida1 macOS 10.14.6 Mojave / x86_64  OK  OK  OK  OK UNNEEDED, same version exists in internal repository
Package 69/1974HostnameOS / ArchINSTALLBUILDCHECKBUILD BIN
annotatr 1.16.0
Raymond G. Cavalcante
Last Commit: e5b2b37
Last Changed Date: 2020-10-27 11:18:54 -0500
malbec1 Linux (Ubuntu 18.04.4 LTS) / x86_64  OK  OK  OK UNNEEDED, same version exists in internal repository
nebbiolo1 Linux (Ubuntu 20.04.1 LTS) / x86_64  OK  OK  OK 
tokay1 Windows Server 2012 R2 Standard / x64  OK  OK  OK  OK UNNEEDED, same version exists in internal repository
merida1 macOS 10.14.6 Mojave / x86_64  OK  OK  OK  OK UNNEEDED, same version exists in internal repository
Package 70/1974HostnameOS / ArchINSTALLBUILDCHECKBUILD BIN
anota 1.38.0
Ola Larsson
Last Commit: 22f55f9
Last Changed Date: 2020-10-27 10:41:28 -0500
malbec1 Linux (Ubuntu 18.04.4 LTS) / x86_64  OK  OK  OK UNNEEDED, same version exists in internal repository
nebbiolo1 Linux (Ubuntu 20.04.1 LTS) / x86_64  OK  OK  OK 
tokay1 Windows Server 2012 R2 Standard / x64  OK  OK  OK  OK UNNEEDED, same version exists in internal repository
merida1 macOS 10.14.6 Mojave / x86_64  OK  OK  OK  OK UNNEEDED, same version exists in internal repository
Package 71/1974HostnameOS / ArchINSTALLBUILDCHECKBUILD BIN
anota2seq 1.12.0
Christian Oertlin , Julie Lorent
Last Commit: 4435c78
Last Changed Date: 2020-10-27 11:28:38 -0500
malbec1 Linux (Ubuntu 18.04.4 LTS) / x86_64  OK  OK  OK UNNEEDED, same version exists in internal repository
nebbiolo1 Linux (Ubuntu 20.04.1 LTS) / x86_64  OK  OK  OK 
tokay1 Windows Server 2012 R2 Standard / x64  OK  OK  OK  OK UNNEEDED, same version exists in internal repository
merida1 macOS 10.14.6 Mojave / x86_64  OK  OK  OK  OK UNNEEDED, same version exists in internal repository
Package 72/1974HostnameOS / ArchINSTALLBUILDCHECKBUILD BIN
antiProfiles 1.30.0
Hector Corrada Bravo
Last Commit: 7247cce
Last Changed Date: 2020-10-27 10:50:20 -0500
malbec1 Linux (Ubuntu 18.04.4 LTS) / x86_64  OK  OK  OK UNNEEDED, same version exists in internal repository
nebbiolo1 Linux (Ubuntu 20.04.1 LTS) / x86_64  OK  OK  OK 
tokay1 Windows Server 2012 R2 Standard / x64  OK  OK  OK  OK UNNEEDED, same version exists in internal repository
merida1 macOS 10.14.6 Mojave / x86_64  OK  OK  OK  OK UNNEEDED, same version exists in internal repository
Package 73/1974HostnameOS / ArchINSTALLBUILDCHECKBUILD BIN
AnVIL 1.2.0
Martin Morgan
Last Commit: c686619
Last Changed Date: 2020-10-27 11:57:30 -0500
malbec1 Linux (Ubuntu 18.04.4 LTS) / x86_64  OK  OK  OK UNNEEDED, same version exists in internal repository
nebbiolo1 Linux (Ubuntu 20.04.1 LTS) / x86_64  OK  OK  OK 
tokay1 Windows Server 2012 R2 Standard / x64  OK  OK  OK  OK UNNEEDED, same version exists in internal repository
merida1 macOS 10.14.6 Mojave / x86_64  OK  OK  OK  OK UNNEEDED, same version exists in internal repository
Package 74/1974HostnameOS / ArchINSTALLBUILDCHECKBUILD BIN
AnVILBilling 1.0.1
Vince Carey
Last Commit: 5bda8a2
Last Changed Date: 2020-11-19 08:15:07 -0500
malbec1 Linux (Ubuntu 18.04.4 LTS) / x86_64  OK  OK  OK UNNEEDED, same version exists in internal repository
nebbiolo1 Linux (Ubuntu 20.04.1 LTS) / x86_64  OK  OK  OK 
tokay1 Windows Server 2012 R2 Standard / x64  OK  OK  OK  OK UNNEEDED, same version exists in internal repository
merida1 macOS 10.14.6 Mojave / x86_64  OK  OK  OK  OK UNNEEDED, same version exists in internal repository
Package 75/1974HostnameOS / ArchINSTALLBUILDCHECKBUILD BIN
AnVILPublish 1.0.0
Martin Morgan
Last Commit: fe3b8cb
Last Changed Date: 2020-10-27 12:02:51 -0500
malbec1 Linux (Ubuntu 18.04.4 LTS) / x86_64  OK  OK  OK UNNEEDED, same version exists in internal repository
nebbiolo1 Linux (Ubuntu 20.04.1 LTS) / x86_64  OK  OK  OK 
tokay1 Windows Server 2012 R2 Standard / x64  OK  OK  OK  OK UNNEEDED, same version exists in internal repository
merida1 macOS 10.14.6 Mojave / x86_64  OK  OK  OK  OK UNNEEDED, same version exists in internal repository
Package 76/1974HostnameOS / ArchINSTALLBUILDCHECKBUILD BIN
APAlyzer 1.4.0
Ruijia Wang
Last Commit: 4247a57
Last Changed Date: 2020-10-27 11:48:13 -0500
malbec1 Linux (Ubuntu 18.04.4 LTS) / x86_64  OK  OK  OK UNNEEDED, same version exists in internal repository
nebbiolo1 Linux (Ubuntu 20.04.1 LTS) / x86_64  OK  OK  OK 
tokay1 Windows Server 2012 R2 Standard / x64  OK  OK  OK  OK UNNEEDED, same version exists in internal repository
merida1 macOS 10.14.6 Mojave / x86_64  OK  OK  OK  OK UNNEEDED, same version exists in internal repository
Package 77/1974HostnameOS / ArchINSTALLBUILDCHECKBUILD BIN
apComplex 2.56.0
Denise Scholtens
Last Commit: 1054e71
Last Changed Date: 2020-10-27 10:25:14 -0500
malbec1 Linux (Ubuntu 18.04.4 LTS) / x86_64  OK  OK  OK UNNEEDED, same version exists in internal repository
nebbiolo1 Linux (Ubuntu 20.04.1 LTS) / x86_64  OK  OK  OK 
tokay1 Windows Server 2012 R2 Standard / x64  OK  OK  OK  OK UNNEEDED, same version exists in internal repository
merida1 macOS 10.14.6 Mojave / x86_64  OK  OK  OK  OK UNNEEDED, same version exists in internal repository
Package 78/1974HostnameOS / ArchINSTALLBUILDCHECKBUILD BIN
apeglm 1.12.0
Anqi Zhu
Last Commit: e18a461
Last Changed Date: 2020-10-27 11:27:11 -0500
malbec1 Linux (Ubuntu 18.04.4 LTS) / x86_64  OK  OK  OK UNNEEDED, same version exists in internal repository
nebbiolo1 Linux (Ubuntu 20.04.1 LTS) / x86_64  OK  OK  OK 
tokay1 Windows Server 2012 R2 Standard / x64  OK  OK  OK  OK UNNEEDED, same version exists in internal repository
merida1 macOS 10.14.6 Mojave / x86_64  OK  OK  OK  OK UNNEEDED, same version exists in internal repository
Package 79/1974HostnameOS / ArchINSTALLBUILDCHECKBUILD BIN
appreci8R 1.8.0
Sarah Sandmann
Last Commit: 078ead0
Last Changed Date: 2020-10-27 11:37:03 -0500
malbec1 Linux (Ubuntu 18.04.4 LTS) / x86_64  OK  OK  OK UNNEEDED, same version exists in internal repository
nebbiolo1 Linux (Ubuntu 20.04.1 LTS) / x86_64  OK  OK  OK 
tokay1 Windows Server 2012 R2 Standard / x64  OK  OK  OK  OK UNNEEDED, same version exists in internal repository
merida1 macOS 10.14.6 Mojave / x86_64  OK  OK  OK  OK UNNEEDED, same version exists in internal repository
Package 80/1974HostnameOS / ArchINSTALLBUILDCHECKBUILD BIN
aroma.light 3.20.0
Henrik Bengtsson
Last Commit: 02cde7f
Last Changed Date: 2020-10-27 10:29:08 -0500
malbec1 Linux (Ubuntu 18.04.4 LTS) / x86_64  OK  OK  OK UNNEEDED, same version exists in internal repository
nebbiolo1 Linux (Ubuntu 20.04.1 LTS) / x86_64  OK  OK  OK 
tokay1 Windows Server 2012 R2 Standard / x64  OK  OK  WARNINGS  OK UNNEEDED, same version exists in internal repository
merida1 macOS 10.14.6 Mojave / x86_64  OK  OK  OK  OK UNNEEDED, same version exists in internal repository
Package 81/1974HostnameOS / ArchINSTALLBUILDCHECKBUILD BIN
ArrayExpress 1.50.0
Suhaib Mohammed
Last Commit: 3a8e996
Last Changed Date: 2020-10-27 10:34:31 -0500
malbec1 Linux (Ubuntu 18.04.4 LTS) / x86_64  OK  OK  OK UNNEEDED, same version exists in internal repository
nebbiolo1 Linux (Ubuntu 20.04.1 LTS) / x86_64  OK  OK  OK 
tokay1 Windows Server 2012 R2 Standard / x64  OK  OK  OK  OK UNNEEDED, same version exists in internal repository
merida1 macOS 10.14.6 Mojave / x86_64  OK  OK  OK  OK UNNEEDED, same version exists in internal repository
Package 82/1974HostnameOS / ArchINSTALLBUILDCHECKBUILD BIN
ArrayExpressHTS 1.40.0
Angela Goncalves , Andrew Tikhonov
Last Commit: 8e951b9
Last Changed Date: 2020-10-27 10:41:33 -0500
malbec1 Linux (Ubuntu 18.04.4 LTS) / x86_64  OK  OK  WARNINGS UNNEEDED, same version exists in internal repository
nebbiolo1 Linux (Ubuntu 20.04.1 LTS) / x86_64  OK  OK  WARNINGS 
tokay1 Windows Server 2012 R2 Standard / x64 ...NOT SUPPORTED...
merida1 macOS 10.14.6 Mojave / x86_64  OK  OK  OK  OK UNNEEDED, same version exists in internal repository
Package 83/1974HostnameOS / ArchINSTALLBUILDCHECKBUILD BIN
arrayMvout 1.48.0
V. Carey
Last Commit: 3d9d8e4
Last Changed Date: 2020-10-27 10:34:44 -0500
malbec1 Linux (Ubuntu 18.04.4 LTS) / x86_64  OK  OK  OK UNNEEDED, same version exists in internal repository
nebbiolo1 Linux (Ubuntu 20.04.1 LTS) / x86_64  OK  OK  OK 
tokay1 Windows Server 2012 R2 Standard / x64  OK  OK  OK  OK UNNEEDED, same version exists in internal repository
merida1 macOS 10.14.6 Mojave / x86_64  OK  OK  OK  OK UNNEEDED, same version exists in internal repository
Package 84/1974HostnameOS / ArchINSTALLBUILDCHECKBUILD BIN
arrayQuality 1.68.0
Agnes Paquet
Last Commit: e40f17d
Last Changed Date: 2020-10-27 10:23:48 -0500
malbec1 Linux (Ubuntu 18.04.4 LTS) / x86_64  OK  OK  WARNINGS UNNEEDED, same version exists in internal repository
nebbiolo1 Linux (Ubuntu 20.04.1 LTS) / x86_64  OK  OK  WARNINGS 
tokay1 Windows Server 2012 R2 Standard / x64  OK  OK  WARNINGS  OK UNNEEDED, same version exists in internal repository
merida1 macOS 10.14.6 Mojave / x86_64  OK  OK  WARNINGS  OK UNNEEDED, same version exists in internal repository
Package 85/1974HostnameOS / ArchINSTALLBUILDCHECKBUILD BIN
arrayQualityMetrics 3.46.0
Mike Smith
Last Commit: 2bc0f4e
Last Changed Date: 2020-10-27 10:31:46 -0500
malbec1 Linux (Ubuntu 18.04.4 LTS) / x86_64  OK  OK  OK UNNEEDED, same version exists in internal repository
nebbiolo1 Linux (Ubuntu 20.04.1 LTS) / x86_64  OK  OK  OK 
tokay1 Windows Server 2012 R2 Standard / x64  OK  OK  OK  OK UNNEEDED, same version exists in internal repository
merida1 macOS 10.14.6 Mojave / x86_64  OK  OK  OK  OK UNNEEDED, same version exists in internal repository
Package 86/1974HostnameOS / ArchINSTALLBUILDCHECKBUILD BIN
ArrayTools 1.50.0
Arthur Li
Last Commit: 01c515f
Last Changed Date: 2020-10-27 10:34:24 -0500
malbec1 Linux (Ubuntu 18.04.4 LTS) / x86_64  OK  OK  OK UNNEEDED, same version exists in internal repository
nebbiolo1 Linux (Ubuntu 20.04.1 LTS) / x86_64  OK  OK  OK 
tokay1 Windows Server 2012 R2 Standard / x64  OK  OK  OK  OK UNNEEDED, same version exists in internal repository
merida1 macOS 10.14.6 Mojave / x86_64  OK  OK  OK  OK UNNEEDED, same version exists in internal repository
Package 87/1974HostnameOS / ArchINSTALLBUILDCHECKBUILD BIN
ArrayTV 1.28.0
Eitan Halper-Stromberg
Last Commit: f8ad413
Last Changed Date: 2020-10-27 10:52:44 -0500
malbec1 Linux (Ubuntu 18.04.4 LTS) / x86_64  OK  ERROR  skipped 
nebbiolo1 Linux (Ubuntu 20.04.1 LTS) / x86_64  OK  ERROR  skipped 
tokay1 Windows Server 2012 R2 Standard / x64  OK  ERROR  skipped  skipped 
merida1 macOS 10.14.6 Mojave / x86_64  OK  ERROR  skipped  skipped 
Package 88/1974HostnameOS / ArchINSTALLBUILDCHECKBUILD BIN
ARRmNormalization 1.30.0
Jean-Philippe Fortin
Last Commit: ce62ab3
Last Changed Date: 2020-10-27 10:49:34 -0500
malbec1 Linux (Ubuntu 18.04.4 LTS) / x86_64  OK  OK  OK UNNEEDED, same version exists in internal repository
nebbiolo1 Linux (Ubuntu 20.04.1 LTS) / x86_64  OK  OK  OK 
tokay1 Windows Server 2012 R2 Standard / x64  OK  OK  OK  OK UNNEEDED, same version exists in internal repository
merida1 macOS 10.14.6 Mojave / x86_64  OK  OK  OK  OK UNNEEDED, same version exists in internal repository
Package 89/1974HostnameOS / ArchINSTALLBUILDCHECKBUILD BIN
artMS 1.8.0
David Jimenez-Morales
Last Commit: b4aa374
Last Changed Date: 2020-10-27 11:40:21 -0500
malbec1 Linux (Ubuntu 18.04.4 LTS) / x86_64  OK  OK  OK UNNEEDED, same version exists in internal repository
nebbiolo1 Linux (Ubuntu 20.04.1 LTS) / x86_64  OK  OK  OK 
tokay1 Windows Server 2012 R2 Standard / x64  OK  OK  OK  OK UNNEEDED, same version exists in internal repository
merida1 macOS 10.14.6 Mojave / x86_64  OK  OK  OK  OK UNNEEDED, same version exists in internal repository
Package 90/1974HostnameOS / ArchINSTALLBUILDCHECKBUILD BIN
ASAFE 1.16.0
Qian Zhang
Last Commit: a3c9236
Last Changed Date: 2020-10-27 11:16:15 -0500
malbec1 Linux (Ubuntu 18.04.4 LTS) / x86_64  OK  OK  OK UNNEEDED, same version exists in internal repository
nebbiolo1 Linux (Ubuntu 20.04.1 LTS) / x86_64  OK  OK  OK 
tokay1 Windows Server 2012 R2 Standard / x64  OK  OK  OK  OK UNNEEDED, same version exists in internal repository
merida1 macOS 10.14.6 Mojave / x86_64  OK  OK  OK  OK UNNEEDED, same version exists in internal repository
Package 91/1974HostnameOS / ArchINSTALLBUILDCHECKBUILD BIN
ASEB 1.34.0
Likun Wang
Last Commit: 21baac1
Last Changed Date: 2020-10-27 10:44:11 -0500
malbec1 Linux (Ubuntu 18.04.4 LTS) / x86_64  OK  OK  OK UNNEEDED, same version exists in internal repository
nebbiolo1 Linux (Ubuntu 20.04.1 LTS) / x86_64  OK  OK  OK 
tokay1 Windows Server 2012 R2 Standard / x64  OK  OK  OK  OK UNNEEDED, same version exists in internal repository
merida1 macOS 10.14.6 Mojave / x86_64  OK  OK  OK  OK UNNEEDED, same version exists in internal repository
Package 92/1974HostnameOS / ArchINSTALLBUILDCHECKBUILD BIN
ASGSCA 1.24.0
Hela Romdhani
Last Commit: 7f9f2f0
Last Changed Date: 2020-10-27 10:59:45 -0500
malbec1 Linux (Ubuntu 18.04.4 LTS) / x86_64  OK  OK  OK UNNEEDED, same version exists in internal repository
nebbiolo1 Linux (Ubuntu 20.04.1 LTS) / x86_64  OK  OK  OK 
tokay1 Windows Server 2012 R2 Standard / x64  OK  OK  OK  OK UNNEEDED, same version exists in internal repository
merida1 macOS 10.14.6 Mojave / x86_64  OK  OK  OK  OK UNNEEDED, same version exists in internal repository
Package 93/1974HostnameOS / ArchINSTALLBUILDCHECKBUILD BIN
ASICS 2.6.1
Gaëlle Lefort
Last Commit: 2165d0b
Last Changed Date: 2020-10-28 05:58:26 -0500
malbec1 Linux (Ubuntu 18.04.4 LTS) / x86_64  OK  OK  OK UNNEEDED, same version exists in internal repository
nebbiolo1 Linux (Ubuntu 20.04.1 LTS) / x86_64  OK  OK  OK 
tokay1 Windows Server 2012 R2 Standard / x64  OK  OK  OK  OK UNNEEDED, same version exists in internal repository
merida1 macOS 10.14.6 Mojave / x86_64  OK  OK  OK  OK UNNEEDED, same version exists in internal repository
Package 94/1974HostnameOS / ArchINSTALLBUILDCHECKBUILD BIN
ASpediaFI 1.4.0
Doyeong Yu
Last Commit: d59c4a0
Last Changed Date: 2020-10-27 11:50:40 -0500
malbec1 Linux (Ubuntu 18.04.4 LTS) / x86_64  OK  OK  OK UNNEEDED, same version exists in internal repository
nebbiolo1 Linux (Ubuntu 20.04.1 LTS) / x86_64  OK  OK  OK 
tokay1 Windows Server 2012 R2 Standard / x64  OK  OK  OK  OK UNNEEDED, same version exists in internal repository
merida1 macOS 10.14.6 Mojave / x86_64  OK  OK  OK  OK UNNEEDED, same version exists in internal repository
Package 95/1974HostnameOS / ArchINSTALLBUILDCHECKBUILD BIN
ASpli 2.0.0
Estefania Mancini
Last Commit: 641dc04
Last Changed Date: 2020-10-27 11:16:38 -0500
malbec1 Linux (Ubuntu 18.04.4 LTS) / x86_64  OK  OK  OK UNNEEDED, same version exists in internal repository
nebbiolo1 Linux (Ubuntu 20.04.1 LTS) / x86_64  OK  OK  OK 
tokay1 Windows Server 2012 R2 Standard / x64  OK  OK  OK  OK UNNEEDED, same version exists in internal repository
merida1 macOS 10.14.6 Mojave / x86_64  OK  OK  OK  OK UNNEEDED, same version exists in internal repository
Package 96/1974HostnameOS / ArchINSTALLBUILDCHECKBUILD BIN
AssessORF 1.8.0
Deepank Korandla
Last Commit: 3cb4cb1
Last Changed Date: 2020-10-27 11:40:18 -0500
malbec1 Linux (Ubuntu 18.04.4 LTS) / x86_64  OK  OK  OK UNNEEDED, same version exists in internal repository
nebbiolo1 Linux (Ubuntu 20.04.1 LTS) / x86_64  OK  OK  OK 
tokay1 Windows Server 2012 R2 Standard / x64  OK  OK  OK  OK UNNEEDED, same version exists in internal repository
merida1 macOS 10.14.6 Mojave / x86_64  OK  OK  OK  OK UNNEEDED, same version exists in internal repository
Package 97/1974HostnameOS / ArchINSTALLBUILDCHECKBUILD BIN
ASSET 2.8.0
Samsiddhi Bhattacharjee
Last Commit: aecd936
Last Changed Date: 2020-10-27 10:52:19 -0500
malbec1 Linux (Ubuntu 18.04.4 LTS) / x86_64  OK  OK  WARNINGS UNNEEDED, same version exists in internal repository
nebbiolo1 Linux (Ubuntu 20.04.1 LTS) / x86_64  OK  OK  WARNINGS 
tokay1 Windows Server 2012 R2 Standard / x64  OK  OK  WARNINGS  OK UNNEEDED, same version exists in internal repository
merida1 macOS 10.14.6 Mojave / x86_64  OK  OK  WARNINGS  OK UNNEEDED, same version exists in internal repository
Package 98/1974HostnameOS / ArchINSTALLBUILDCHECKBUILD BIN
ASSIGN 1.26.0
Ying Shen , W. Evan Johnson
Last Commit: a522dee
Last Changed Date: 2020-10-27 10:55:44 -0500
malbec1 Linux (Ubuntu 18.04.4 LTS) / x86_64  OK  OK  OK UNNEEDED, same version exists in internal repository
nebbiolo1 Linux (Ubuntu 20.04.1 LTS) / x86_64  OK  OK  OK 
tokay1 Windows Server 2012 R2 Standard / x64  OK  OK  OK  OK UNNEEDED, same version exists in internal repository
merida1 macOS 10.14.6 Mojave / x86_64  OK  OK  OK  OK UNNEEDED, same version exists in internal repository
Package 99/1974HostnameOS / ArchINSTALLBUILDCHECKBUILD BIN
ATACseqQC 1.14.4
Jianhong Ou
Last Commit: 0728a45
Last Changed Date: 2020-11-05 09:56:56 -0500
malbec1 Linux (Ubuntu 18.04.4 LTS) / x86_64  OK  OK  OK UNNEEDED, same version exists in internal repository
nebbiolo1 Linux (Ubuntu 20.04.1 LTS) / x86_64  OK  OK  OK 
tokay1 Windows Server 2012 R2 Standard / x64  OK  OK  OK  OK UNNEEDED, same version exists in internal repository
merida1 macOS 10.14.6 Mojave / x86_64  OK  OK  OK  OK UNNEEDED, same version exists in internal repository
Package 100/1974HostnameOS / ArchINSTALLBUILDCHECKBUILD BIN
atSNP 1.6.0
Sunyoung Shin
Last Commit: 03023cb
Last Changed Date: 2020-10-27 11:42:52 -0500
malbec1 Linux (Ubuntu 18.04.4 LTS) / x86_64  OK  ERROR  skipped 
nebbiolo1 Linux (Ubuntu 20.04.1 LTS) / x86_64  OK  ERROR  skipped 
tokay1 Windows Server 2012 R2 Standard / x64  OK  OK  OK  OK UNNEEDED, same version exists in internal repository
merida1 macOS 10.14.6 Mojave / x86_64  OK  OK  OK  OK UNNEEDED, same version exists in internal repository
Package 101/1974HostnameOS / ArchINSTALLBUILDCHECKBUILD BIN
attract 1.42.0
Samuel Zimmerman
Last Commit: e6d6973
Last Changed Date: 2020-10-27 10:38:24 -0500
malbec1 Linux (Ubuntu 18.04.4 LTS) / x86_64  OK  OK  OK UNNEEDED, same version exists in internal repository
nebbiolo1 Linux (Ubuntu 20.04.1 LTS) / x86_64  OK  OK  OK 
tokay1 Windows Server 2012 R2 Standard / x64  OK  OK  OK  OK UNNEEDED, same version exists in internal repository
merida1 macOS 10.14.6 Mojave / x86_64  OK  OK  OK  OK UNNEEDED, same version exists in internal repository
Package 102/1974HostnameOS / ArchINSTALLBUILDCHECKBUILD BIN
AUCell 1.12.0
Sara Aibar
Last Commit: 2286fa3
Last Changed Date: 2020-10-27 11:27:33 -0500
malbec1 Linux (Ubuntu 18.04.4 LTS) / x86_64  OK  OK  OK UNNEEDED, same version exists in internal repository
nebbiolo1 Linux (Ubuntu 20.04.1 LTS) / x86_64  OK  OK  OK 
tokay1 Windows Server 2012 R2 Standard / x64  OK  OK  OK  OK UNNEEDED, same version exists in internal repository
merida1 macOS 10.14.6 Mojave / x86_64  OK  OK  OK  OK UNNEEDED, same version exists in internal repository
Package 103/1974HostnameOS / ArchINSTALLBUILDCHECKBUILD BIN
Autotuner 1.4.0
Craig McLean
Last Commit: 9d402d7
Last Changed Date: 2020-10-27 11:47:39 -0500
malbec1 Linux (Ubuntu 18.04.4 LTS) / x86_64  OK  OK  OK UNNEEDED, same version exists in internal repository
nebbiolo1 Linux (Ubuntu 20.04.1 LTS) / x86_64  OK  OK  OK 
tokay1 Windows Server 2012 R2 Standard / x64  OK  OK  OK  OK UNNEEDED, same version exists in internal repository
merida1 macOS 10.14.6 Mojave / x86_64  OK  OK  OK  OK UNNEEDED, same version exists in internal repository
Package 104/1974HostnameOS / ArchINSTALLBUILDCHECKBUILD BIN
AWFisher 1.4.0
Zhiguang Huo
Last Commit: f83e5c2
Last Changed Date: 2020-10-27 11:47:23 -0500
malbec1 Linux (Ubuntu 18.04.4 LTS) / x86_64  OK  OK  OK UNNEEDED, same version exists in internal repository
nebbiolo1 Linux (Ubuntu 20.04.1 LTS) / x86_64  OK  OK  OK 
tokay1 Windows Server 2012 R2 Standard / x64  OK  OK  OK  OK UNNEEDED, same version exists in internal repository
merida1 macOS 10.14.6 Mojave / x86_64  OK  OK  OK  OK UNNEEDED, same version exists in internal repository
B
ABCDEFGHIJKLMNOPQRSTUVWXYZ
Package 105/1974HostnameOS / ArchINSTALLBUILDCHECKBUILD BIN
BaalChIP 1.16.0
Ines de Santiago
Last Commit: c466b6c
Last Changed Date: 2020-10-27 11:17:44 -0500
malbec1 Linux (Ubuntu 18.04.4 LTS) / x86_64  OK  OK  WARNINGS UNNEEDED, same version exists in internal repository
nebbiolo1 Linux (Ubuntu 20.04.1 LTS) / x86_64  OK  OK  WARNINGS 
tokay1 Windows Server 2012 R2 Standard / x64  OK  OK  WARNINGS  OK UNNEEDED, same version exists in internal repository
merida1 macOS 10.14.6 Mojave / x86_64  OK  OK  WARNINGS  OK UNNEEDED, same version exists in internal repository
Package 106/1974HostnameOS / ArchINSTALLBUILDCHECKBUILD BIN
BAC 1.50.0
Raphael Gottardo
Last Commit: 102457c
Last Changed Date: 2020-10-27 10:32:43 -0500
malbec1 Linux (Ubuntu 18.04.4 LTS) / x86_64  OK  OK  OK UNNEEDED, same version exists in internal repository
nebbiolo1 Linux (Ubuntu 20.04.1 LTS) / x86_64  OK  OK  OK 
tokay1 Windows Server 2012 R2 Standard / x64  OK  OK  OK  OK UNNEEDED, same version exists in internal repository
merida1 macOS 10.14.6 Mojave / x86_64  OK  OK  OK  OK UNNEEDED, same version exists in internal repository
Package 107/1974HostnameOS / ArchINSTALLBUILDCHECKBUILD BIN
bacon 1.18.0
Maarten van Iterson
Last Commit: 8eb9db7
Last Changed Date: 2020-10-27 11:12:21 -0500
malbec1 Linux (Ubuntu 18.04.4 LTS) / x86_64  OK  OK  OK UNNEEDED, same version exists in internal repository
nebbiolo1 Linux (Ubuntu 20.04.1 LTS) / x86_64  OK  OK  OK 
tokay1 Windows Server 2012 R2 Standard / x64  OK  OK  OK  OK UNNEEDED, same version exists in internal repository
merida1 macOS 10.14.6 Mojave / x86_64  OK  OK  OK  OK UNNEEDED, same version exists in internal repository
Package 108/1974HostnameOS / ArchINSTALLBUILDCHECKBUILD BIN
BADER 1.28.0
Andreas Neudecker
Last Commit: 68f8939
Last Changed Date: 2020-10-27 10:52:38 -0500
malbec1 Linux (Ubuntu 18.04.4 LTS) / x86_64  OK  OK  OK UNNEEDED, same version exists in internal repository
nebbiolo1 Linux (Ubuntu 20.04.1 LTS) / x86_64  OK  OK  OK 
tokay1 Windows Server 2012 R2 Standard / x64  OK  OK  OK  OK UNNEEDED, same version exists in internal repository
merida1 macOS 10.14.6 Mojave / x86_64  OK  OK  OK  OK UNNEEDED, same version exists in internal repository
Package 109/1974HostnameOS / ArchINSTALLBUILDCHECKBUILD BIN
BadRegionFinder 1.18.0
Sarah Sandmann
Last Commit: 54deba4
Last Changed Date: 2020-10-27 11:13:27 -0500
malbec1 Linux (Ubuntu 18.04.4 LTS) / x86_64  OK  OK  OK UNNEEDED, same version exists in internal repository
nebbiolo1 Linux (Ubuntu 20.04.1 LTS) / x86_64  OK  OK  OK 
tokay1 Windows Server 2012 R2 Standard / x64  OK  OK  OK  OK UNNEEDED, same version exists in internal repository
merida1 macOS 10.14.6 Mojave / x86_64  OK  OK  OK  OK UNNEEDED, same version exists in internal repository
Package 110/1974HostnameOS / ArchINSTALLBUILDCHECKBUILD BIN
BAGS 2.30.0
Alejandro Quiroz-Zarate
Last Commit: c96396d
Last Changed Date: 2020-10-27 10:44:28 -0500
malbec1 Linux (Ubuntu 18.04.4 LTS) / x86_64  OK  OK  OK UNNEEDED, same version exists in internal repository
nebbiolo1 Linux (Ubuntu 20.04.1 LTS) / x86_64  OK  OK  OK 
tokay1 Windows Server 2012 R2 Standard / x64  OK  OK  OK  OK UNNEEDED, same version exists in internal repository
merida1 macOS 10.14.6 Mojave / x86_64  OK  OK  OK  OK UNNEEDED, same version exists in internal repository
Package 111/1974HostnameOS / ArchINSTALLBUILDCHECKBUILD BIN
ballgown 2.22.0
Jack Fu
Last Commit: 3bb5d43
Last Changed Date: 2020-10-27 10:57:50 -0500
malbec1 Linux (Ubuntu 18.04.4 LTS) / x86_64  OK  OK  OK UNNEEDED, same version exists in internal repository
nebbiolo1 Linux (Ubuntu 20.04.1 LTS) / x86_64  OK  OK  OK 
tokay1 Windows Server 2012 R2 Standard / x64  OK  OK  OK  OK UNNEEDED, same version exists in internal repository
merida1 macOS 10.14.6 Mojave / x86_64  OK  OK  OK  OK UNNEEDED, same version exists in internal repository
Package 112/1974HostnameOS / ArchINSTALLBUILDCHECKBUILD BIN
bambu 1.0.2
Ying Chen
Last Commit: 5340451
Last Changed Date: 2020-11-10 05:41:08 -0500
malbec1 Linux (Ubuntu 18.04.4 LTS) / x86_64  OK  OK  OK UNNEEDED, same version exists in internal repository
nebbiolo1 Linux (Ubuntu 20.04.1 LTS) / x86_64  OK  OK  OK 
tokay1 Windows Server 2012 R2 Standard / x64  OK  OK  OK  OK UNNEEDED, same version exists in internal repository
merida1 macOS 10.14.6 Mojave / x86_64  OK  OK  OK  OK UNNEEDED, same version exists in internal repository
Package 113/1974HostnameOS / ArchINSTALLBUILDCHECKBUILD BIN
bamsignals 1.22.0
Johannes Helmuth
Last Commit: 5f53396
Last Changed Date: 2020-10-27 11:03:28 -0500
malbec1 Linux (Ubuntu 18.04.4 LTS) / x86_64  OK  OK  OK UNNEEDED, same version exists in internal repository
nebbiolo1 Linux (Ubuntu 20.04.1 LTS) / x86_64  OK  OK  OK 
tokay1 Windows Server 2012 R2 Standard / x64  OK  OK  OK  OK UNNEEDED, same version exists in internal repository
merida1 macOS 10.14.6 Mojave / x86_64  OK  OK  OK  OK UNNEEDED, same version exists in internal repository
Package 114/1974HostnameOS / ArchINSTALLBUILDCHECKBUILD BIN
BANDITS 1.6.0
Simone Tiberi
Last Commit: 5446a54
Last Changed Date: 2020-10-27 11:44:55 -0500
malbec1 Linux (Ubuntu 18.04.4 LTS) / x86_64  OK  OK  OK UNNEEDED, same version exists in internal repository
nebbiolo1 Linux (Ubuntu 20.04.1 LTS) / x86_64  OK  OK  OK 
tokay1 Windows Server 2012 R2 Standard / x64  OK  OK  OK  OK UNNEEDED, same version exists in internal repository
merida1 macOS 10.14.6 Mojave / x86_64  OK  OK  OK  OK UNNEEDED, same version exists in internal repository
Package 115/1974HostnameOS / ArchINSTALLBUILDCHECKBUILD BIN
banocc 1.14.0
George Weingart
Last Commit: cb11766
Last Changed Date: 2020-10-27 11:23:11 -0500
malbec1 Linux (Ubuntu 18.04.4 LTS) / x86_64  OK  OK  OK UNNEEDED, same version exists in internal repository
nebbiolo1 Linux (Ubuntu 20.04.1 LTS) / x86_64  OK  OK  OK 
tokay1 Windows Server 2012 R2 Standard / x64  OK  ERROR  skipped  skipped 
merida1 macOS 10.14.6 Mojave / x86_64  OK  OK  OK  OK UNNEEDED, same version exists in internal repository
Package 116/1974HostnameOS / ArchINSTALLBUILDCHECKBUILD BIN
basecallQC 1.14.0
Thomas Carroll
Last Commit: 0930609
Last Changed Date: 2020-10-27 11:23:18 -0500
malbec1 Linux (Ubuntu 18.04.4 LTS) / x86_64  OK  OK  OK UNNEEDED, same version exists in internal repository
nebbiolo1 Linux (Ubuntu 20.04.1 LTS) / x86_64  OK  OK  OK 
tokay1 Windows Server 2012 R2 Standard / x64  OK  OK  OK  OK UNNEEDED, same version exists in internal repository
merida1 macOS 10.14.6 Mojave / x86_64  OK  OK  OK  OK UNNEEDED, same version exists in internal repository
Package 117/1974HostnameOS / ArchINSTALLBUILDCHECKBUILD BIN
BaseSpaceR 1.34.0
Jared O'Connell
Last Commit: 40c323f
Last Changed Date: 2020-10-27 10:49:55 -0500
malbec1 Linux (Ubuntu 18.04.4 LTS) / x86_64  OK  OK  OK UNNEEDED, same version exists in internal repository
nebbiolo1 Linux (Ubuntu 20.04.1 LTS) / x86_64  OK  OK  OK 
tokay1 Windows Server 2012 R2 Standard / x64  OK  OK  OK  OK UNNEEDED, same version exists in internal repository
merida1 macOS 10.14.6 Mojave / x86_64  OK  OK  OK  OK UNNEEDED, same version exists in internal repository
Package 118/1974HostnameOS / ArchINSTALLBUILDCHECKBUILD BIN
Basic4Cseq 1.26.0
Carolin Walter
Last Commit: aa3db3b
Last Changed Date: 2020-10-27 10:55:12 -0500
malbec1 Linux (Ubuntu 18.04.4 LTS) / x86_64  OK  OK  OK UNNEEDED, same version exists in internal repository
nebbiolo1 Linux (Ubuntu 20.04.1 LTS) / x86_64  OK  OK  OK 
tokay1 Windows Server 2012 R2 Standard / x64  OK  OK  OK  OK UNNEEDED, same version exists in internal repository
merida1 macOS 10.14.6 Mojave / x86_64  OK  OK  OK  OK UNNEEDED, same version exists in internal repository
Package 119/1974HostnameOS / ArchINSTALLBUILDCHECKBUILD BIN
BASiCS 2.2.0
Catalina Vallejos
Last Commit: 75577c4
Last Changed Date: 2020-10-27 11:28:04 -0500
malbec1 Linux (Ubuntu 18.04.4 LTS) / x86_64  OK  OK  OK UNNEEDED, same version exists in internal repository
nebbiolo1 Linux (Ubuntu 20.04.1 LTS) / x86_64  OK  OK  OK 
tokay1 Windows Server 2012 R2 Standard / x64  OK  OK  OK  OK UNNEEDED, same version exists in internal repository
merida1 macOS 10.14.6 Mojave / x86_64  OK  OK  OK  OK UNNEEDED, same version exists in internal repository
Package 120/1974HostnameOS / ArchINSTALLBUILDCHECKBUILD BIN
BasicSTARRseq 1.18.0
Annika Buerger
Last Commit: acae287
Last Changed Date: 2020-10-27 11:10:59 -0500
malbec1 Linux (Ubuntu 18.04.4 LTS) / x86_64  OK  OK  OK UNNEEDED, same version exists in internal repository
nebbiolo1 Linux (Ubuntu 20.04.1 LTS) / x86_64  OK  OK  OK 
tokay1 Windows Server 2012 R2 Standard / x64  OK  OK  OK  OK UNNEEDED, same version exists in internal repository
merida1 macOS 10.14.6 Mojave / x86_64  OK  OK  OK  OK UNNEEDED, same version exists in internal repository
Package 121/1974HostnameOS / ArchINSTALLBUILDCHECKBUILD BIN
basilisk 1.2.0
Aaron Lun
Last Commit: b16b446
Last Changed Date: 2020-10-27 11:53:26 -0500
malbec1 Linux (Ubuntu 18.04.4 LTS) / x86_64  OK  OK  OK UNNEEDED, same version exists in internal repository
nebbiolo1 Linux (Ubuntu 20.04.1 LTS) / x86_64  OK  OK  OK 
tokay1 Windows Server 2012 R2 Standard / x64  OK  OK  OK  OK UNNEEDED, same version exists in internal repository
merida1 macOS 10.14.6 Mojave / x86_64  OK  OK  OK  OK UNNEEDED, same version exists in internal repository
Package 122/1974HostnameOS / ArchINSTALLBUILDCHECKBUILD BIN
basilisk.utils 1.2.0
Aaron Lun
Last Commit: b213e3f
Last Changed Date: 2020-10-27 11:53:41 -0500
malbec1 Linux (Ubuntu 18.04.4 LTS) / x86_64  OK  OK  OK UNNEEDED, same version exists in internal repository
nebbiolo1 Linux (Ubuntu 20.04.1 LTS) / x86_64  OK  OK  OK 
tokay1 Windows Server 2012 R2 Standard / x64  OK  OK  OK  OK UNNEEDED, same version exists in internal repository
merida1 macOS 10.14.6 Mojave / x86_64  OK  OK  OK  OK UNNEEDED, same version exists in internal repository
Package 123/1974HostnameOS / ArchINSTALLBUILDCHECKBUILD BIN
batchelor 1.6.1
Aaron Lun
Last Commit: 92b6b86
Last Changed Date: 2020-11-17 00:06:09 -0500
malbec1 Linux (Ubuntu 18.04.4 LTS) / x86_64  OK  OK  OK UNNEEDED, same version exists in internal repository
nebbiolo1 Linux (Ubuntu 20.04.1 LTS) / x86_64  OK  OK  OK 
tokay1 Windows Server 2012 R2 Standard / x64  OK  OK  OK  OK UNNEEDED, same version exists in internal repository
merida1 macOS 10.14.6 Mojave / x86_64  OK  OK  OK  OK UNNEEDED, same version exists in internal repository
Package 124/1974HostnameOS / ArchINSTALLBUILDCHECKBUILD BIN
BatchQC 1.18.0
Solaiappan Manimaran
Last Commit: 448a06a
Last Changed Date: 2020-10-27 11:13:48 -0500
malbec1 Linux (Ubuntu 18.04.4 LTS) / x86_64  OK  OK  OK UNNEEDED, same version exists in internal repository
nebbiolo1 Linux (Ubuntu 20.04.1 LTS) / x86_64  OK  OK  OK 
tokay1 Windows Server 2012 R2 Standard / x64  OK  OK  OK  OK UNNEEDED, same version exists in internal repository
merida1 macOS 10.14.6 Mojave / x86_64  OK  OK  OK  OK UNNEEDED, same version exists in internal repository
Package 125/1974HostnameOS / ArchINSTALLBUILDCHECKBUILD BIN
BayesKnockdown 1.16.0
William Chad Young
Last Commit: e11dfe6
Last Changed Date: 2020-10-27 11:16:44 -0500
malbec1 Linux (Ubuntu 18.04.4 LTS) / x86_64  OK  OK  OK UNNEEDED, same version exists in internal repository
nebbiolo1 Linux (Ubuntu 20.04.1 LTS) / x86_64  OK  OK  OK 
tokay1 Windows Server 2012 R2 Standard / x64  OK  OK  OK  OK UNNEEDED, same version exists in internal repository
merida1 macOS 10.14.6 Mojave / x86_64  OK  OK  OK  OK UNNEEDED, same version exists in internal repository
Package 126/1974HostnameOS / ArchINSTALLBUILDCHECKBUILD BIN
BayesSpace 1.0.0
Matt Stone
Last Commit: 6398aec
Last Changed Date: 2020-10-27 12:02:12 -0500
malbec1 Linux (Ubuntu 18.04.4 LTS) / x86_64  OK  OK  OK UNNEEDED, same version exists in internal repository
nebbiolo1 Linux (Ubuntu 20.04.1 LTS) / x86_64  OK  OK  OK 
tokay1 Windows Server 2012 R2 Standard / x64  OK  OK  OK  OK UNNEEDED, same version exists in internal repository
merida1 macOS 10.14.6 Mojave / x86_64  OK  OK  OK  OK UNNEEDED, same version exists in internal repository
Package 127/1974HostnameOS / ArchINSTALLBUILDCHECKBUILD BIN
bayNorm 1.8.0
Wenhao Tang
Last Commit: 430ae33
Last Changed Date: 2020-10-27 11:39:35 -0500
malbec1 Linux (Ubuntu 18.04.4 LTS) / x86_64  OK  OK  OK UNNEEDED, same version exists in internal repository
nebbiolo1 Linux (Ubuntu 20.04.1 LTS) / x86_64  OK  OK  OK 
tokay1 Windows Server 2012 R2 Standard / x64  OK  OK  OK  OK UNNEEDED, same version exists in internal repository
merida1 macOS 10.14.6 Mojave / x86_64  OK  OK  OK  OK UNNEEDED, same version exists in internal repository
Package 128/1974HostnameOS / ArchINSTALLBUILDCHECKBUILD BIN
baySeq 2.24.0
Thomas J. Hardcastle
Last Commit: 4221784
Last Changed Date: 2020-10-27 10:36:38 -0500
malbec1 Linux (Ubuntu 18.04.4 LTS) / x86_64  OK  OK  OK UNNEEDED, same version exists in internal repository
nebbiolo1 Linux (Ubuntu 20.04.1 LTS) / x86_64  OK  OK  OK 
tokay1 Windows Server 2012 R2 Standard / x64  OK  OK  OK  OK UNNEEDED, same version exists in internal repository
merida1 macOS 10.14.6 Mojave / x86_64  OK  OK  OK  OK UNNEEDED, same version exists in internal repository
Package 129/1974HostnameOS / ArchINSTALLBUILDCHECKBUILD BIN
BBCAnalyzer 1.20.0
Sarah Sandmann
Last Commit: 1ab650d
Last Changed Date: 2020-10-27 11:07:21 -0500
malbec1 Linux (Ubuntu 18.04.4 LTS) / x86_64  OK  OK  OK UNNEEDED, same version exists in internal repository
nebbiolo1 Linux (Ubuntu 20.04.1 LTS) / x86_64  OK  OK  OK 
tokay1 Windows Server 2012 R2 Standard / x64  OK  OK  WARNINGS  OK UNNEEDED, same version exists in internal repository
merida1 macOS 10.14.6 Mojave / x86_64  OK  OK  OK  OK UNNEEDED, same version exists in internal repository
Package 130/1974HostnameOS / ArchINSTALLBUILDCHECKBUILD BIN
BCRANK 1.52.0
Adam Ameur
Last Commit: 4976ef5
Last Changed Date: 2020-10-27 10:32:55 -0500
malbec1 Linux (Ubuntu 18.04.4 LTS) / x86_64  OK  OK  OK UNNEEDED, same version exists in internal repository
nebbiolo1 Linux (Ubuntu 20.04.1 LTS) / x86_64  OK  OK  OK 
tokay1 Windows Server 2012 R2 Standard / x64  OK  OK  OK  OK UNNEEDED, same version exists in internal repository
merida1 macOS 10.14.6 Mojave / x86_64  OK  OK  OK  OK UNNEEDED, same version exists in internal repository
Package 131/1974HostnameOS / ArchINSTALLBUILDCHECKBUILD BIN
bcSeq 1.12.0
Jiaxing Lin
Last Commit: 6fc7a71
Last Changed Date: 2020-10-27 11:30:03 -0500
malbec1 Linux (Ubuntu 18.04.4 LTS) / x86_64  OK  OK  OK UNNEEDED, same version exists in internal repository
nebbiolo1 Linux (Ubuntu 20.04.1 LTS) / x86_64  OK  OK  WARNINGS 
tokay1 Windows Server 2012 R2 Standard / x64  OK  OK  WARNINGS  OK UNNEEDED, same version exists in internal repository
merida1 macOS 10.14.6 Mojave / x86_64  OK  OK  OK  OK UNNEEDED, same version exists in internal repository
Package 132/1974HostnameOS / ArchINSTALLBUILDCHECKBUILD BIN
BDMMAcorrect 1.8.0
ZHENWEI DAI
Last Commit: 0e87f21
Last Changed Date: 2020-10-27 11:40:39 -0500
malbec1 Linux (Ubuntu 18.04.4 LTS) / x86_64  OK  OK  OK UNNEEDED, same version exists in internal repository
nebbiolo1 Linux (Ubuntu 20.04.1 LTS) / x86_64  OK  OK  OK 
tokay1 Windows Server 2012 R2 Standard / x64  OK  OK  OK  OK UNNEEDED, same version exists in internal repository
merida1 macOS 10.14.6 Mojave / x86_64  OK  OK  OK  OK UNNEEDED, same version exists in internal repository
Package 133/1974HostnameOS / ArchINSTALLBUILDCHECKBUILD BIN
beachmat 2.6.2
Aaron Lun
Last Commit: 4954f9e
Last Changed Date: 2020-11-24 01:54:55 -0500
malbec1 Linux (Ubuntu 18.04.4 LTS) / x86_64  OK  OK  OK YES, new version is higher than in internal repository
nebbiolo1 Linux (Ubuntu 20.04.1 LTS) / x86_64  OK  OK  OK 
tokay1 Windows Server 2012 R2 Standard / x64  OK  OK  OK  OK YES, new version is higher than in internal repository
merida1 macOS 10.14.6 Mojave / x86_64  OK  OK  OK  OK YES, new version is higher than in internal repository
Package 134/1974HostnameOS / ArchINSTALLBUILDCHECKBUILD BIN
beadarray 2.40.0
Mark Dunning
Last Commit: 785579b
Last Changed Date: 2020-10-27 10:28:02 -0500
malbec1 Linux (Ubuntu 18.04.4 LTS) / x86_64  OK  OK  OK UNNEEDED, same version exists in internal repository
nebbiolo1 Linux (Ubuntu 20.04.1 LTS) / x86_64  OK  OK  OK 
tokay1 Windows Server 2012 R2 Standard / x64  OK  OK  OK  OK UNNEEDED, same version exists in internal repository
merida1 macOS 10.14.6 Mojave / x86_64  OK  OK  OK  OK UNNEEDED, same version exists in internal repository
Package 135/1974HostnameOS / ArchINSTALLBUILDCHECKBUILD BIN
beadarraySNP 1.56.0
Jan Oosting
Last Commit: 49500dd
Last Changed Date: 2020-10-27 10:29:26 -0500
malbec1 Linux (Ubuntu 18.04.4 LTS) / x86_64  OK  OK  OK UNNEEDED, same version exists in internal repository
nebbiolo1 Linux (Ubuntu 20.04.1 LTS) / x86_64  OK  OK  OK 
tokay1 Windows Server 2012 R2 Standard / x64  OK  OK  OK  OK UNNEEDED, same version exists in internal repository
merida1 macOS 10.14.6 Mojave / x86_64  OK  OK  OK  OK UNNEEDED, same version exists in internal repository
Package 136/1974HostnameOS / ArchINSTALLBUILDCHECKBUILD BIN
BeadDataPackR 1.42.0
Mike Smith
Last Commit: 95371b9
Last Changed Date: 2020-10-27 10:37:45 -0500
malbec1 Linux (Ubuntu 18.04.4 LTS) / x86_64  OK  OK  OK UNNEEDED, same version exists in internal repository
nebbiolo1 Linux (Ubuntu 20.04.1 LTS) / x86_64  OK  OK  OK 
tokay1 Windows Server 2012 R2 Standard / x64  OK  OK  OK  OK UNNEEDED, same version exists in internal repository
merida1 macOS 10.14.6 Mojave / x86_64  OK  OK  OK  OK UNNEEDED, same version exists in internal repository
Package 137/1974HostnameOS / ArchINSTALLBUILDCHECKBUILD BIN
BEARscc 1.10.0
Benjamin Schuster-Boeckler
Last Commit: e20aa4b
Last Changed Date: 2020-10-27 11:31:46 -0500
malbec1 Linux (Ubuntu 18.04.4 LTS) / x86_64  OK  OK  OK UNNEEDED, same version exists in internal repository
nebbiolo1 Linux (Ubuntu 20.04.1 LTS) / x86_64  OK  OK  OK 
tokay1 Windows Server 2012 R2 Standard / x64  OK  OK  OK  OK UNNEEDED, same version exists in internal repository
merida1 macOS 10.14.6 Mojave / x86_64  OK  OK  OK  OK UNNEEDED, same version exists in internal repository
Package 138/1974HostnameOS / ArchINSTALLBUILDCHECKBUILD BIN
BEAT 1.28.0
Kemal Akman
Last Commit: 5406d3d
Last Changed Date: 2020-10-27 10:54:23 -0500
malbec1 Linux (Ubuntu 18.04.4 LTS) / x86_64  OK  OK  OK UNNEEDED, same version exists in internal repository
nebbiolo1 Linux (Ubuntu 20.04.1 LTS) / x86_64  OK  OK  OK 
tokay1 Windows Server 2012 R2 Standard / x64  OK  OK  OK  OK UNNEEDED, same version exists in internal repository
merida1 macOS 10.14.6 Mojave / x86_64  OK  OK  OK  OK UNNEEDED, same version exists in internal repository
Package 139/1974HostnameOS / ArchINSTALLBUILDCHECKBUILD BIN
BEclear 2.6.0
David Rasp
Last Commit: c0d806a
Last Changed Date: 2020-10-27 11:05:28 -0500
malbec1 Linux (Ubuntu 18.04.4 LTS) / x86_64  OK  OK  WARNINGS UNNEEDED, same version exists in internal repository
nebbiolo1 Linux (Ubuntu 20.04.1 LTS) / x86_64  OK  OK  WARNINGS 
tokay1 Windows Server 2012 R2 Standard / x64  OK  OK  WARNINGS  OK UNNEEDED, same version exists in internal repository
merida1 macOS 10.14.6 Mojave / x86_64  OK  OK  WARNINGS  OK UNNEEDED, same version exists in internal repository
Package 140/1974HostnameOS / ArchINSTALLBUILDCHECKBUILD BIN
BgeeCall 1.6.1
Julien Wollbrett
Last Commit: c5ae949
Last Changed Date: 2020-11-17 08:53:50 -0500
malbec1 Linux (Ubuntu 18.04.4 LTS) / x86_64  OK  OK  OK UNNEEDED, same version exists in internal repository
nebbiolo1 Linux (Ubuntu 20.04.1 LTS) / x86_64  OK  OK  OK 
tokay1 Windows Server 2012 R2 Standard / x64  OK  ERROR  skipped  skipped 
merida1 macOS 10.14.6 Mojave / x86_64  OK  OK  OK  OK UNNEEDED, same version exists in internal repository
Package 141/1974HostnameOS / ArchINSTALLBUILDCHECKBUILD BIN
BgeeDB 2.16.0
Julien Wollbrett , Julien Roux , Andrea Komljenovic , Frederic Bastian
Last Commit: ce6dd8f
Last Changed Date: 2020-10-27 11:14:01 -0500
malbec1 Linux (Ubuntu 18.04.4 LTS) / x86_64  OK  OK  OK UNNEEDED, same version exists in internal repository
nebbiolo1 Linux (Ubuntu 20.04.1 LTS) / x86_64  OK  OK  OK 
tokay1 Windows Server 2012 R2 Standard / x64  OK  OK  OK  OK UNNEEDED, same version exists in internal repository
merida1 macOS 10.14.6 Mojave / x86_64  OK  OK  OK  OK UNNEEDED, same version exists in internal repository
Package 142/1974HostnameOS / ArchINSTALLBUILDCHECKBUILD BIN
BGmix 1.50.0
Alex Lewin
Last Commit: 3e2c6f2
Last Changed Date: 2020-10-27 10:32:32 -0500
malbec1 Linux (Ubuntu 18.04.4 LTS) / x86_64  OK  OK  WARNINGS UNNEEDED, same version exists in internal repository
nebbiolo1 Linux (Ubuntu 20.04.1 LTS) / x86_64  OK  OK  WARNINGS 
tokay1 Windows Server 2012 R2 Standard / x64 ...NOT SUPPORTED...
merida1 macOS 10.14.6 Mojave / x86_64  OK  OK  OK  OK UNNEEDED, same version exists in internal repository
Package 143/1974HostnameOS / ArchINSTALLBUILDCHECKBUILD BIN
bgx 1.56.0
Ernest Turro
Last Commit: 45eff47
Last Changed Date: 2020-10-27 10:31:16 -0500
malbec1 Linux (Ubuntu 18.04.4 LTS) / x86_64  OK  OK  OK UNNEEDED, same version exists in internal repository
nebbiolo1 Linux (Ubuntu 20.04.1 LTS) / x86_64  OK  OK  OK 
tokay1 Windows Server 2012 R2 Standard / x64  OK  OK  OK  OK UNNEEDED, same version exists in internal repository
merida1 macOS 10.14.6 Mojave / x86_64  OK  OK  WARNINGS  OK UNNEEDED, same version exists in internal repository
Package 144/1974HostnameOS / ArchINSTALLBUILDCHECKBUILD BIN
BHC 1.42.0
Rich Savage
Last Commit: 8e8e9b4
Last Changed Date: 2020-10-27 10:38:29 -0500
malbec1 Linux (Ubuntu 18.04.4 LTS) / x86_64  OK  OK  OK UNNEEDED, same version exists in internal repository
nebbiolo1 Linux (Ubuntu 20.04.1 LTS) / x86_64  OK  OK  OK 
tokay1 Windows Server 2012 R2 Standard / x64  OK  OK  OK  OK UNNEEDED, same version exists in internal repository
merida1 macOS 10.14.6 Mojave / x86_64  OK  OK  OK  OK UNNEEDED, same version exists in internal repository
Package 145/1974HostnameOS / ArchINSTALLBUILDCHECKBUILD BIN
BicARE 1.48.0
Pierre Gestraud
Last Commit: 15e7609
Last Changed Date: 2020-10-27 10:34:52 -0500
malbec1 Linux (Ubuntu 18.04.4 LTS) / x86_64  OK  OK  OK UNNEEDED, same version exists in internal repository
nebbiolo1 Linux (Ubuntu 20.04.1 LTS) / x86_64  OK  OK  OK 
tokay1 Windows Server 2012 R2 Standard / x64  OK  OK  OK  OK UNNEEDED, same version exists in internal repository
merida1 macOS 10.14.6 Mojave / x86_64  OK  OK  OK  OK UNNEEDED, same version exists in internal repository
Package 146/1974HostnameOS / ArchINSTALLBUILDCHECKBUILD BIN
BiFET 1.10.0
Ahrim Youn
Last Commit: 6562e26
Last Changed Date: 2020-10-27 11:31:12 -0500
malbec1 Linux (Ubuntu 18.04.4 LTS) / x86_64  OK  OK  OK UNNEEDED, same version exists in internal repository
nebbiolo1 Linux (Ubuntu 20.04.1 LTS) / x86_64  OK  OK  OK 
tokay1 Windows Server 2012 R2 Standard / x64  OK  OK  OK  OK UNNEEDED, same version exists in internal repository
merida1 macOS 10.14.6 Mojave / x86_64  OK  OK  OK  OK UNNEEDED, same version exists in internal repository
Package 147/1974HostnameOS / ArchINSTALLBUILDCHECKBUILD BIN
BiGGR 1.26.0
Anand K. Gavai
Last Commit: dde16eb
Last Changed Date: 2020-10-27 10:52:29 -0500
malbec1 Linux (Ubuntu 18.04.4 LTS) / x86_64  OK  OK  WARNINGS UNNEEDED, same version exists in internal repository
nebbiolo1 Linux (Ubuntu 20.04.1 LTS) / x86_64  ERROR  ERROR  skipped 
tokay1 Windows Server 2012 R2 Standard / x64  OK  OK  WARNINGS  OK UNNEEDED, same version exists in internal repository
merida1 macOS 10.14.6 Mojave / x86_64 ...NOT SUPPORTED...
Package 148/1974HostnameOS / ArchINSTALLBUILDCHECKBUILD BIN
bigmelon 1.16.0
Tyler J. Gorrie-Stone
Last Commit: e87386b
Last Changed Date: 2020-10-27 11:17:49 -0500
malbec1 Linux (Ubuntu 18.04.4 LTS) / x86_64  OK  OK  OK UNNEEDED, same version exists in internal repository
nebbiolo1 Linux (Ubuntu 20.04.1 LTS) / x86_64  OK  OK  OK 
tokay1 Windows Server 2012 R2 Standard / x64  OK  OK  OK  OK UNNEEDED, same version exists in internal repository
merida1 macOS 10.14.6 Mojave / x86_64  OK  OK  OK  OK UNNEEDED, same version exists in internal repository
Package 149/1974HostnameOS / ArchINSTALLBUILDCHECKBUILD BIN
bigmemoryExtras 1.38.0
Peter M. Haverty
Last Commit: 3731aac
Last Changed Date: 2020-10-27 10:47:34 -0500
malbec1 Linux (Ubuntu 18.04.4 LTS) / x86_64  OK  OK  WARNINGS UNNEEDED, same version exists in internal repository
nebbiolo1 Linux (Ubuntu 20.04.1 LTS) / x86_64  OK  OK  WARNINGS 
tokay1 Windows Server 2012 R2 Standard / x64 ...NOT SUPPORTED...
merida1 macOS 10.14.6 Mojave / x86_64  OK  OK  WARNINGS  OK UNNEEDED, same version exists in internal repository
Package 150/1974HostnameOS / ArchINSTALLBUILDCHECKBUILD BIN
bigPint 1.6.0
Lindsay Rutter
Last Commit: e7062bb
Last Changed Date: 2020-10-27 11:41:54 -0500
malbec1 Linux (Ubuntu 18.04.4 LTS) / x86_64  OK  OK  OK UNNEEDED, same version exists in internal repository
nebbiolo1 Linux (Ubuntu 20.04.1 LTS) / x86_64  OK  OK  OK 
tokay1 Windows Server 2012 R2 Standard / x64  OK  OK  OK  OK UNNEEDED, same version exists in internal repository
merida1 macOS 10.14.6 Mojave / x86_64  OK  OK  OK  OK UNNEEDED, same version exists in internal repository
Package 151/1974HostnameOS / ArchINSTALLBUILDCHECKBUILD BIN
bioassayR 1.28.0
Tyler Backman
Last Commit: 490f2c7
Last Changed Date: 2020-10-27 10:53:10 -0500
malbec1 Linux (Ubuntu 18.04.4 LTS) / x86_64  OK  OK  OK UNNEEDED, same version exists in internal repository
nebbiolo1 Linux (Ubuntu 20.04.1 LTS) / x86_64  OK  OK  OK 
tokay1 Windows Server 2012 R2 Standard / x64  OK  OK  OK  OK UNNEEDED, same version exists in internal repository
merida1 macOS 10.14.6 Mojave / x86_64  OK  OK  OK  OK UNNEEDED, same version exists in internal repository
Package 152/1974HostnameOS / ArchINSTALLBUILDCHECKBUILD BIN
Biobase 2.50.0
Bioconductor Package Maintainer
Last Commit: 9927f90
Last Changed Date: 2020-10-27 10:21:30 -0500
malbec1 Linux (Ubuntu 18.04.4 LTS) / x86_64  OK  OK  OK UNNEEDED, same version exists in internal repository
nebbiolo1 Linux (Ubuntu 20.04.1 LTS) / x86_64  OK  OK  OK 
tokay1 Windows Server 2012 R2 Standard / x64  OK  OK  OK  OK UNNEEDED, same version exists in internal repository
merida1 macOS 10.14.6 Mojave / x86_64  OK  OK  OK  OK UNNEEDED, same version exists in internal repository
Package 153/1974HostnameOS / ArchINSTALLBUILDCHECKBUILD BIN
biobroom 1.22.0
John D. Storey and Andrew J. Bass
Last Commit: 8fe86f2
Last Changed Date: 2020-10-27 11:09:12 -0500
malbec1 Linux (Ubuntu 18.04.4 LTS) / x86_64  OK  OK  OK UNNEEDED, same version exists in internal repository
nebbiolo1 Linux (Ubuntu 20.04.1 LTS) / x86_64  OK  OK  OK 
tokay1 Windows Server 2012 R2 Standard / x64  OK  OK  WARNINGS  OK UNNEEDED, same version exists in internal repository
merida1 macOS 10.14.6 Mojave / x86_64  OK  OK  OK  OK UNNEEDED, same version exists in internal repository
Package 154/1974HostnameOS / ArchINSTALLBUILDCHECKBUILD BIN
biobtreeR 1.2.0
Tamer Gur
Last Commit: e217ab5
Last Changed Date: 2020-10-27 11:52:17 -0500
malbec1 Linux (Ubuntu 18.04.4 LTS) / x86_64  OK  OK  OK UNNEEDED, same version exists in internal repository
nebbiolo1 Linux (Ubuntu 20.04.1 LTS) / x86_64  OK  OK  OK 
tokay1 Windows Server 2012 R2 Standard / x64  OK  OK  OK  OK UNNEEDED, same version exists in internal repository
merida1 macOS 10.14.6 Mojave / x86_64  OK  OK  OK  OK UNNEEDED, same version exists in internal repository
Package 155/1974HostnameOS / ArchINSTALLBUILDCHECKBUILD BIN
bioCancer 1.18.0
Karim Mezhoud
Last Commit: caddbd9
Last Changed Date: 2020-10-27 11:14:59 -0500
malbec1 Linux (Ubuntu 18.04.4 LTS) / x86_64  OK  OK  WARNINGS UNNEEDED, same version exists in internal repository
nebbiolo1 Linux (Ubuntu 20.04.1 LTS) / x86_64  OK  OK  WARNINGS 
tokay1 Windows Server 2012 R2 Standard / x64  OK  OK  WARNINGS  OK UNNEEDED, same version exists in internal repository
merida1 macOS 10.14.6 Mojave / x86_64  OK  OK  WARNINGS  OK UNNEEDED, same version exists in internal repository
Package 156/1974HostnameOS / ArchINSTALLBUILDCHECKBUILD BIN
BiocCaseStudies 1.52.0
Bioconductor Package Maintainer
Last Commit: 5b6b517
Last Changed Date: 2020-10-27 10:32:29 -0500
malbec1 Linux (Ubuntu 18.04.4 LTS) / x86_64  OK  OK  OK UNNEEDED, same version exists in internal repository
nebbiolo1 Linux (Ubuntu 20.04.1 LTS) / x86_64  OK  OK  OK 
tokay1 Windows Server 2012 R2 Standard / x64  OK  OK  OK  OK UNNEEDED, same version exists in internal repository
merida1 macOS 10.14.6 Mojave / x86_64  OK  OK  OK  OK UNNEEDED, same version exists in internal repository
Package 157/1974HostnameOS / ArchINSTALLBUILDCHECKBUILD BIN
BiocCheck 1.26.0
Bioconductor Package Maintainer
Last Commit: f80471c
Last Changed Date: 2020-10-27 10:56:00 -0500
malbec1 Linux (Ubuntu 18.04.4 LTS) / x86_64  OK  OK  OK UNNEEDED, same version exists in internal repository
nebbiolo1 Linux (Ubuntu 20.04.1 LTS) / x86_64  OK  OK  OK 
tokay1 Windows Server 2012 R2 Standard / x64  OK  OK  OK  OK UNNEEDED, same version exists in internal repository
merida1 macOS 10.14.6 Mojave / x86_64  OK  OK  OK  OK UNNEEDED, same version exists in internal repository
Package 158/1974HostnameOS / ArchINSTALLBUILDCHECKBUILD BIN
BiocDockerManager 1.2.0
Bioconductor Package Maintainer
Last Commit: 9180388
Last Changed Date: 2020-10-27 11:55:09 -0500
malbec1 Linux (Ubuntu 18.04.4 LTS) / x86_64  OK  OK  OK UNNEEDED, same version exists in internal repository
nebbiolo1 Linux (Ubuntu 20.04.1 LTS) / x86_64  OK  OK  OK 
tokay1 Windows Server 2012 R2 Standard / x64  OK  OK  OK  OK UNNEEDED, same version exists in internal repository
merida1 macOS 10.14.6 Mojave / x86_64  OK  OK  OK  OK UNNEEDED, same version exists in internal repository
Package 159/1974HostnameOS / ArchINSTALLBUILDCHECKBUILD BIN
BiocFileCache 1.14.0
Lori Shepherd
Last Commit: cdcde4b
Last Changed Date: 2020-10-27 11:22:34 -0500
malbec1 Linux (Ubuntu 18.04.4 LTS) / x86_64  OK  OK  OK UNNEEDED, same version exists in internal repository
nebbiolo1 Linux (Ubuntu 20.04.1 LTS) / x86_64  OK  OK  OK 
tokay1 Windows Server 2012 R2 Standard / x64  OK  OK  OK  OK UNNEEDED, same version exists in internal repository
merida1 macOS 10.14.6 Mojave / x86_64  OK  OK  OK  OK UNNEEDED, same version exists in internal repository
Package 160/1974HostnameOS / ArchINSTALLBUILDCHECKBUILD BIN
BiocGenerics 0.36.0
Bioconductor Package Maintainer
Last Commit: 0d5d169
Last Changed Date: 2020-10-27 10:44:05 -0500
malbec1 Linux (Ubuntu 18.04.4 LTS) / x86_64  OK  OK  WARNINGS UNNEEDED, same version exists in internal repository
nebbiolo1 Linux (Ubuntu 20.04.1 LTS) / x86_64  OK  OK  WARNINGS 
tokay1 Windows Server 2012 R2 Standard / x64  OK  OK  WARNINGS  OK UNNEEDED, same version exists in internal repository
merida1 macOS 10.14.6 Mojave / x86_64  OK  OK  WARNINGS  OK UNNEEDED, same version exists in internal repository
Package 161/1974HostnameOS / ArchINSTALLBUILDCHECKBUILD BIN
biocGraph 1.52.0
Florian Hahne
Last Commit: 0ffc853
Last Changed Date: 2020-10-27 10:31:29 -0500
malbec1 Linux (Ubuntu 18.04.4 LTS) / x86_64  OK  OK  OK UNNEEDED, same version exists in internal repository
nebbiolo1 Linux (Ubuntu 20.04.1 LTS) / x86_64  OK  OK  OK 
tokay1 Windows Server 2012 R2 Standard / x64  OK  OK  OK  OK UNNEEDED, same version exists in internal repository
merida1 macOS 10.14.6 Mojave / x86_64  OK  OK  OK  OK UNNEEDED, same version exists in internal repository
Package 162/1974HostnameOS / ArchINSTALLBUILDCHECKBUILD BIN
BiocIO 1.0.1
Bioconductor Package Maintainer
Last Commit: 724abe7
Last Changed Date: 2020-11-09 08:42:03 -0500
malbec1 Linux (Ubuntu 18.04.4 LTS) / x86_64  OK  OK  OK UNNEEDED, same version exists in internal repository
nebbiolo1 Linux (Ubuntu 20.04.1 LTS) / x86_64  OK  OK  OK 
tokay1 Windows Server 2012 R2 Standard / x64  OK  OK  WARNINGS  OK UNNEEDED, same version exists in internal repository
merida1 macOS 10.14.6 Mojave / x86_64  OK  OK  OK  OK UNNEEDED, same version exists in internal repository
Package 163/1974HostnameOS / ArchINSTALLBUILDCHECKBUILD BIN
BiocNeighbors 1.8.1
Aaron Lun
Last Commit: baa1a39
Last Changed Date: 2020-11-11 13:19:47 -0500
malbec1 Linux (Ubuntu 18.04.4 LTS) / x86_64  OK  OK  OK UNNEEDED, same version exists in internal repository
nebbiolo1 Linux (Ubuntu 20.04.1 LTS) / x86_64  OK  OK  OK 
tokay1 Windows Server 2012 R2 Standard / x64  OK  OK  OK  OK UNNEEDED, same version exists in internal repository
merida1 macOS 10.14.6 Mojave / x86_64  OK  OK  OK  OK UNNEEDED, same version exists in internal repository
Package 164/1974HostnameOS / ArchINSTALLBUILDCHECKBUILD BIN
BiocOncoTK 1.10.0
VJ Carey
Last Commit: 4267875
Last Changed Date: 2020-10-27 11:35:12 -0500
malbec1 Linux (Ubuntu 18.04.4 LTS) / x86_64  OK  OK  OK UNNEEDED, same version exists in internal repository
nebbiolo1 Linux (Ubuntu 20.04.1 LTS) / x86_64  OK  OK  OK 
tokay1 Windows Server 2012 R2 Standard / x64  OK  OK  WARNINGS  OK UNNEEDED, same version exists in internal repository
merida1 macOS 10.14.6 Mojave / x86_64  OK  OK  OK  OK UNNEEDED, same version exists in internal repository
Package 165/1974HostnameOS / ArchINSTALLBUILDCHECKBUILD BIN
BioCor 1.14.0
Lluís Revilla Sancho
Last Commit: a64a874
Last Changed Date: 2020-10-27 11:22:31 -0500
malbec1 Linux (Ubuntu 18.04.4 LTS) / x86_64  OK  OK  OK UNNEEDED, same version exists in internal repository
nebbiolo1 Linux (Ubuntu 20.04.1 LTS) / x86_64  OK  OK  OK 
tokay1 Windows Server 2012 R2 Standard / x64  OK  OK  OK  OK UNNEEDED, same version exists in internal repository
merida1 macOS 10.14.6 Mojave / x86_64  OK  OK  OK  OK UNNEEDED, same version exists in internal repository
Package 166/1974HostnameOS / ArchINSTALLBUILDCHECKBUILD BIN
BiocParallel 1.24.1
Bioconductor Package Maintainer
Last Commit: f713caa
Last Changed Date: 2020-11-06 02:59:26 -0500
malbec1 Linux (Ubuntu 18.04.4 LTS) / x86_64  OK  OK  OK UNNEEDED, same version exists in internal repository
nebbiolo1 Linux (Ubuntu 20.04.1 LTS) / x86_64  OK  OK  OK 
tokay1 Windows Server 2012 R2 Standard / x64  OK  OK  OK  OK UNNEEDED, same version exists in internal repository
merida1 macOS 10.14.6 Mojave / x86_64  OK  OK  OK  OK UNNEEDED, same version exists in internal repository
Package 167/1974HostnameOS / ArchINSTALLBUILDCHECKBUILD BIN
BiocPkgTools 1.8.0
Sean Davis
Last Commit: cfc9602
Last Changed Date: 2020-10-27 11:38:35 -0500
malbec1 Linux (Ubuntu 18.04.4 LTS) / x86_64  OK  ERROR  skipped 
nebbiolo1 Linux (Ubuntu 20.04.1 LTS) / x86_64  OK  ERROR  skipped 
tokay1 Windows Server 2012 R2 Standard / x64  OK  ERROR  skipped  skipped 
merida1 macOS 10.14.6 Mojave / x86_64  OK  ERROR  skipped  skipped 
Package 168/1974HostnameOS / ArchINSTALLBUILDCHECKBUILD BIN
BiocSet 1.4.0
Kayla Morrell
Last Commit: 5397e23
Last Changed Date: 2020-10-27 11:51:46 -0500
malbec1 Linux (Ubuntu 18.04.4 LTS) / x86_64  OK  OK  OK UNNEEDED, same version exists in internal repository
nebbiolo1 Linux (Ubuntu 20.04.1 LTS) / x86_64  OK  OK  OK 
tokay1 Windows Server 2012 R2 Standard / x64  OK  OK  OK  OK UNNEEDED, same version exists in internal repository
merida1 macOS 10.14.6 Mojave / x86_64  OK  OK  OK  OK UNNEEDED, same version exists in internal repository
Package 169/1974HostnameOS / ArchINSTALLBUILDCHECKBUILD BIN
BiocSingular 1.6.0
Aaron Lun
Last Commit: 11baf10
Last Changed Date: 2020-10-27 11:42:55 -0500
malbec1 Linux (Ubuntu 18.04.4 LTS) / x86_64  OK  OK  OK UNNEEDED, same version exists in internal repository
nebbiolo1 Linux (Ubuntu 20.04.1 LTS) / x86_64  OK  OK  OK 
tokay1 Windows Server 2012 R2 Standard / x64  OK  OK  OK  OK UNNEEDED, same version exists in internal repository
merida1 macOS 10.14.6 Mojave / x86_64  OK  OK  OK  OK UNNEEDED, same version exists in internal repository
Package 170/1974HostnameOS / ArchINSTALLBUILDCHECKBUILD BIN
BiocSklearn 1.12.0
VJ Carey
Last Commit: 285cf6f
Last Changed Date: 2020-10-27 11:26:17 -0500
malbec1 Linux (Ubuntu 18.04.4 LTS) / x86_64  OK  OK  OK UNNEEDED, same version exists in internal repository
nebbiolo1 Linux (Ubuntu 20.04.1 LTS) / x86_64  OK  OK  OK 
tokay1 Windows Server 2012 R2 Standard / x64  OK  OK  OK  OK UNNEEDED, same version exists in internal repository
merida1 macOS 10.14.6 Mojave / x86_64  OK  OK  OK  OK UNNEEDED, same version exists in internal repository
Package 171/1974HostnameOS / ArchINSTALLBUILDCHECKBUILD BIN
BiocStyle 2.18.1
Bioconductor Package Maintainer
Last Commit: 956f065
Last Changed Date: 2020-11-24 04:50:38 -0500
malbec1 Linux (Ubuntu 18.04.4 LTS) / x86_64  OK  OK  OK YES, new version is higher than in internal repository
nebbiolo1 Linux (Ubuntu 20.04.1 LTS) / x86_64  OK  OK  OK 
tokay1 Windows Server 2012 R2 Standard / x64  OK  OK  OK  OK YES, new version is higher than in internal repository
merida1 macOS 10.14.6 Mojave / x86_64  OK  OK  OK  OK YES, new version is higher than in internal repository
Package 172/1974HostnameOS / ArchINSTALLBUILDCHECKBUILD BIN
biocthis 1.0.2
Leonardo Collado-Torres
Last Commit: 305b55f
Last Changed Date: 2020-11-04 04:53:00 -0500
malbec1 Linux (Ubuntu 18.04.4 LTS) / x86_64  OK  OK  OK UNNEEDED, same version exists in internal repository
nebbiolo1 Linux (Ubuntu 20.04.1 LTS) / x86_64  OK  OK  OK 
tokay1 Windows Server 2012 R2 Standard / x64  OK  OK  OK  OK UNNEEDED, same version exists in internal repository
merida1 macOS 10.14.6 Mojave / x86_64  OK  OK  OK  OK UNNEEDED, same version exists in internal repository
Package 173/1974HostnameOS / ArchINSTALLBUILDCHECKBUILD BIN
BiocVersion 3.12.0
Bioconductor Package Maintainer
Last Commit: 23b9719
Last Changed Date: 2020-04-27 15:16:58 -0500
malbec1 Linux (Ubuntu 18.04.4 LTS) / x86_64  OK  OK  OK UNNEEDED, same version exists in internal repository
nebbiolo1 Linux (Ubuntu 20.04.1 LTS) / x86_64  OK  OK  OK 
tokay1 Windows Server 2012 R2 Standard / x64  OK  OK  OK  OK UNNEEDED, same version exists in internal repository
merida1 macOS 10.14.6 Mojave / x86_64  OK  OK  OK  OK UNNEEDED, same version exists in internal repository
Package 174/1974HostnameOS / ArchINSTALLBUILDCHECKBUILD BIN
biocViews 1.58.1
Bioconductor Package Maintainer
Last Commit: eb78bba
Last Changed Date: 2020-11-16 18:43:10 -0500
malbec1 Linux (Ubuntu 18.04.4 LTS) / x86_64  OK  OK  OK UNNEEDED, same version exists in internal repository
nebbiolo1 Linux (Ubuntu 20.04.1 LTS) / x86_64  OK  OK  OK 
tokay1 Windows Server 2012 R2 Standard / x64  OK  OK  OK  OK UNNEEDED, same version exists in internal repository
merida1 macOS 10.14.6 Mojave / x86_64  OK  OK  OK  OK UNNEEDED, same version exists in internal repository
Package 175/1974HostnameOS / ArchINSTALLBUILDCHECKBUILD BIN
BiocWorkflowTools 1.16.0
Mike Smith
Last Commit: b35a1f1
Last Changed Date: 2020-10-27 11:17:37 -0500
malbec1 Linux (Ubuntu 18.04.4 LTS) / x86_64  OK  OK  OK UNNEEDED, same version exists in internal repository
nebbiolo1 Linux (Ubuntu 20.04.1 LTS) / x86_64  OK  OK  OK 
tokay1 Windows Server 2012 R2 Standard / x64  OK  OK  OK  OK UNNEEDED, same version exists in internal repository
merida1 macOS 10.14.6 Mojave / x86_64  OK  OK  OK  OK UNNEEDED, same version exists in internal repository
Package 176/1974HostnameOS / ArchINSTALLBUILDCHECKBUILD BIN
bioDist 1.62.0
Bioconductor Package Maintainer
Last Commit: 81311a7
Last Changed Date: 2020-10-27 10:25:08 -0500
malbec1 Linux (Ubuntu 18.04.4 LTS) / x86_64  OK  OK  OK UNNEEDED, same version exists in internal repository
nebbiolo1 Linux (Ubuntu 20.04.1 LTS) / x86_64  OK  OK  OK 
tokay1 Windows Server 2012 R2 Standard / x64  OK  OK  OK  OK UNNEEDED, same version exists in internal repository
merida1 macOS 10.14.6 Mojave / x86_64  OK  OK  OK  OK UNNEEDED, same version exists in internal repository
Package 177/1974HostnameOS / ArchINSTALLBUILDCHECKBUILD BIN
biomaRt 2.46.0
Mike Smith
Last Commit: 742b926
Last Changed Date: 2020-10-27 10:25:24 -0500
malbec1 Linux (Ubuntu 18.04.4 LTS) / x86_64  OK  OK  OK UNNEEDED, same version exists in internal repository
nebbiolo1 Linux (Ubuntu 20.04.1 LTS) / x86_64  OK  OK  OK 
tokay1 Windows Server 2012 R2 Standard / x64  OK  OK  OK  OK UNNEEDED, same version exists in internal repository
merida1 macOS 10.14.6 Mojave / x86_64  OK  OK  OK  OK UNNEEDED, same version exists in internal repository
Package 178/1974HostnameOS / ArchINSTALLBUILDCHECKBUILD BIN
biomformat 1.18.0
Paul J. McMurdie
Last Commit: dc18859
Last Changed Date: 2020-10-27 11:09:49 -0500
malbec1 Linux (Ubuntu 18.04.4 LTS) / x86_64  OK  OK  WARNINGS UNNEEDED, same version exists in internal repository
nebbiolo1 Linux (Ubuntu 20.04.1 LTS) / x86_64  OK  OK  WARNINGS 
tokay1 Windows Server 2012 R2 Standard / x64  OK  OK  WARNINGS  OK UNNEEDED, same version exists in internal repository
merida1 macOS 10.14.6 Mojave / x86_64  OK  OK  WARNINGS  OK UNNEEDED, same version exists in internal repository
Package 179/1974HostnameOS / ArchINSTALLBUILDCHECKBUILD BIN
BioMM 1.6.0
Junfang Chen
Last Commit: bb432b4
Last Changed Date: 2020-10-27 11:42:47 -0500
malbec1 Linux (Ubuntu 18.04.4 LTS) / x86_64  OK  OK  OK UNNEEDED, same version exists in internal repository
nebbiolo1 Linux (Ubuntu 20.04.1 LTS) / x86_64  OK  OK  OK 
tokay1 Windows Server 2012 R2 Standard / x64  OK  OK  OK  OK UNNEEDED, same version exists in internal repository
merida1 macOS 10.14.6 Mojave / x86_64  OK  OK  OK  OK UNNEEDED, same version exists in internal repository
Package 180/1974HostnameOS / ArchINSTALLBUILDCHECKBUILD BIN
BioMVCClass 1.58.0
Elizabeth Whalen
Last Commit: 58f7377
Last Changed Date: 2020-10-27 10:29:17 -0500
malbec1 Linux (Ubuntu 18.04.4 LTS) / x86_64  OK  OK  OK UNNEEDED, same version exists in internal repository
nebbiolo1 Linux (Ubuntu 20.04.1 LTS) / x86_64  OK  OK  OK 
tokay1 Windows Server 2012 R2 Standard / x64  OK  OK  OK  OK UNNEEDED, same version exists in internal repository
merida1 macOS 10.14.6 Mojave / x86_64  OK  OK  OK  OK UNNEEDED, same version exists in internal repository
Package 181/1974HostnameOS / ArchINSTALLBUILDCHECKBUILD BIN
biomvRCNS 1.30.0
Yang Du
Last Commit: 0cb8b43
Last Changed Date: 2020-10-27 10:49:21 -0500
malbec1 Linux (Ubuntu 18.04.4 LTS) / x86_64  OK  OK  OK UNNEEDED, same version exists in internal repository
nebbiolo1 Linux (Ubuntu 20.04.1 LTS) / x86_64  OK  OK  OK 
tokay1 Windows Server 2012 R2 Standard / x64  OK  OK  OK  OK UNNEEDED, same version exists in internal repository
merida1 macOS 10.14.6 Mojave / x86_64  OK  OK  OK  OK UNNEEDED, same version exists in internal repository
Package 182/1974HostnameOS / ArchINSTALLBUILDCHECKBUILD BIN
BioNet 1.50.0
Marcus Dittrich
Last Commit: a4e5179
Last Changed Date: 2020-10-27 10:38:44 -0500
malbec1 Linux (Ubuntu 18.04.4 LTS) / x86_64  OK  OK  OK UNNEEDED, same version exists in internal repository
nebbiolo1 Linux (Ubuntu 20.04.1 LTS) / x86_64  OK  OK  OK 
tokay1 Windows Server 2012 R2 Standard / x64  OK  OK  OK  OK UNNEEDED, same version exists in internal repository
merida1 macOS 10.14.6 Mojave / x86_64  OK  OK  OK  OK UNNEEDED, same version exists in internal repository
Package 183/1974HostnameOS / ArchINSTALLBUILDCHECKBUILD BIN
BioNetStat 1.10.0
Vinicius Jardim
Last Commit: 93f8b72
Last Changed Date: 2020-10-27 11:34:54 -0500
malbec1 Linux (Ubuntu 18.04.4 LTS) / x86_64  OK  OK  OK UNNEEDED, same version exists in internal repository
nebbiolo1 Linux (Ubuntu 20.04.1 LTS) / x86_64  OK  OK  OK 
tokay1 Windows Server 2012 R2 Standard / x64  OK  OK  OK  OK UNNEEDED, same version exists in internal repository
merida1 macOS 10.14.6 Mojave / x86_64  OK  OK  OK  OK UNNEEDED, same version exists in internal repository
Package 184/1974HostnameOS / ArchINSTALLBUILDCHECKBUILD BIN
BioQC 1.18.0
Jitao David Zhang
Last Commit: 93ea3cd
Last Changed Date: 2020-10-27 11:09:46 -0500
malbec1 Linux (Ubuntu 18.04.4 LTS) / x86_64  OK  OK  OK UNNEEDED, same version exists in internal repository
nebbiolo1 Linux (Ubuntu 20.04.1 LTS) / x86_64  OK  OK  OK 
tokay1 Windows Server 2012 R2 Standard / x64  OK  OK  OK  OK UNNEEDED, same version exists in internal repository
merida1 macOS 10.14.6 Mojave / x86_64  OK  OK  OK  OK UNNEEDED, same version exists in internal repository
Package 185/1974HostnameOS / ArchINSTALLBUILDCHECKBUILD BIN
BioSeqClass 1.48.0
Li Hong
Last Commit: 90ffbf6
Last Changed Date: 2020-10-27 10:37:02 -0500
malbec1 Linux (Ubuntu 18.04.4 LTS) / x86_64  OK  ERROR  skipped 
nebbiolo1 Linux (Ubuntu 20.04.1 LTS) / x86_64  OK  ERROR  skipped 
tokay1 Windows Server 2012 R2 Standard / x64  OK  ERROR  skipped  skipped 
merida1 macOS 10.14.6 Mojave / x86_64  OK  ERROR  skipped  skipped 
Package 186/1974HostnameOS / ArchINSTALLBUILDCHECKBUILD BIN
biosigner 1.18.2
Philippe Rinaudo , Etienne Thevenot
Last Commit: 8a38d87
Last Changed Date: 2020-11-21 15:47:20 -0500
malbec1 Linux (Ubuntu 18.04.4 LTS) / x86_64  OK  OK  OK UNNEEDED, same version exists in internal repository
nebbiolo1 Linux (Ubuntu 20.04.1 LTS) / x86_64  OK  OK  OK 
tokay1 Windows Server 2012 R2 Standard / x64  OK  OK  OK  OK UNNEEDED, same version exists in internal repository
merida1 macOS 10.14.6 Mojave / x86_64  OK  OK  OK  OK UNNEEDED, same version exists in internal repository
Package 187/1974HostnameOS / ArchINSTALLBUILDCHECKBUILD BIN
Biostrings 2.58.0
H. Pagès
Last Commit: 0ec1a54
Last Changed Date: 2020-10-27 10:23:25 -0500
malbec1 Linux (Ubuntu 18.04.4 LTS) / x86_64  OK  OK  WARNINGS UNNEEDED, same version exists in internal repository
nebbiolo1 Linux (Ubuntu 20.04.1 LTS) / x86_64  OK  OK  WARNINGS 
tokay1 Windows Server 2012 R2 Standard / x64  OK  OK  WARNINGS  OK UNNEEDED, same version exists in internal repository
merida1 macOS 10.14.6 Mojave / x86_64  OK  OK  WARNINGS  OK UNNEEDED, same version exists in internal repository
Package 188/1974HostnameOS / ArchINSTALLBUILDCHECKBUILD BIN
BioTIP 1.4.0
Yuxi (Jennifer) Sun , Zhezhen Wang , and X Holly Yang
Last Commit: 7fbbf0f
Last Changed Date: 2020-10-27 11:49:44 -0500
malbec1 Linux (Ubuntu 18.04.4 LTS) / x86_64  OK  OK  WARNINGS UNNEEDED, same version exists in internal repository
nebbiolo1 Linux (Ubuntu 20.04.1 LTS) / x86_64  OK  OK  WARNINGS 
tokay1 Windows Server 2012 R2 Standard / x64  OK  OK  WARNINGS  OK UNNEEDED, same version exists in internal repository
merida1 macOS 10.14.6 Mojave / x86_64  OK  OK  WARNINGS  OK UNNEEDED, same version exists in internal repository
Package 189/1974HostnameOS / ArchINSTALLBUILDCHECKBUILD BIN
biotmle 1.14.0
Nima Hejazi
Last Commit: a929ef5
Last Changed Date: 2020-10-27 11:23:45 -0500
malbec1 Linux (Ubuntu 18.04.4 LTS) / x86_64  OK  OK  OK UNNEEDED, same version exists in internal repository
nebbiolo1 Linux (Ubuntu 20.04.1 LTS) / x86_64  OK  OK  OK 
tokay1 Windows Server 2012 R2 Standard / x64  OK  OK  WARNINGS  OK UNNEEDED, same version exists in internal repository
merida1 macOS 10.14.6 Mojave / x86_64  OK  OK  OK  OK UNNEEDED, same version exists in internal repository
Package 190/1974HostnameOS / ArchINSTALLBUILDCHECKBUILD BIN
biovizBase 1.38.0
Michael Lawrence
Last Commit: d0f3362
Last Changed Date: 2020-10-27 10:43:03 -0500
malbec1 Linux (Ubuntu 18.04.4 LTS) / x86_64  OK  OK  WARNINGS UNNEEDED, same version exists in internal repository
nebbiolo1 Linux (Ubuntu 20.04.1 LTS) / x86_64  OK  OK  WARNINGS 
tokay1 Windows Server 2012 R2 Standard / x64  OK  OK  WARNINGS  OK UNNEEDED, same version exists in internal repository
merida1 macOS 10.14.6 Mojave / x86_64  OK  OK  WARNINGS  OK UNNEEDED, same version exists in internal repository
Package 191/1974HostnameOS / ArchINSTALLBUILDCHECKBUILD BIN
BiRewire 3.22.0
Andrea Gobbi
Last Commit: 161ba9f
Last Changed Date: 2020-10-27 10:52:46 -0500
malbec1 Linux (Ubuntu 18.04.4 LTS) / x86_64  OK  OK  WARNINGS UNNEEDED, same version exists in internal repository
nebbiolo1 Linux (Ubuntu 20.04.1 LTS) / x86_64  OK  OK  WARNINGS 
tokay1 Windows Server 2012 R2 Standard / x64  OK  OK  WARNINGS  OK UNNEEDED, same version exists in internal repository
merida1 macOS 10.14.6 Mojave / x86_64  OK  OK  OK  OK UNNEEDED, same version exists in internal repository
Package 192/1974HostnameOS / ArchINSTALLBUILDCHECKBUILD BIN
biscuiteer 1.4.0
"Jacob Morrison"
Last Commit: 7142015
Last Changed Date: 2020-10-27 11:50:51 -0500
malbec1 Linux (Ubuntu 18.04.4 LTS) / x86_64  OK  OK  WARNINGS UNNEEDED, same version exists in internal repository
nebbiolo1 Linux (Ubuntu 20.04.1 LTS) / x86_64  OK  OK  WARNINGS 
tokay1 Windows Server 2012 R2 Standard / x64  OK  OK  WARNINGS  OK UNNEEDED, same version exists in internal repository
merida1 macOS 10.14.6 Mojave / x86_64  OK  OK  WARNINGS  OK UNNEEDED, same version exists in internal repository
Package 193/1974HostnameOS / ArchINSTALLBUILDCHECKBUILD BIN
BiSeq 1.30.0
Katja Hebestreit
Last Commit: e946e2d
Last Changed Date: 2020-10-27 10:50:37 -0500
malbec1 Linux (Ubuntu 18.04.4 LTS) / x86_64  OK  OK  OK UNNEEDED, same version exists in internal repository
nebbiolo1 Linux (Ubuntu 20.04.1 LTS) / x86_64  OK  OK  OK 
tokay1 Windows Server 2012 R2 Standard / x64  OK  OK  OK  OK UNNEEDED, same version exists in internal repository
merida1 macOS 10.14.6 Mojave / x86_64  OK  OK  OK  OK UNNEEDED, same version exists in internal repository
Package 194/1974HostnameOS / ArchINSTALLBUILDCHECKBUILD BIN
BitSeq 1.34.0
Antti Honkela , Panagiotis Papastamoulis
Last Commit: 46472fc
Last Changed Date: 2020-10-27 10:45:24 -0500
malbec1 Linux (Ubuntu 18.04.4 LTS) / x86_64  OK  OK  WARNINGS UNNEEDED, same version exists in internal repository
nebbiolo1 Linux (Ubuntu 20.04.1 LTS) / x86_64  OK  OK  WARNINGS 
tokay1 Windows Server 2012 R2 Standard / x64  OK  OK  WARNINGS  OK UNNEEDED, same version exists in internal repository
merida1 macOS 10.14.6 Mojave / x86_64  OK  OK  WARNINGS  OK UNNEEDED, same version exists in internal repository
Package 195/1974HostnameOS / ArchINSTALLBUILDCHECKBUILD BIN
blacksheepr 1.4.0
RugglesLab
Last Commit: 558236a
Last Changed Date: 2020-10-27 11:50:16 -0500
malbec1 Linux (Ubuntu 18.04.4 LTS) / x86_64  OK  OK  OK UNNEEDED, same version exists in internal repository
nebbiolo1 Linux (Ubuntu 20.04.1 LTS) / x86_64  OK  OK  OK 
tokay1 Windows Server 2012 R2 Standard / x64  OK  OK  OK  OK UNNEEDED, same version exists in internal repository
merida1 macOS 10.14.6 Mojave / x86_64  OK  OK  OK  OK UNNEEDED, same version exists in internal repository
Package 196/1974HostnameOS / ArchINSTALLBUILDCHECKBUILD BIN
blima 1.24.0
Vojtěch Kulvait
Last Commit: 9a0d605
Last Changed Date: 2020-10-27 10:56:49 -0500
malbec1 Linux (Ubuntu 18.04.4 LTS) / x86_64  OK  OK  WARNINGS UNNEEDED, same version exists in internal repository
nebbiolo1 Linux (Ubuntu 20.04.1 LTS) / x86_64  OK  OK  WARNINGS 
tokay1 Windows Server 2012 R2 Standard / x64  OK  OK  WARNINGS  OK UNNEEDED, same version exists in internal repository
merida1 macOS 10.14.6 Mojave / x86_64  OK  OK  WARNINGS  OK UNNEEDED, same version exists in internal repository
Package 197/1974HostnameOS / ArchINSTALLBUILDCHECKBUILD BIN
BLMA 1.14.0
Hung Nguyen
Last Commit: 85de4fa
Last Changed Date: 2020-10-27 11:23:48 -0500
malbec1 Linux (Ubuntu 18.04.4 LTS) / x86_64  OK  OK  OK UNNEEDED, same version exists in internal repository
nebbiolo1 Linux (Ubuntu 20.04.1 LTS) / x86_64  OK  OK  OK 
tokay1 Windows Server 2012 R2 Standard / x64  OK  OK  OK  OK UNNEEDED, same version exists in internal repository
merida1 macOS 10.14.6 Mojave / x86_64  OK  OK  OK  OK UNNEEDED, same version exists in internal repository
Package 198/1974HostnameOS / ArchINSTALLBUILDCHECKBUILD BIN
bluster 1.0.0
Aaron Lun
Last Commit: 3727538
Last Changed Date: 2020-10-27 11:58:59 -0500
malbec1 Linux (Ubuntu 18.04.4 LTS) / x86_64  OK  OK  OK UNNEEDED, same version exists in internal repository
nebbiolo1 Linux (Ubuntu 20.04.1 LTS) / x86_64  OK  OK  OK 
tokay1 Windows Server 2012 R2 Standard / x64  OK  OK  OK  OK UNNEEDED, same version exists in internal repository
merida1 macOS 10.14.6 Mojave / x86_64  OK  OK  OK  OK UNNEEDED, same version exists in internal repository
Package 199/1974HostnameOS / ArchINSTALLBUILDCHECKBUILD BIN
bnbc 1.12.0
Kipper Fletez-Brant
Last Commit: 191bf12
Last Changed Date: 2020-10-27 11:28:47 -0500
malbec1 Linux (Ubuntu 18.04.4 LTS) / x86_64  OK  OK  OK UNNEEDED, same version exists in internal repository
nebbiolo1 Linux (Ubuntu 20.04.1 LTS) / x86_64  OK  OK  OK 
tokay1 Windows Server 2012 R2 Standard / x64  OK  OK  OK  OK UNNEEDED, same version exists in internal repository
merida1 macOS 10.14.6 Mojave / x86_64  OK  OK  OK  OK UNNEEDED, same version exists in internal repository
Package 200/1974HostnameOS / ArchINSTALLBUILDCHECKBUILD BIN
BPRMeth 1.16.0
Chantriolnt-Andreas Kapourani
Last Commit: e048536
Last Changed Date: 2020-10-27 11:19:30 -0500
malbec1 Linux (Ubuntu 18.04.4 LTS) / x86_64  OK  OK  OK UNNEEDED, same version exists in internal repository
nebbiolo1 Linux (Ubuntu 20.04.1 LTS) / x86_64  OK  OK  OK 
tokay1 Windows Server 2012 R2 Standard / x64  OK  OK  OK  OK UNNEEDED, same version exists in internal repository
merida1 macOS 10.14.6 Mojave / x86_64  OK  OK  OK  OK UNNEEDED, same version exists in internal repository
Package 201/1974HostnameOS / ArchINSTALLBUILDCHECKBUILD BIN
BRAIN 1.36.0
Piotr Dittwald
Last Commit: 2637aed
Last Changed Date: 2020-10-27 10:45:00 -0500
malbec1 Linux (Ubuntu 18.04.4 LTS) / x86_64  OK  OK  WARNINGS UNNEEDED, same version exists in internal repository
nebbiolo1 Linux (Ubuntu 20.04.1 LTS) / x86_64  OK  OK  WARNINGS 
tokay1 Windows Server 2012 R2 Standard / x64  OK  OK  WARNINGS  OK UNNEEDED, same version exists in internal repository
merida1 macOS 10.14.6 Mojave / x86_64  OK  OK  WARNINGS  OK UNNEEDED, same version exists in internal repository
Package 202/1974HostnameOS / ArchINSTALLBUILDCHECKBUILD BIN
brainflowprobes 1.4.0
Amanda Price
Last Commit: 1e5f232
Last Changed Date: 2020-10-27 11:51:30 -0500
malbec1 Linux (Ubuntu 18.04.4 LTS) / x86_64  OK  OK  OK UNNEEDED, same version exists in internal repository
nebbiolo1 Linux (Ubuntu 20.04.1 LTS) / x86_64  OK  OK  OK 
tokay1 Windows Server 2012 R2 Standard / x64  OK  OK  OK  OK UNNEEDED, same version exists in internal repository
merida1 macOS 10.14.6 Mojave / x86_64  OK  OK  OK  OK UNNEEDED, same version exists in internal repository
Package 203/1974HostnameOS / ArchINSTALLBUILDCHECKBUILD BIN
BrainSABER 1.0.0
USD Biomedical Engineering
Last Commit: 378073c
Last Changed Date: 2020-10-27 11:57:38 -0500
malbec1 Linux (Ubuntu 18.04.4 LTS) / x86_64  OK  OK  OK UNNEEDED, same version exists in internal repository
nebbiolo1 Linux (Ubuntu 20.04.1 LTS) / x86_64  OK  OK  OK 
tokay1 Windows Server 2012 R2 Standard / x64  OK  OK  OK  OK UNNEEDED, same version exists in internal repository
merida1 macOS 10.14.6 Mojave / x86_64  OK  OK  OK  OK UNNEEDED, same version exists in internal repository
Package 204/1974HostnameOS / ArchINSTALLBUILDCHECKBUILD BIN
BrainStars 1.34.0
Itoshi NIKAIDO
Last Commit: 87655cb
Last Changed Date: 2020-10-27 10:45:11 -0500
malbec1 Linux (Ubuntu 18.04.4 LTS) / x86_64  OK  OK  OK UNNEEDED, same version exists in internal repository
nebbiolo1 Linux (Ubuntu 20.04.1 LTS) / x86_64  OK  OK  OK 
tokay1 Windows Server 2012 R2 Standard / x64  OK  OK  OK  OK UNNEEDED, same version exists in internal repository
merida1 macOS 10.14.6 Mojave / x86_64  OK  OK  OK  OK UNNEEDED, same version exists in internal repository
Package 205/1974HostnameOS / ArchINSTALLBUILDCHECKBUILD BIN
branchpointer 1.16.0
Beth Signal
Last Commit: 853ea53
Last Changed Date: 2020-10-27 11:22:25 -0500
malbec1 Linux (Ubuntu 18.04.4 LTS) / x86_64  OK  OK  OK UNNEEDED, same version exists in internal repository
nebbiolo1 Linux (Ubuntu 20.04.1 LTS) / x86_64  OK  OK  OK 
tokay1 Windows Server 2012 R2 Standard / x64  OK  OK  OK  OK UNNEEDED, same version exists in internal repository
merida1 macOS 10.14.6 Mojave / x86_64  OK  OK  OK  OK UNNEEDED, same version exists in internal repository
Package 206/1974HostnameOS / ArchINSTALLBUILDCHECKBUILD BIN
breakpointR 1.8.0
David Porubsky
Last Commit: 8542f20
Last Changed Date: 2020-10-27 11:38:49 -0500
malbec1 Linux (Ubuntu 18.04.4 LTS) / x86_64  OK  OK  OK UNNEEDED, same version exists in internal repository
nebbiolo1 Linux (Ubuntu 20.04.1 LTS) / x86_64  OK  OK  OK 
tokay1 Windows Server 2012 R2 Standard / x64  OK  OK  OK  OK UNNEEDED, same version exists in internal repository
merida1 macOS 10.14.6 Mojave / x86_64  OK  OK  OK  OK UNNEEDED, same version exists in internal repository
Package 207/1974HostnameOS / ArchINSTALLBUILDCHECKBUILD BIN
brendaDb 1.4.0
Yi Zhou
Last Commit: cbc88bb
Last Changed Date: 2020-10-27 11:48:32 -0500
malbec1 Linux (Ubuntu 18.04.4 LTS) / x86_64  OK  OK  OK UNNEEDED, same version exists in internal repository
nebbiolo1 Linux (Ubuntu 20.04.1 LTS) / x86_64  OK  OK  OK 
tokay1 Windows Server 2012 R2 Standard / x64  OK  OK  OK  OK UNNEEDED, same version exists in internal repository
merida1 macOS 10.14.6 Mojave / x86_64  OK  OK  OK  OK UNNEEDED, same version exists in internal repository
Package 208/1974HostnameOS / ArchINSTALLBUILDCHECKBUILD BIN
BRGenomics 1.2.0
Mike DeBerardine
Last Commit: 79bb3d5
Last Changed Date: 2020-10-27 11:54:54 -0500
malbec1 Linux (Ubuntu 18.04.4 LTS) / x86_64  OK  OK  OK UNNEEDED, same version exists in internal repository
nebbiolo1 Linux (Ubuntu 20.04.1 LTS) / x86_64  OK  OK  OK 
tokay1 Windows Server 2012 R2 Standard / x64  OK  OK  OK  OK UNNEEDED, same version exists in internal repository
merida1 macOS 10.14.6 Mojave / x86_64  OK  OK  OK  OK UNNEEDED, same version exists in internal repository
Package 209/1974HostnameOS / ArchINSTALLBUILDCHECKBUILD BIN
bridge 1.54.0
Raphael Gottardo
Last Commit: e19b141
Last Changed Date: 2020-10-27 10:26:08 -0500
malbec1 Linux (Ubuntu 18.04.4 LTS) / x86_64  OK  OK  WARNINGS UNNEEDED, same version exists in internal repository
nebbiolo1 Linux (Ubuntu 20.04.1 LTS) / x86_64  OK  OK  WARNINGS 
tokay1 Windows Server 2012 R2 Standard / x64  OK  OK  WARNINGS  OK UNNEEDED, same version exists in internal repository
merida1 macOS 10.14.6 Mojave / x86_64  OK  OK  OK  OK UNNEEDED, same version exists in internal repository
Package 210/1974HostnameOS / ArchINSTALLBUILDCHECKBUILD BIN
BridgeDbR 2.0.0
Egon Willighagen
Last Commit: a50516e
Last Changed Date: 2020-10-27 11:00:36 -0500
malbec1 Linux (Ubuntu 18.04.4 LTS) / x86_64  OK  OK  OK UNNEEDED, same version exists in internal repository
nebbiolo1 Linux (Ubuntu 20.04.1 LTS) / x86_64  OK  OK  OK 
tokay1 Windows Server 2012 R2 Standard / x64  OK  OK  OK  OK UNNEEDED, same version exists in internal repository
merida1 macOS 10.14.6 Mojave / x86_64  OK  OK  OK  OK UNNEEDED, same version exists in internal repository
Package 211/1974HostnameOS / ArchINSTALLBUILDCHECKBUILD BIN
BrowserViz 2.12.0
Paul Shannon
Last Commit: e62f0d8
Last Changed Date: 2020-10-27 11:02:54 -0500
malbec1 Linux (Ubuntu 18.04.4 LTS) / x86_64  OK  OK  OK UNNEEDED, same version exists in internal repository
nebbiolo1 Linux (Ubuntu 20.04.1 LTS) / x86_64  OK  OK  TIMEOUT 
tokay1 Windows Server 2012 R2 Standard / x64  OK  OK  OK  OK UNNEEDED, same version exists in internal repository
merida1 macOS 10.14.6 Mojave / x86_64  OK  OK  OK  OK UNNEEDED, same version exists in internal repository
Package 212/1974HostnameOS / ArchINSTALLBUILDCHECKBUILD BIN
BSgenome 1.58.0
H. Pagès
Last Commit: 3a4926e
Last Changed Date: 2020-10-27 10:28:39 -0500
malbec1 Linux (Ubuntu 18.04.4 LTS) / x86_64  OK  OK  WARNINGS UNNEEDED, same version exists in internal repository
nebbiolo1 Linux (Ubuntu 20.04.1 LTS) / x86_64  OK  OK  WARNINGS 
tokay1 Windows Server 2012 R2 Standard / x64  OK  OK  WARNINGS  OK UNNEEDED, same version exists in internal repository
merida1 macOS 10.14.6 Mojave / x86_64  OK  OK  WARNINGS  OK UNNEEDED, same version exists in internal repository
Package 213/1974HostnameOS / ArchINSTALLBUILDCHECKBUILD BIN
bsseq 1.26.0
Kasper Daniel Hansen
Last Commit: fae3229
Last Changed Date: 2020-10-27 10:46:25 -0500
malbec1 Linux (Ubuntu 18.04.4 LTS) / x86_64  OK  OK  OK UNNEEDED, same version exists in internal repository
nebbiolo1 Linux (Ubuntu 20.04.1 LTS) / x86_64  OK  OK  OK 
tokay1 Windows Server 2012 R2 Standard / x64  OK  OK  OK  OK UNNEEDED, same version exists in internal repository
merida1 macOS 10.14.6 Mojave / x86_64  OK  OK  OK  OK UNNEEDED, same version exists in internal repository
Package 214/1974HostnameOS / ArchINSTALLBUILDCHECKBUILD BIN
BubbleTree 2.20.0
Todd Creasy , Wei Zhu
Last Commit: e891780
Last Changed Date: 2020-10-27 11:02:36 -0500
malbec1 Linux (Ubuntu 18.04.4 LTS) / x86_64  OK  OK  OK UNNEEDED, same version exists in internal repository
nebbiolo1 Linux (Ubuntu 20.04.1 LTS) / x86_64  OK  OK  OK 
tokay1 Windows Server 2012 R2 Standard / x64  OK  OK  OK  OK UNNEEDED, same version exists in internal repository
merida1 macOS 10.14.6 Mojave / x86_64  OK  OK  OK  OK UNNEEDED, same version exists in internal repository
Package 215/1974HostnameOS / ArchINSTALLBUILDCHECKBUILD BIN
BufferedMatrix 1.54.0
Ben Bolstad
Last Commit: eae3841
Last Changed Date: 2020-10-27 10:30:14 -0500
malbec1 Linux (Ubuntu 18.04.4 LTS) / x86_64  OK  OK  OK UNNEEDED, same version exists in internal repository
nebbiolo1 Linux (Ubuntu 20.04.1 LTS) / x86_64  OK  OK  OK 
tokay1 Windows Server 2012 R2 Standard / x64  OK  OK  OK  OK UNNEEDED, same version exists in internal repository
merida1 macOS 10.14.6 Mojave / x86_64  OK  OK  OK  OK UNNEEDED, same version exists in internal repository
Package 216/1974HostnameOS / ArchINSTALLBUILDCHECKBUILD BIN
BufferedMatrixMethods 1.54.0
Ben Bolstad
Last Commit: 5f9d4f7
Last Changed Date: 2020-10-27 10:30:18 -0500
malbec1 Linux (Ubuntu 18.04.4 LTS) / x86_64  OK  OK  OK UNNEEDED, same version exists in internal repository
nebbiolo1 Linux (Ubuntu 20.04.1 LTS) / x86_64  OK  OK  OK 
tokay1 Windows Server 2012 R2 Standard / x64  OK  OK  OK  OK UNNEEDED, same version exists in internal repository
merida1 macOS 10.14.6 Mojave / x86_64  OK  OK  OK  OK UNNEEDED, same version exists in internal repository
Package 217/1974HostnameOS / ArchINSTALLBUILDCHECKBUILD BIN
BUMHMM 1.14.0
Alina Selega
Last Commit: 704c38c
Last Changed Date: 2020-10-27 11:20:05 -0500
malbec1 Linux (Ubuntu 18.04.4 LTS) / x86_64  OK  OK  OK UNNEEDED, same version exists in internal repository
nebbiolo1 Linux (Ubuntu 20.04.1 LTS) / x86_64  OK  OK  OK 
tokay1 Windows Server 2012 R2 Standard / x64  OK  OK  OK  OK UNNEEDED, same version exists in internal repository
merida1 macOS 10.14.6 Mojave / x86_64  OK  OK  OK  OK UNNEEDED, same version exists in internal repository
Package 218/1974HostnameOS / ArchINSTALLBUILDCHECKBUILD BIN
bumphunter 1.32.0
Rafael A. Irizarry
Last Commit: 8d9d889
Last Changed Date: 2020-10-27 10:48:20 -0500
malbec1 Linux (Ubuntu 18.04.4 LTS) / x86_64  OK  OK  OK UNNEEDED, same version exists in internal repository
nebbiolo1 Linux (Ubuntu 20.04.1 LTS) / x86_64  OK  OK  OK 
tokay1 Windows Server 2012 R2 Standard / x64  OK  OK  WARNINGS  OK UNNEEDED, same version exists in internal repository
merida1 macOS 10.14.6 Mojave / x86_64  OK  OK  OK  OK UNNEEDED, same version exists in internal repository
Package 219/1974HostnameOS / ArchINSTALLBUILDCHECKBUILD BIN
BUS 1.46.0
Yuanhua Liu
Last Commit: 1e5d5fa
Last Changed Date: 2020-10-27 10:36:02 -0500
malbec1 Linux (Ubuntu 18.04.4 LTS) / x86_64  OK  OK  OK UNNEEDED, same version exists in internal repository
nebbiolo1 Linux (Ubuntu 20.04.1 LTS) / x86_64  OK  OK  OK 
tokay1 Windows Server 2012 R2 Standard / x64  OK  OK  OK  OK UNNEEDED, same version exists in internal repository
merida1 macOS 10.14.6 Mojave / x86_64  OK  OK  OK  OK UNNEEDED, same version exists in internal repository
Package 220/1974HostnameOS / ArchINSTALLBUILDCHECKBUILD BIN
BUScorrect 1.8.0
Xiangyu Luo
Last Commit: 8b66f5e
Last Changed Date: 2020-10-27 11:38:02 -0500
malbec1 Linux (Ubuntu 18.04.4 LTS) / x86_64  OK  OK  OK UNNEEDED, same version exists in internal repository
nebbiolo1 Linux (Ubuntu 20.04.1 LTS) / x86_64  OK  OK  OK 
tokay1 Windows Server 2012 R2 Standard / x64  OK  OK  OK  OK UNNEEDED, same version exists in internal repository
merida1 macOS 10.14.6 Mojave / x86_64  OK  OK  OK  OK UNNEEDED, same version exists in internal repository
Package 221/1974HostnameOS / ArchINSTALLBUILDCHECKBUILD BIN
BUSpaRse 1.4.0
Lambda Moses
Last Commit: 1347ece
Last Changed Date: 2020-10-27 11:48:43 -0500
malbec1 Linux (Ubuntu 18.04.4 LTS) / x86_64  OK  OK  OK UNNEEDED, same version exists in internal repository
nebbiolo1 Linux (Ubuntu 20.04.1 LTS) / x86_64  OK  OK  OK 
tokay1 Windows Server 2012 R2 Standard / x64  OK  OK  ERROR  OK 
merida1 macOS 10.14.6 Mojave / x86_64  OK  OK  OK  OK UNNEEDED, same version exists in internal repository
C
ABCDEFGHIJKLMNOPQRSTUVWXYZ
Package 222/1974HostnameOS / ArchINSTALLBUILDCHECKBUILD BIN
CAFE 1.26.0
Sander Bollen
Last Commit: 2dd3923
Last Changed Date: 2020-10-27 10:55:14 -0500
malbec1 Linux (Ubuntu 18.04.4 LTS) / x86_64  OK  OK  WARNINGS UNNEEDED, same version exists in internal repository
nebbiolo1 Linux (Ubuntu 20.04.1 LTS) / x86_64  OK  OK  WARNINGS 
tokay1 Windows Server 2012 R2 Standard / x64  OK  OK  WARNINGS  OK UNNEEDED, same version exists in internal repository
merida1 macOS 10.14.6 Mojave / x86_64  OK  OK  WARNINGS  OK UNNEEDED, same version exists in internal repository
Package 223/1974HostnameOS / ArchINSTALLBUILDCHECKBUILD BIN
CAGEfightR 1.10.0
Malte Thodberg
Last Commit: 2ed5872
Last Changed Date: 2020-10-27 11:35:28 -0500
malbec1 Linux (Ubuntu 18.04.4 LTS) / x86_64  OK  OK  OK UNNEEDED, same version exists in internal repository
nebbiolo1 Linux (Ubuntu 20.04.1 LTS) / x86_64  OK  OK  OK 
tokay1 Windows Server 2012 R2 Standard / x64  OK  OK  OK  OK UNNEEDED, same version exists in internal repository
merida1 macOS 10.14.6 Mojave / x86_64  OK  OK  OK  OK UNNEEDED, same version exists in internal repository
Package 224/1974HostnameOS / ArchINSTALLBUILDCHECKBUILD BIN
CAGEr 1.32.0
Vanja Haberle , Charles Plessy , Damir Baranasic , Sarvesh Nikumbh
Last Commit: eccd56f
Last Changed Date: 2020-10-27 10:49:23 -0500
malbec1 Linux (Ubuntu 18.04.4 LTS) / x86_64  OK  OK  OK UNNEEDED, same version exists in internal repository
nebbiolo1 Linux (Ubuntu 20.04.1 LTS) / x86_64  OK  OK  OK 
tokay1 Windows Server 2012 R2 Standard / x64  OK  OK  WARNINGS  OK UNNEEDED, same version exists in internal repository
merida1 macOS 10.14.6 Mojave / x86_64  OK  OK  OK  OK UNNEEDED, same version exists in internal repository
Package 225/1974HostnameOS / ArchINSTALLBUILDCHECKBUILD BIN
calm 1.4.0
Kun Liang
Last Commit: 7c0651b
Last Changed Date: 2020-10-27 11:48:50 -0500
malbec1 Linux (Ubuntu 18.04.4 LTS) / x86_64  OK  OK  OK UNNEEDED, same version exists in internal repository
nebbiolo1 Linux (Ubuntu 20.04.1 LTS) / x86_64  OK  OK  OK 
tokay1 Windows Server 2012 R2 Standard / x64  OK  OK  OK  OK UNNEEDED, same version exists in internal repository
merida1 macOS 10.14.6 Mojave / x86_64  OK  OK  OK  OK UNNEEDED, same version exists in internal repository
Package 226/1974HostnameOS / ArchINSTALLBUILDCHECKBUILD BIN
CAMERA 1.46.0
Steffen Neumann
Last Commit: 89886d3
Last Changed Date: 2020-10-27 10:35:19 -0500
malbec1 Linux (Ubuntu 18.04.4 LTS) / x86_64  OK  OK  OK UNNEEDED, same version exists in internal repository
nebbiolo1 Linux (Ubuntu 20.04.1 LTS) / x86_64  OK  OK  OK 
tokay1 Windows Server 2012 R2 Standard / x64  OK  OK  OK  OK UNNEEDED, same version exists in internal repository
merida1 macOS 10.14.6 Mojave / x86_64  OK  OK  OK  OK UNNEEDED, same version exists in internal repository
Package 227/1974HostnameOS / ArchINSTALLBUILDCHECKBUILD BIN
canceR 1.24.0
Karim Mezhoud
Last Commit: 84f757f
Last Changed Date: 2020-10-27 11:03:04 -0500
malbec1 Linux (Ubuntu 18.04.4 LTS) / x86_64  OK  OK  OK UNNEEDED, same version exists in internal repository
nebbiolo1 Linux (Ubuntu 20.04.1 LTS) / x86_64  OK  OK  OK 
tokay1 Windows Server 2012 R2 Standard / x64  OK  OK  ERROR  OK 
merida1 macOS 10.14.6 Mojave / x86_64  OK  OK  OK  OK UNNEEDED, same version exists in internal repository
Package 228/1974HostnameOS / ArchINSTALLBUILDCHECKBUILD BIN
cancerclass 1.34.0
Daniel Kosztyla
Last Commit: fcec215
Last Changed Date: 2020-10-27 10:45:50 -0500
malbec1 Linux (Ubuntu 18.04.4 LTS) / x86_64  OK  OK  OK UNNEEDED, same version exists in internal repository
nebbiolo1 Linux (Ubuntu 20.04.1 LTS) / x86_64  OK  OK  OK 
tokay1 Windows Server 2012 R2 Standard / x64  OK  OK  OK  OK UNNEEDED, same version exists in internal repository
merida1 macOS 10.14.6 Mojave / x86_64  OK  OK  WARNINGS  OK UNNEEDED, same version exists in internal repository
Package 229/1974HostnameOS / ArchINSTALLBUILDCHECKBUILD BIN
CancerInSilico 2.10.0
Thomas D. Sherman
Last Commit: 3419b7b
Last Changed Date: 2020-10-27 11:18:15 -0500
malbec1 Linux (Ubuntu 18.04.4 LTS) / x86_64  OK  OK  OK UNNEEDED, same version exists in internal repository
nebbiolo1 Linux (Ubuntu 20.04.1 LTS) / x86_64  OK  OK  OK 
tokay1 Windows Server 2012 R2 Standard / x64  OK  OK  OK  OK UNNEEDED, same version exists in internal repository
merida1 macOS 10.14.6 Mojave / x86_64  OK