Index of /checkResults/release/bioc-LATEST/idiogram/raw-results/palomino4

[ICO]NameLast modifiedSizeDescription

[DIR]Parent Directory  -  
[   ]install-summary.dcf30-Mar-2024 00:36 270  
[TXT]install-out.txt30-Mar-2024 00:36 1.0K 
[   ]checksrc-summary.dcf30-Mar-2024 00:36 451  
[TXT]checksrc-out.txt30-Mar-2024 00:36 4.8K 
[   ]buildsrc-summary.dcf30-Mar-2024 00:36 456  
[TXT]buildsrc-out.txt30-Mar-2024 00:36 844  
[   ]buildbin-summary.dcf30-Mar-2024 00:36 521  
[TXT]buildbin-out.txt30-Mar-2024 00:36 1.1K