Index of /checkResults/release/bioc-LATEST/idiogram/raw-results/nebbiolo2

[ICO]NameLast modifiedSizeDescription

[DIR]Parent Directory  -  
[TXT]buildsrc-out.txt23-Feb-2024 01:36 810  
[   ]buildsrc-summary.dcf23-Feb-2024 01:36 420  
[TXT]checksrc-out.txt23-Feb-2024 01:36 4.8K 
[   ]checksrc-summary.dcf23-Feb-2024 01:36 418  
[TXT]install-out.txt23-Feb-2024 01:36 1.0K 
[   ]install-summary.dcf23-Feb-2024 01:36 261