Index of /checkResults/release/bioc-LATEST/ideal/raw-results/kunpeng2
Name
Last modified
Size
Description
Parent Directory
-
buildsrc-summary.dcf
10-May-2024 00:40
339
buildsrc-out.txt
10-May-2024 00:40
885
install-summary.dcf
10-May-2024 00:40
268
install-out.txt
10-May-2024 00:40
658