Name | Last modified | Size | Description | |
---|---|---|---|---|
Parent Directory | - | |||
buildsrc-out.txt | 03-Nov-2023 00:40 | 691 | ||
buildsrc-summary.dcf | 03-Nov-2023 00:40 | 322 | ||
checksrc-out.txt | 26-Oct-2023 00:41 | 3.8K | ||
checksrc-summary.dcf | 26-Oct-2023 00:41 | 396 | ||
install-out.txt | 03-Nov-2023 00:40 | 1.0K | ||
install-summary.dcf | 03-Nov-2023 00:40 | 247 | ||