Back to Multiple platform build/check report for BioC 3.12
ABCDEFGH[I]JKLMNOPQRSTUVWXYZ

INSTALL report for iCARE on tokay1

This page was generated on 2021-01-19 11:55:32 -0500 (Tue, 19 Jan 2021).

TO THE DEVELOPERS/MAINTAINERS OF THE iCARE PACKAGE: Please make sure to use the following settings in order to reproduce any error or warning you see on this page.
Package 863/1974HostnameOS / ArchINSTALLBUILDCHECKBUILD BIN
iCARE 1.18.0
Bill Wheeler
Snapshot Date: 2021-01-18 14:42:24 -0500 (Mon, 18 Jan 2021)
URL: https://git.bioconductor.org/packages/iCARE
Branch: RELEASE_3_12
Last Commit: a362686
Last Changed Date: 2020-10-27 11:10:45 -0500 (Tue, 27 Oct 2020)
malbec1 Linux (Ubuntu 18.04.5 LTS) / x86_64  OK  OK  WARNINGS UNNEEDED, same version exists in internal repository
nebbiolo1 Linux (Ubuntu 20.04.1 LTS) / x86_64  OK  OK  WARNINGS 
tokay1 Windows Server 2012 R2 Standard / x64 [ OK ] OK  WARNINGS  OK UNNEEDED, same version exists in internal repository
merida1 macOS 10.14.6 Mojave / x86_64  OK  OK  WARNINGS  OK UNNEEDED, same version exists in internal repository

Summary

Package: iCARE
Version: 1.18.0
Command: C:\cygwin\bin\curl.exe -O https://malbec1.bioconductor.org/BBS/3.12/bioc/src/contrib/iCARE_1.18.0.tar.gz && rm -rf iCARE.buildbin-libdir && mkdir iCARE.buildbin-libdir && C:\Users\biocbuild\bbs-3.12-bioc\R\bin\R.exe CMD INSTALL --merge-multiarch --build --library=iCARE.buildbin-libdir iCARE_1.18.0.tar.gz && C:\Users\biocbuild\bbs-3.12-bioc\R\bin\R.exe CMD INSTALL iCARE_1.18.0.zip && rm iCARE_1.18.0.tar.gz iCARE_1.18.0.zip
StartedAt: 2021-01-18 17:37:01 -0500 (Mon, 18 Jan 2021)
EndedAt: 2021-01-18 17:37:48 -0500 (Mon, 18 Jan 2021)
EllapsedTime: 47.4 seconds
RetCode: 0
Status:  OK  

Command output

##############################################################################
##############################################################################
###
### Running command:
###
###   C:\cygwin\bin\curl.exe -O https://malbec1.bioconductor.org/BBS/3.12/bioc/src/contrib/iCARE_1.18.0.tar.gz && rm -rf iCARE.buildbin-libdir && mkdir iCARE.buildbin-libdir && C:\Users\biocbuild\bbs-3.12-bioc\R\bin\R.exe CMD INSTALL --merge-multiarch --build --library=iCARE.buildbin-libdir iCARE_1.18.0.tar.gz && C:\Users\biocbuild\bbs-3.12-bioc\R\bin\R.exe CMD INSTALL iCARE_1.18.0.zip && rm iCARE_1.18.0.tar.gz iCARE_1.18.0.zip
###
##############################################################################
##############################################################################


  % Total    % Received % Xferd  Average Speed   Time    Time     Time  Current
                                 Dload  Upload   Total   Spent    Left  Speed

  0     0    0     0    0     0      0      0 --:--:-- --:--:-- --:--:--     0
100 1111k  100 1111k    0     0  19.8M      0 --:--:-- --:--:-- --:--:-- 21.7M

install for i386

* installing *source* package 'iCARE' ...
** using staged installation
** libs
"C:/rtools40/mingw32/bin/"gcc  -I"C:/Users/BIOCBU~1/BBS-3~1.12-/R/include" -DNDEBUG     -I"C:/extsoft/include"     -O2 -Wall  -std=gnu99 -mfpmath=sse -msse2 -mstackrealign -c source.c -o source.o
C:/rtools40/mingw32/bin/gcc -shared -s -static-libgcc -o iCARE.dll tmp.def source.o -LC:/extsoft/lib/i386 -LC:/extsoft/lib -LC:/Users/BIOCBU~1/BBS-3~1.12-/R/bin/i386 -lR
installing to C:/Users/biocbuild/bbs-3.12-bioc/meat/iCARE.buildbin-libdir/00LOCK-iCARE/00new/iCARE/libs/i386
** R
** data
*** moving datasets to lazyload DB
** inst
** byte-compile and prepare package for lazy loading
** help
*** installing help indices
  converting help for package 'iCARE'
    finding HTML links ... done
    bc_data                                 html  
    compute.absolute.risk                   html  
    compute.absolute.risk.split.interval    html  
    iCARE                                   html  
    model_validation                        html  
    plotModelValidation                     html  
** building package indices
** installing vignettes
** testing if installed package can be loaded from temporary location
** testing if installed package can be loaded from final location
** testing if installed package keeps a record of temporary installation path

install for x64

* installing *source* package 'iCARE' ...
** libs
"C:/rtools40/mingw64/bin/"gcc  -I"C:/Users/BIOCBU~1/BBS-3~1.12-/R/include" -DNDEBUG     -I"C:/extsoft/include"     -O2 -Wall  -std=gnu99 -mfpmath=sse -msse2 -mstackrealign -c source.c -o source.o
C:/rtools40/mingw64/bin/gcc -shared -s -static-libgcc -o iCARE.dll tmp.def source.o -LC:/extsoft/lib/x64 -LC:/extsoft/lib -LC:/Users/BIOCBU~1/BBS-3~1.12-/R/bin/x64 -lR
installing to C:/Users/biocbuild/bbs-3.12-bioc/meat/iCARE.buildbin-libdir/iCARE/libs/x64
** testing if installed package can be loaded
* MD5 sums
packaged installation of 'iCARE' as iCARE_1.18.0.zip
* DONE (iCARE)
* installing to library 'C:/Users/biocbuild/bbs-3.12-bioc/R/library'
package 'iCARE' successfully unpacked and MD5 sums checked