Back to Multiple platform build/check report for BioC 3.12
ABCDEFGH[I]JKLMNOPQRSTUVWXYZ

BUILD report for iCARE on tokay1

This page was generated on 2021-01-19 11:55:32 -0500 (Tue, 19 Jan 2021).

TO THE DEVELOPERS/MAINTAINERS OF THE iCARE PACKAGE: Please make sure to use the following settings in order to reproduce any error or warning you see on this page.
Package 863/1974HostnameOS / ArchINSTALLBUILDCHECKBUILD BIN
iCARE 1.18.0
Bill Wheeler
Snapshot Date: 2021-01-18 14:42:24 -0500 (Mon, 18 Jan 2021)
URL: https://git.bioconductor.org/packages/iCARE
Branch: RELEASE_3_12
Last Commit: a362686
Last Changed Date: 2020-10-27 11:10:45 -0500 (Tue, 27 Oct 2020)
malbec1 Linux (Ubuntu 18.04.5 LTS) / x86_64  OK  OK  WARNINGS UNNEEDED, same version exists in internal repository
nebbiolo1 Linux (Ubuntu 20.04.1 LTS) / x86_64  OK  OK  WARNINGS 
tokay1 Windows Server 2012 R2 Standard / x64  OK [ OK ] WARNINGS  OK UNNEEDED, same version exists in internal repository
merida1 macOS 10.14.6 Mojave / x86_64  OK  OK  WARNINGS  OK UNNEEDED, same version exists in internal repository

Summary

Package: iCARE
Version: 1.18.0
Command: chmod a+r iCARE -R && C:\Users\biocbuild\bbs-3.12-bioc\R\bin\R.exe CMD build --keep-empty-dirs --no-resave-data iCARE
StartedAt: 2021-01-18 21:35:47 -0500 (Mon, 18 Jan 2021)
EndedAt: 2021-01-18 21:39:27 -0500 (Mon, 18 Jan 2021)
EllapsedTime: 220.0 seconds
RetCode: 0
Status:  OK  
PackageFile: iCARE_1.18.0.tar.gz
PackageFileSize: 1.336 MiB

Command output

##############################################################################
##############################################################################
###
### Running command:
###
###   chmod a+r iCARE -R && C:\Users\biocbuild\bbs-3.12-bioc\R\bin\R.exe CMD build --keep-empty-dirs --no-resave-data iCARE
###
##############################################################################
##############################################################################


* checking for file 'iCARE/DESCRIPTION' ... OK
* preparing 'iCARE':
* checking DESCRIPTION meta-information ... OK
* cleaning src
* installing the package to build vignettes
* creating vignettes ... OK
* cleaning src
* checking for LF line-endings in source and make files and shell scripts
* checking for empty or unneeded directories
* building 'iCARE_1.18.0.tar.gz'