Back to Multiple platform build/check report for BioC 3.12
ABCDEFGH[I]JKLMNOPQRSTUVWXYZ

BUILD BIN report for iCARE on merida1

This page was generated on 2021-01-19 11:57:34 -0500 (Tue, 19 Jan 2021).

TO THE DEVELOPERS/MAINTAINERS OF THE iCARE PACKAGE: Please make sure to use the following settings in order to reproduce any error or warning you see on this page.
Package 863/1974HostnameOS / ArchINSTALLBUILDCHECKBUILD BIN
iCARE 1.18.0
Bill Wheeler
Snapshot Date: 2021-01-18 14:42:24 -0500 (Mon, 18 Jan 2021)
URL: https://git.bioconductor.org/packages/iCARE
Branch: RELEASE_3_12
Last Commit: a362686
Last Changed Date: 2020-10-27 11:10:45 -0500 (Tue, 27 Oct 2020)
malbec1 Linux (Ubuntu 18.04.5 LTS) / x86_64  OK  OK  WARNINGS UNNEEDED, same version exists in internal repository
nebbiolo1 Linux (Ubuntu 20.04.1 LTS) / x86_64  OK  OK  WARNINGS 
tokay1 Windows Server 2012 R2 Standard / x64  OK  OK  WARNINGS  OK UNNEEDED, same version exists in internal repository
merida1 macOS 10.14.6 Mojave / x86_64  OK  OK  WARNINGS [ OK ]UNNEEDED, same version exists in internal repository

Summary

Package: iCARE
Version: 1.18.0
Command: rm -rf iCARE.buildbin-libdir && mkdir iCARE.buildbin-libdir && /Users/biocbuild/BBS/utils/build-universal.sh iCARE_1.18.0.tar.gz /Library/Frameworks/R.framework/Versions/Current/Resources/bin/R iCARE.buildbin-libdir
StartedAt: 2021-01-19 08:57:37 -0500 (Tue, 19 Jan 2021)
EndedAt: 2021-01-19 08:58:37 -0500 (Tue, 19 Jan 2021)
EllapsedTime: 60.1 seconds
RetCode: 0
Status:  OK 
PackageFile: iCARE_1.18.0.tgz
PackageFileSize: 1.409 MiB

Command output

##############################################################################
##############################################################################
###
### Running command:
###
###   rm -rf iCARE.buildbin-libdir && mkdir iCARE.buildbin-libdir && /Users/biocbuild/BBS/utils/build-universal.sh iCARE_1.18.0.tar.gz /Library/Frameworks/R.framework/Versions/Current/Resources/bin/R iCARE.buildbin-libdir
###
##############################################################################
##############################################################################


>>>>>>> 
>>>>>>> INSTALLATION WITH 'R CMD INSTALL --preclean --no-multiarch --library=iCARE.buildbin-libdir iCARE_1.18.0.tar.gz'
>>>>>>> 

* installing *source* package ‘iCARE’ ...
** using staged installation
** libs
clang -mmacosx-version-min=10.13 -I"/Library/Frameworks/R.framework/Resources/include" -DNDEBUG   -I/usr/local/include   -fPIC  -Wall -g -O2  -c source.c -o source.o
clang -mmacosx-version-min=10.13 -dynamiclib -Wl,-headerpad_max_install_names -undefined dynamic_lookup -single_module -multiply_defined suppress -L/Library/Frameworks/R.framework/Resources/lib -L/usr/local/lib -o iCARE.so source.o -F/Library/Frameworks/R.framework/.. -framework R -Wl,-framework -Wl,CoreFoundation
installing to /Users/biocbuild/bbs-3.12-bioc/meat/iCARE.buildbin-libdir/00LOCK-iCARE/00new/iCARE/libs
** R
** data
*** moving datasets to lazyload DB
** inst
** byte-compile and prepare package for lazy loading
** help
*** installing help indices
** building package indices
** installing vignettes
** testing if installed package can be loaded from temporary location
** checking absolute paths in shared objects and dynamic libraries
** testing if installed package can be loaded from final location
** testing if installed package keeps a record of temporary installation path
* DONE (iCARE)


>>>>>>> 
>>>>>>> FIXING LINKS FOR iCARE.buildbin-libdir/iCARE/libs/iCARE.so
>>>>>>> 

install_name_tool -change "/usr/local/lib/libgcc_s.1.dylib" "/Library/Frameworks/R.framework/Versions/4.0/Resources/lib/libgcc_s.1.dylib" "iCARE.buildbin-libdir/iCARE/libs/iCARE.so"
install_name_tool -change "/usr/local/lib/libgfortran.5.dylib" "/Library/Frameworks/R.framework/Versions/4.0/Resources/lib/libgfortran.5.dylib" "iCARE.buildbin-libdir/iCARE/libs/iCARE.so"
install_name_tool -change "/usr/local/lib/libquadmath.0.dylib" "/Library/Frameworks/R.framework/Versions/4.0/Resources/lib/libquadmath.0.dylib" "iCARE.buildbin-libdir/iCARE/libs/iCARE.so"