Name | Last modified | Size | Description | |
---|---|---|---|---|
Parent Directory | - | |||
install-summary.dcf | 10-May-2024 00:40 | 264 | ||
buildsrc-summary.dcf | 10-May-2024 00:40 | 419 | ||
checksrc-summary.dcf | 10-May-2024 00:40 | 444 | ||
buildsrc-out.txt | 10-May-2024 00:40 | 898 | ||
install-out.txt | 10-May-2024 00:40 | 5.1K | ||
checksrc-out.txt | 10-May-2024 00:40 | 5.7K | ||