Index of /checkResults/release/bioc-LATEST/iBMQ/raw-results
Name
Last modified
Size
Description
Parent Directory
-
palomino7/
17-Jul-2024 06:39
-
nebbiolo1/
17-Jul-2024 06:38
-
info.dcf
17-Jul-2024 06:37
260
palomino3/
29-Jun-2024 06:41
-
kunpeng2/
10-May-2024 00:40
-