Name | Last modified | Size | Description | |
---|---|---|---|---|
Parent Directory | - | |||
buildsrc-out.txt | 15-Jun-2024 03:37 | 837 | ||
buildsrc-summary.dcf | 15-Jun-2024 03:37 | 409 | ||
checksrc-out.txt | 15-Jun-2024 03:37 | 7.8K | ||
checksrc-summary.dcf | 15-Jun-2024 03:37 | 410 | ||
install-out.txt | 15-Jun-2024 03:37 | 954 | ||
install-summary.dcf | 15-Jun-2024 03:37 | 253 | ||