Name | Last modified | Size | Description | |
---|---|---|---|---|
Parent Directory | - | |||
buildsrc-out.txt | 15-Jun-2024 03:37 | 852 | ||
buildsrc-summary.dcf | 15-Jun-2024 03:37 | 429 | ||
checksrc-out.txt | 15-Jun-2024 03:37 | 3.6K | ||
checksrc-summary.dcf | 15-Jun-2024 03:37 | 430 | ||
install-out.txt | 15-Jun-2024 03:37 | 2.2K | ||
install-summary.dcf | 15-Jun-2024 03:37 | 267 | ||