Name | Last modified | Size | Description | |
---|---|---|---|---|
Parent Directory | - | |||
buildbin-out.txt | 04-May-2024 00:39 | 5.3K | ||
buildbin-summary.dcf | 04-May-2024 00:39 | 554 | ||
buildsrc-out.txt | 04-May-2024 00:39 | 862 | ||
buildsrc-summary.dcf | 04-May-2024 00:39 | 439 | ||
checksrc-out.txt | 04-May-2024 00:39 | 3.7K | ||
checksrc-summary.dcf | 04-May-2024 00:39 | 460 | ||
install-out.txt | 04-May-2024 00:39 | 3.0K | ||
install-summary.dcf | 04-May-2024 00:39 | 277 | ||