Back to Multiple platform build/check report for BioC 3.14
ABCDEFG[H]IJKLMNOPQRSTUVWXYZ

This page was generated on 2021-12-01 17:17:51 -0500 (Wed, 01 Dec 2021).

BUILD results for hipathia on tokay2

To the developers/maintainers of the hipathia package:
- Please allow up to 24 hours (and sometimes 48 hours) for your latest push to git@git.bioconductor.org:packages/hipathia.git to
reflect on this report. See How and When does the builder pull? When will my changes propagate? here for more information.
- Make sure to use the following settings in order to reproduce any error or warning you see on this page.

raw results

Package 875/2083HostnameOS / ArchINSTALLBUILDCHECKBUILD BIN
hipathia 2.10.0  (landing page)
Marta R. Hidalgo
Snapshot Date: 2021-11-30 04:15:05 -0500 (Tue, 30 Nov 2021)
git_url: https://git.bioconductor.org/packages/hipathia
git_branch: RELEASE_3_14
git_last_commit: bc0e4d8
git_last_commit_date: 2021-10-26 12:44:06 -0500 (Tue, 26 Oct 2021)
nebbiolo2Linux (Ubuntu 20.04.3 LTS) / x86_64  OK    OK    OK  UNNEEDED, same version is already published
tokay2Windows Server 2012 R2 Standard / x64  OK    OK    OK    OK  UNNEEDED, same version is already published
machv2macOS 10.14.6 Mojave / x86_64  OK    OK    OK    OK  UNNEEDED, same version is already published

Summary

Package: hipathia
Version: 2.10.0
Command: chmod a+r hipathia -R && C:\Users\biocbuild\bbs-3.14-bioc\R\bin\R.exe CMD build --keep-empty-dirs --no-resave-data hipathia
StartedAt: 2021-11-30 14:03:07 -0500 (Tue, 30 Nov 2021)
EndedAt: 2021-11-30 14:09:42 -0500 (Tue, 30 Nov 2021)
EllapsedTime: 395.0 seconds
RetCode: 0
Status:   OK  
PackageFile: hipathia_2.10.0.tar.gz
PackageFileSize: 6.639 MiB

Command output

##############################################################################
##############################################################################
###
### Running command:
###
###   chmod a+r hipathia -R && C:\Users\biocbuild\bbs-3.14-bioc\R\bin\R.exe CMD build --keep-empty-dirs --no-resave-data hipathia
###
##############################################################################
##############################################################################


* checking for file 'hipathia/DESCRIPTION' ... OK
* preparing 'hipathia':
* checking DESCRIPTION meta-information ... OK
* installing the package to build vignettes
* creating vignettes ... OK
* checking for LF line-endings in source and make files and shell scripts
* checking for empty or unneeded directories
* building 'hipathia_2.10.0.tar.gz'