Index of /checkResults/release/bioc-LATEST/hipathia/raw-results/palomino4

[ICO]NameLast modifiedSizeDescription

[DIR]Parent Directory  -  
[TXT]buildbin-out.txt12-Jun-2022 00:06 1.2K 
[   ]buildbin-summary.dcf12-Jun-2022 00:06 539  
[TXT]buildsrc-out.txt31-Jan-2023 01:06 2.2K 
[   ]buildsrc-summary.dcf31-Jan-2023 01:06 371  
[TXT]checksrc-out.txt12-Jun-2022 00:06 4.3K 
[   ]checksrc-summary.dcf12-Jun-2022 00:06 454  
[TXT]install-out.txt31-Jan-2023 01:06 1.0K 
[   ]install-summary.dcf31-Jan-2023 01:06 270