Back to Multiple platform build/check report for BioC 3.14
ABCDEFG[H]IJKLMNOPQRSTUVWXYZ

This page was generated on 2021-12-01 17:18:20 -0500 (Wed, 01 Dec 2021).

INSTALL results for hipathia on machv2

To the developers/maintainers of the hipathia package:
- Please allow up to 24 hours (and sometimes 48 hours) for your latest push to git@git.bioconductor.org:packages/hipathia.git to
reflect on this report. See How and When does the builder pull? When will my changes propagate? here for more information.
- Make sure to use the following settings in order to reproduce any error or warning you see on this page.

raw results

Package 875/2083HostnameOS / ArchINSTALLBUILDCHECKBUILD BIN
hipathia 2.10.0  (landing page)
Marta R. Hidalgo
Snapshot Date: 2021-11-30 04:15:05 -0500 (Tue, 30 Nov 2021)
git_url: https://git.bioconductor.org/packages/hipathia
git_branch: RELEASE_3_14
git_last_commit: bc0e4d8
git_last_commit_date: 2021-10-26 12:44:06 -0500 (Tue, 26 Oct 2021)
nebbiolo2Linux (Ubuntu 20.04.3 LTS) / x86_64  OK    OK    OK  UNNEEDED, same version is already published
tokay2Windows Server 2012 R2 Standard / x64  OK    OK    OK    OK  UNNEEDED, same version is already published
machv2macOS 10.14.6 Mojave / x86_64  OK    OK    OK    OK  UNNEEDED, same version is already published

Summary

Package: hipathia
Version: 2.10.0
Command: /Library/Frameworks/R.framework/Resources/bin/R CMD INSTALL hipathia
StartedAt: 2021-11-30 06:42:55 -0500 (Tue, 30 Nov 2021)
EndedAt: 2021-11-30 06:43:48 -0500 (Tue, 30 Nov 2021)
EllapsedTime: 52.9 seconds
RetCode: 0
Status:   OK  

Command output

##############################################################################
##############################################################################
###
### Running command:
###
###   /Library/Frameworks/R.framework/Resources/bin/R CMD INSTALL hipathia
###
##############################################################################
##############################################################################


* installing to library ‘/Library/Frameworks/R.framework/Versions/4.1/Resources/library’
* installing *source* package ‘hipathia’ ...
** using staged installation
** R
** data
*** moving datasets to lazyload DB
** inst
** byte-compile and prepare package for lazy loading
** help
*** installing help indices
** building package indices
** installing vignettes
** testing if installed package can be loaded from temporary location
** testing if installed package can be loaded from final location
** testing if installed package keeps a record of temporary installation path
* DONE (hipathia)