Back to Multiple platform build/check report for BioC 3.14
ABCDEFG[H]IJKLMNOPQRSTUVWXYZ

This page was generated on 2021-12-03 13:05:49 -0500 (Fri, 03 Dec 2021).

BUILD results for hipathia on machv2

To the developers/maintainers of the hipathia package:
- Please allow up to 24 hours (and sometimes 48 hours) for your latest push to git@git.bioconductor.org:packages/hipathia.git to
reflect on this report. See How and When does the builder pull? When will my changes propagate? here for more information.
- Make sure to use the following settings in order to reproduce any error or warning you see on this page.

raw results

Package 875/2083HostnameOS / ArchINSTALLBUILDCHECKBUILD BIN
hipathia 2.10.0  (landing page)
Marta R. Hidalgo
Snapshot Date: 2021-12-02 01:55:06 -0500 (Thu, 02 Dec 2021)
git_url: https://git.bioconductor.org/packages/hipathia
git_branch: RELEASE_3_14
git_last_commit: bc0e4d8
git_last_commit_date: 2021-10-26 12:44:06 -0500 (Tue, 26 Oct 2021)
nebbiolo2Linux (Ubuntu 20.04.3 LTS) / x86_64  OK    OK    OK  UNNEEDED, same version is already published
tokay2Windows Server 2012 R2 Standard / x64  OK    OK    OK    OK  UNNEEDED, same version is already published
machv2macOS 10.14.6 Mojave / x86_64  OK    OK    OK    OK  UNNEEDED, same version is already published

Summary

Package: hipathia
Version: 2.10.0
Command: /Library/Frameworks/R.framework/Resources/bin/R CMD build --keep-empty-dirs --no-resave-data hipathia
StartedAt: 2021-12-02 07:40:36 -0500 (Thu, 02 Dec 2021)
EndedAt: 2021-12-02 07:48:36 -0500 (Thu, 02 Dec 2021)
EllapsedTime: 480.4 seconds
RetCode: 0
Status:   OK  
PackageFile: hipathia_2.10.0.tar.gz
PackageFileSize: 6.65 MiB

Command output

##############################################################################
##############################################################################
###
### Running command:
###
###   /Library/Frameworks/R.framework/Resources/bin/R CMD build --keep-empty-dirs --no-resave-data hipathia
###
##############################################################################
##############################################################################


* checking for file ‘hipathia/DESCRIPTION’ ... OK
* preparing ‘hipathia’:
* checking DESCRIPTION meta-information ... OK
* installing the package to build vignettes
* creating vignettes ... OK
* checking for LF line-endings in source and make files and shell scripts
* checking for empty or unneeded directories
* building ‘hipathia_2.10.0.tar.gz’