Name | Last modified | Size | Description | |
---|---|---|---|---|
Parent Directory | - | |||
install-out.txt | 12-Jun-2024 03:43 | 1.0K | ||
install-summary.dcf | 12-Jun-2024 03:43 | 268 | ||
buildsrc-summary.dcf | 12-Jun-2024 03:43 | 428 | ||
buildsrc-out.txt | 12-Jun-2024 03:43 | 816 | ||
checksrc-summary.dcf | 12-Jun-2024 03:43 | 444 | ||
checksrc-out.txt | 12-Jun-2024 03:43 | 3.8K | ||
buildbin-out.txt | 12-Jun-2024 03:43 | 1.2K | ||
buildbin-summary.dcf | 12-Jun-2024 03:43 | 529 | ||