Back to Multiple platform build/check report for BioC 3.12
ABCDEFG[H]IJKLMNOPQRSTUVWXYZ

BUILD BIN report for hierGWAS on tokay1

This page was generated on 2021-01-19 11:55:30 -0500 (Tue, 19 Jan 2021).

TO THE DEVELOPERS/MAINTAINERS OF THE hierGWAS PACKAGE: Please make sure to use the following settings in order to reproduce any error or warning you see on this page.
Package 832/1974HostnameOS / ArchINSTALLBUILDCHECKBUILD BIN
hierGWAS 1.20.0
Laura Buzdugan
Snapshot Date: 2021-01-18 14:42:24 -0500 (Mon, 18 Jan 2021)
URL: https://git.bioconductor.org/packages/hierGWAS
Branch: RELEASE_3_12
Last Commit: 1559099
Last Changed Date: 2020-10-27 11:05:51 -0500 (Tue, 27 Oct 2020)
malbec1 Linux (Ubuntu 18.04.5 LTS) / x86_64  OK  OK  OK UNNEEDED, same version exists in internal repository
nebbiolo1 Linux (Ubuntu 20.04.1 LTS) / x86_64  OK  OK  OK 
tokay1 Windows Server 2012 R2 Standard / x64  OK  OK  OK [ OK ]UNNEEDED, same version exists in internal repository
merida1 macOS 10.14.6 Mojave / x86_64  OK  OK  OK  OK UNNEEDED, same version exists in internal repository

Summary

Package: hierGWAS
Version: 1.20.0
Command: rm -rf hierGWAS.buildbin-libdir && mkdir hierGWAS.buildbin-libdir && C:\Users\biocbuild\bbs-3.12-bioc\R\bin\R.exe CMD INSTALL --merge-multiarch --build --library=hierGWAS.buildbin-libdir hierGWAS_1.20.0.tar.gz
StartedAt: 2021-01-19 09:47:06 -0500 (Tue, 19 Jan 2021)
EndedAt: 2021-01-19 09:47:33 -0500 (Tue, 19 Jan 2021)
EllapsedTime: 26.1 seconds
RetCode: 0
Status:  OK  
PackageFile: hierGWAS_1.20.0.zip
PackageFileSize: 456.1 KiB

Command output

##############################################################################
##############################################################################
###
### Running command:
###
###   rm -rf hierGWAS.buildbin-libdir && mkdir hierGWAS.buildbin-libdir && C:\Users\biocbuild\bbs-3.12-bioc\R\bin\R.exe CMD INSTALL --merge-multiarch --build --library=hierGWAS.buildbin-libdir hierGWAS_1.20.0.tar.gz
###
##############################################################################
##############################################################################



install for i386

* installing *source* package 'hierGWAS' ...
** using staged installation
** R
** data
*** moving datasets to lazyload DB
** inst
** byte-compile and prepare package for lazy loading
** help
*** installing help indices
  converting help for package 'hierGWAS'
    finding HTML links ... done
    cluster.snp                             html  
    compute.r2                              html  
    hierGWAS                                html  
    multisplit                              html  
    finding level-2 HTML links ... done

    simGWAS                                 html  
    test.hierarchy                          html  
** building package indices
** installing vignettes
** testing if installed package can be loaded from temporary location
** testing if installed package can be loaded from final location
** testing if installed package keeps a record of temporary installation path

install for x64

* installing *source* package 'hierGWAS' ...
** testing if installed package can be loaded
* MD5 sums
packaged installation of 'hierGWAS' as hierGWAS_1.20.0.zip
* DONE (hierGWAS)